PDS_VERSION_ID = PDS3
/* FILE DATA ELEMENTS */
RECORD_TYPE = STREAM
/* POINTERS TO DATA OBJECTS */
^COMPRESSED_FILE = "H0022_0002_SR3.JP2"
/* IDENTIFICATION DATA ELEMENTS */
DATA_SET_ID = "MEX-M-HRSC-5-REFDR-MAPPROJECTED-V3.0"
DATA_SET_NAME = "MARS EXPRESS HRSC MAP PROJECTED REFDR V3.0"
DETECTOR_ID = MEX_HRSC_SRC
EVENT_TYPE = "MARS-REGIONAL-MAPPING-Vo-Fl-Pf"
INSTRUMENT_HOST_ID = MEX
INSTRUMENT_HOST_NAME = "MARS EXPRESS"
INSTRUMENT_ID = HRSC
INSTRUMENT_NAME = "HIGH RESOLUTION STEREO CAMERA"
MISSION_NAME = "MARS EXPRESS"
MISSION_PHASE_NAME = MC_Phase_1
PROCESSING_LEVEL_ID = 3
PRODUCT_CREATION_TIME = 2016-03-02T11:36:00.000Z
PRODUCT_ID = "H0022_0002_SR3.JP2"
RELEASE_ID = 0002
REVISION_ID = 0000
/* QUALITY DATA ELEMENTS */
DATA_QUALITY_ID = 1
DATA_QUALITY_DESC = "Data calculated based on original SPICE kernels"
/* TIME DATA ELEMENTS */
SPACECRAFT_CLOCK_START_COUNT = "1/0022263021.32357"
SPACECRAFT_CLOCK_STOP_COUNT = "1/0022263684.65219"
IMAGE_TIME = 2004-01-15T16:15:06.542Z
START_TIME = 2004-01-15T16:15:06.539Z
STOP_TIME = 2004-01-15T16:15:06.544Z
/* ORBITAL DATA ELEMENTS */
ASCENDING_NODE_LONGITUDE = 228.51
MAXIMUM_RESOLUTION = 5.556
FOOTPRINT_POINT_LATITUDE = (-41.2096,-41.2046,-41.2002,-41.1963, -41.1928,-41.1886,-41.1845,-41.1819, -41.1792,-41.1754,-41.1727,-41.1684, -41.1639,-41.1605,-41.1568,-41.1509, -41.1454,-41.1418,-41.1388,-41.1347, -41.132,-41.1293,-41.1252,-41.1212, -41.1177,-41.1178,-41.1178,-41.1179, -41.118,-41.1181,-41.1182,-41.1183, -41.1184,-41.1185,-41.1186,-41.1187, -41.1187,-41.1188,-41.1189,-41.119, -41.1191,-41.1192,-41.1193,-41.1194, -41.1195,-41.1196,-41.1197,-41.1197, -41.1198,-41.1199,-41.1227,-41.1259, -41.1289,-41.1334,-41.1393,-41.1433, -41.1486,-41.153,-41.1576,-41.163, -41.1663,-41.1692,-41.1733,-41.1775, -41.1803,-41.184,-41.1883,-41.1913, -41.1959,-41.1994,-41.2047,-41.2101, -41.2145,-41.2144,-41.2144,-41.2143, -41.2142,-41.2141,-41.214,-41.2141, -41.214,-41.2139,-41.2139,-41.2138, -41.2137,-41.2136,-41.2135,-41.2134, -41.2133,-41.2132,-41.2131,-41.213, -41.2129,-41.2128,-41.2128,-41.2127, -41.2126,-41.2125,-41.2124,-41.2096)
FOOTPRINT_POINT_LONGITUDE = (100.794,100.794,100.795,100.795, 100.795,100.795,100.795,100.795,100.795 ,100.795,100.796,100.796,100.796, 100.796,100.796,100.796,100.796,100.797 ,100.797,100.797,100.797,100.797, 100.797,100.797,100.799,100.805,100.809 ,100.814,100.817,100.822,100.829, 100.834,100.837,100.842,100.847,100.852 ,100.857,100.862,100.867,100.872, 100.877,100.882,100.887,100.894,100.899 ,100.904,100.909,100.914,100.918, 100.924,100.924,100.924,100.924,100.924 ,100.924,100.924,100.923,100.923, 100.923,100.923,100.923,100.923,100.923 ,100.922,100.922,100.922,100.922, 100.922,100.922,100.922,100.922,100.921 ,100.921,100.916,100.911,100.906, 100.901,100.897,100.894,100.89,100.885, 100.88,100.875,100.871,100.866,100.861, 100.856,100.851,100.845,100.839,100.834 ,100.829,100.824,100.819,100.815,100.81 ,100.805,100.8,100.795,100.794)
ORBIT_NUMBER = 22
ORBITAL_ECCENTRICITY = 0.667
ORBITAL_INCLINATION = 86.65
ORBITAL_SEMIMAJOR_AXIS = 11036.1
PERIAPSIS_ALTITUDE = 273.43
PERIAPSIS_ARGUMENT_ANGLE = 356.05
PERIAPSIS_TIME = 2004-01-15T16:24:40.000Z
SPACECRAFT_ORIENTATION = (0.0,1.0,0.0)
^MEX_ORIENTATION_DESC = "MEX_ORIENTATION_DESC.TXT"
SPACECRAFT_POINTING_MODE = NADIR
^MEX_POINTING_DESC = "MEX_POINTING_DESC.TXT"
RIGHT_ASCENSION = -1e+32
DECLINATION = -1e+32
OFFSET_ANGLE = -1e+32
SPACECRAFT_SOLAR_DISTANCE = 2.23386e+08
TARGET_NAME = MARS
/* CAMERA DATA ELEMENTS */
BUFFER_MODE_ID = BUFFER_14
EXPOSURE_DURATION = 5.04
INST_CMPRS_NAME = NONE
INST_CMPRS_RATIO = 1.0
INST_CMPRS_QUALITY = -2147483648
INST_CMPRS_QUANTZ_TBL_ID = -2147483648
INSTRUMENT_TEMPERATURE = 14.2424
MISSING_FRAMES = 0
START_BIT = -2147483648
/* RADIOMETRIC DATA ELEMENTS */
BANDWIDTH = 250.0
CENTER_FILTER_WAVELENGTH = 600.0
RADIANCE_OFFSET = -9.99e+31
RADIANCE_SCALING_FACTOR = -9.99e+31
REFLECTANCE_SCALING_FACTOR = -9.99e+31
MEX:REFLECTANCE_OFFSET = -9.99e+31
/* IMAGE OBJECT DEFINITIONS */
OBJECT = IMAGE
  INTERCHANGE_FORMAT = BINARY
  LINES = 1206
  LINE_SAMPLES = 1215
  SAMPLE_TYPE = UNSIGNED_INTEGER
  SAMPLE_BITS = 8
  BANDS = 1
  BAND_STORAGE_TYPE = BAND_SEQUENTIAL
  MAXIMUM = 5973
  MEAN = 5506.63
  MINIMUM = 4714
  STANDARD_DEVIATION = 133.585
END_OBJECT = IMAGE
/* MAP OBJECT DEFINITIONS */
OBJECT = IMAGE_MAP_PROJECTION
  ^DATA_SET_MAP_PROJECTION_CATALOG= "DSMAP.CAT"
  A_AXIS_RADIUS = 3396.19
  B_AXIS_RADIUS = 3396.19
  C_AXIS_RADIUS = 3396.19
  CENTER_LATITUDE = 0.0
  CENTER_LONGITUDE = 101.0
  COORDINATE_SYSTEM_NAME = PLANETOGRAPHIC
  COORDINATE_SYSTEM_TYPE = "BODY-FIXED ROTATING"
  EASTERNMOST_LONGITUDE = 100.924
  FIRST_STANDARD_PARALLEL = "N/A"
  LINE_FIRST_PIXEL = 1
  LINE_LAST_PIXEL = 1206
  LINE_PROJECTION_OFFSET = -486977.0
  MAP_PROJECTION_ROTATION = 0.0
  MAP_PROJECTION_TYPE = SINUSOIDAL
  MAP_RESOLUTION = 11854.9393024378
  MAP_SCALE = 0.005
  MAXIMUM_LATITUDE = -41.1177
  MINIMUM_LATITUDE = -41.2145
  POSITIVE_LONGITUDE_DIRECTION = EAST
  REFERENCE_LATITUDE = "N/A"
  REFERENCE_LONGITUDE = "N/A"
  SAMPLE_FIRST_PIXEL = 1
  SAMPLE_LAST_PIXEL = 1215
  SAMPLE_PROJECTION_OFFSET = 1858.0
  SECOND_STANDARD_PARALLEL = "N/A"
  WESTERNMOST_LONGITUDE = 100.794
END_OBJECT = IMAGE_MAP_PROJECTION
/* The JPEG2000 image data file associated with this label. */
OBJECT = COMPRESSED_FILE
  FILE_NAME = "H0022_0002_SR3.JP2"
  RECORD_TYPE = UNDEFINED
  FILE_RECORDS = UNK
  ENCODING_TYPE = "JP2"
  INTERCHANGE_FORMAT = BINARY
  UNCOMPRESSED_FILE_NAME = "H0022_0002_SR3.IMG"
  REQUIRED_STORAGE_BYTES = "1484730"
  ^DESCRIPTION = "JP2INFO.TXT"
END_OBJECT = COMPRESSED_FILE
END
