PDS_VERSION_ID = PDS3
/* FILE DATA ELEMENTS */
RECORD_TYPE = STREAM
/* POINTERS TO DATA OBJECTS */
^COMPRESSED_FILE = "H0030_0000_RE3.JP2"
/* IDENTIFICATION DATA ELEMENTS */
DATA_SET_ID = "MEX-M-HRSC-5-REFDR-MAPPROJECTED-V3.0"
DATA_SET_NAME = "MARS EXPRESS HRSC MAP PROJECTED REFDR V3.0"
DETECTOR_ID = MEX_HRSC_RED
EVENT_TYPE = "MARS-REGIONAL-MAPPING-Im-Pf-Eo"
INSTRUMENT_HOST_ID = MEX
INSTRUMENT_HOST_NAME = "MARS EXPRESS"
INSTRUMENT_ID = HRSC
INSTRUMENT_NAME = "HIGH RESOLUTION STEREO CAMERA"
MISSION_NAME = "MARS EXPRESS"
MISSION_PHASE_NAME = MC_Phase_1
PROCESSING_LEVEL_ID = 3
PRODUCT_CREATION_TIME = 2016-03-02T13:15:10.000Z
PRODUCT_ID = "H0030_0000_RE3.JP2"
RELEASE_ID = 0003
REVISION_ID = 0000
/* QUALITY DATA ELEMENTS */
DATA_QUALITY_ID = 1
DATA_QUALITY_DESC = "Data calculated based on original SPICE kernels"
/* TIME DATA ELEMENTS */
SPACECRAFT_CLOCK_START_COUNT = "1/0022538177.32335"
SPACECRAFT_CLOCK_STOP_COUNT = "1/0022538989.10586"
START_TIME = 2004-01-18T20:37:22.830Z
STOP_TIME = 2004-01-18T20:51:23.989Z
/* ORBITAL DATA ELEMENTS */
ASCENDING_NODE_LONGITUDE = 228.37
MAXIMUM_RESOLUTION = 76.3
FOOTPRINT_POINT_LATITUDE = (-67.4458,-67.4056,-67.2781,-67.1725, -67.0222,-66.8402,-66.1633,-65.1968, -64.1952,-63.1595,-61.8139,-61.2584, -60.6922,-60.1159,-59.5287,-58.9317, -58.3233,-57.7053,-57.0741,-56.4332, -55.7805,-55.117,-54.4417,-53.7568, -53.0613,-52.3549,-51.6402,-50.9138, -50.1774,-49.431,-48.2865,-47.514, -46.729,-45.9334,-45.1267,-44.3084, -43.4789,-42.6395,-41.7895,-40.9272, -40.0534,-39.1705,-38.2767,-37.3712, -36.4539,-35.5262,-34.5857,-33.6379, -32.6822,-31.7133,-30.7422,-30.7021, -30.7123,-31.6913,-32.6624,-33.6224, -34.5776,-35.5194,-36.4509,-37.3703, -38.2818,-39.1821,-40.069,-40.9498, -41.8176,-42.674,-43.5204,-44.3555, -45.1815,-45.9976,-46.8032,-47.5951, -48.3764,-49.1488,-49.9106,-50.6645, -51.4048,-52.1367,-52.8589,-53.5721, -54.2753,-54.9694,-55.6566,-56.3352, -56.9993,-57.6536,-58.2972,-58.9301, -59.5515,-60.1628,-60.7695,-61.3618, -61.9454,-62.521,-63.0886,-64.1982, -65.2737,-66.3175,-67.3284,-67.4458)
FOOTPRINT_POINT_LONGITUDE = (63.8806,61.7577,58.4705,56.6522, 54.5958,52.561,51.8687,52.5889,53.2654, 53.9011,54.6411,54.9203,55.1901,55.4509 ,55.7027,55.9461,56.1807,56.4075, 56.6253,56.8357,57.038,57.2331,57.4205, 57.6016,57.7761,57.9442,58.107,58.2634, 58.4144,58.56,58.7659,58.8984,59.0251, 59.1469,59.2637,59.3756,59.4827,59.5858 ,59.6847,59.7788,59.8685,59.955,60.0375 ,60.1159,60.1901,60.2607,60.327,60.3912 ,60.4532,60.5107,60.5685,61.2605, 62.4259,62.4498,62.4737,62.4991,62.5229 ,62.5493,62.5765,62.6056,62.6345, 62.6648,62.6976,62.7292,62.7632,62.7988 ,62.8354,62.8735,62.9121,62.9516, 62.9925,63.0366,63.0824,63.1287,63.1768 ,63.225,63.2772,63.3298,63.3841,63.4396 ,63.4971,63.5561,63.6151,63.6756, 63.7418,63.8107,63.883,63.9592,64.04, 64.1246,64.2088,64.3008,64.3964,64.495, 64.5969,64.8132,65.0481,65.302,65.5785, 63.8806)
ORBIT_NUMBER = 30
ORBITAL_ECCENTRICITY = 0.655
ORBITAL_INCLINATION = 86.64
ORBITAL_SEMIMAJOR_AXIS = 10640.4
PERIAPSIS_ALTITUDE = 274.95
PERIAPSIS_ARGUMENT_ANGLE = 354.74
PERIAPSIS_TIME = 2004-01-18T20:58:18.000Z
SPACECRAFT_ORIENTATION = (0.0,1.0,0.0)
^MEX_ORIENTATION_DESC = "MEX_ORIENTATION_DESC.TXT"
SPACECRAFT_POINTING_MODE = NADIR
^MEX_POINTING_DESC = "MEX_POINTING_DESC.TXT"
RIGHT_ASCENSION = -1e+32
DECLINATION = -1e+32
OFFSET_ANGLE = -1e+32
SPACECRAFT_SOLAR_DISTANCE = 2.24007e+08
TARGET_NAME = MARS
/* CAMERA DATA ELEMENTS */
DETECTOR_TEMPERATURE = 18.7783
FOCAL_PLANE_TEMPERATURE = 9.6028
INST_CMPRS_NAME = "DISCRETE COSINE TRANSFORMATION (DCT)"
INST_CMPRS_RATIO = 27.2274
INST_CMPRS_QUALITY = 0
INST_CMPRS_QUANTZ_TBL_ID = 0
INSTRUMENT_TEMPERATURE = 11.4379
LENS_TEMPERATURE = 9.8067
MACROPIXEL_SIZE = 4
MISSING_FRAMES = 0
PIXEL_SUBSAMPLING_FLAG = N
SIGNAL_CHAIN_ID = 2
/* RADIOMETRIC DATA ELEMENTS */
BANDWIDTH = 48.0
CENTER_FILTER_WAVELENGTH = 748.0
RADIANCE_OFFSET = 1.24969
RADIANCE_SCALING_FACTOR = 0.00692326
REFLECTANCE_SCALING_FACTOR = 0.000792773
MEX:REFLECTANCE_OFFSET = 0.1431
/* IMAGE OBJECT DEFINITIONS */
OBJECT = IMAGE
  INTERCHANGE_FORMAT = BINARY
  LINES = 44011
  LINE_SAMPLES = 5407
  SAMPLE_TYPE = UNSIGNED_INTEGER
  SAMPLE_BITS = 8
  BANDS = 1
  BAND_STORAGE_TYPE = BAND_SEQUENTIAL
  MAXIMUM = 182
  MEAN = 110.204
  MINIMUM = 62
  STANDARD_DEVIATION = 21.9193
END_OBJECT = IMAGE
/* MAP OBJECT DEFINITIONS */
OBJECT = IMAGE_MAP_PROJECTION
  ^DATA_SET_MAP_PROJECTION_CATALOG= "DSMAP.CAT"
  A_AXIS_RADIUS = 3396.0
  B_AXIS_RADIUS = 3396.0
  C_AXIS_RADIUS = 3396.0
  CENTER_LATITUDE = 0.0
  CENTER_LONGITUDE = 61.0
  COORDINATE_SYSTEM_NAME = PLANETOGRAPHIC
  COORDINATE_SYSTEM_TYPE = "BODY-FIXED ROTATING"
  EASTERNMOST_LONGITUDE = 65.57850000000001
  FIRST_STANDARD_PARALLEL = "N/A"
  LINE_FIRST_PIXEL = 1
  LINE_LAST_PIXEL = 44011
  LINE_PROJECTION_OFFSET = -36526.875
  MAP_PROJECTION_ROTATION = 0.0
  MAP_PROJECTION_TYPE = SINUSOIDAL
  MAP_RESOLUTION = 1185.42760773333
  MAP_SCALE = 0.05
  MAXIMUM_LATITUDE = -30.7021
  MINIMUM_LATITUDE = -67.44580000000001
  POSITIVE_LONGITUDE_DIRECTION = EAST
  REFERENCE_LATITUDE = "N/A"
  REFERENCE_LONGITUDE = "N/A"
  SAMPLE_FIRST_PIXEL = 1
  SAMPLE_LAST_PIXEL = 5407
  SAMPLE_PROJECTION_OFFSET = 3953.125
  SECOND_STANDARD_PARALLEL = "N/A"
  WESTERNMOST_LONGITUDE = 51.8687
END_OBJECT = IMAGE_MAP_PROJECTION
/* The JPEG2000 image data file associated with this label. */
OBJECT = COMPRESSED_FILE
  FILE_NAME = "H0030_0000_RE3.JP2"
  RECORD_TYPE = UNDEFINED
  FILE_RECORDS = UNK
  ENCODING_TYPE = "JP2"
  INTERCHANGE_FORMAT = BINARY
  UNCOMPRESSED_FILE_NAME = "H0030_0000_RE3.IMG"
  REQUIRED_STORAGE_BYTES = "237994512"
  ^DESCRIPTION = "JP2INFO.TXT"
END_OBJECT = COMPRESSED_FILE
END
