PDS_VERSION_ID = PDS3
/* FILE DATA ELEMENTS */
RECORD_TYPE = STREAM
/* POINTERS TO DATA OBJECTS */
^COMPRESSED_FILE = "H0032_0000_P23.JP2"
/* IDENTIFICATION DATA ELEMENTS */
DATA_SET_ID = "MEX-M-HRSC-5-REFDR-MAPPROJECTED-V3.0"
DATA_SET_NAME = "MARS EXPRESS HRSC MAP PROJECTED REFDR V3.0"
DETECTOR_ID = MEX_HRSC_P2
EVENT_TYPE = "MARS-REGIONAL-MAPPING-Vo-Fl"
INSTRUMENT_HOST_ID = MEX
INSTRUMENT_HOST_NAME = "MARS EXPRESS"
INSTRUMENT_ID = HRSC
INSTRUMENT_NAME = "HIGH RESOLUTION STEREO CAMERA"
MISSION_NAME = "MARS EXPRESS"
MISSION_PHASE_NAME = MC_Phase_1
PROCESSING_LEVEL_ID = 3
PRODUCT_CREATION_TIME = 2016-03-02T13:15:10.000Z
PRODUCT_ID = "H0032_0000_P23.JP2"
RELEASE_ID = 0003
REVISION_ID = 0000
/* QUALITY DATA ELEMENTS */
DATA_QUALITY_ID = 1
DATA_QUALITY_DESC = "Data calculated based on original SPICE kernels"
/* TIME DATA ELEMENTS */
SPACECRAFT_CLOCK_START_COUNT = "1/0022605713.32343"
SPACECRAFT_CLOCK_STOP_COUNT = "1/0022606332.19085"
START_TIME = 2004-01-19T15:22:13.731Z
STOP_TIME = 2004-01-19T15:29:42.248Z
/* ORBITAL DATA ELEMENTS */
ASCENDING_NODE_LONGITUDE = 228.32
MAXIMUM_RESOLUTION = 51.5
FOOTPRINT_POINT_LATITUDE = (2.96048,3.02696,3.52194,3.96354, 4.40471,5.08469,5.53875,5.99256,6.45921 ,7.15904,7.63217,8.11133,8.59008, 9.07861,9.5689,10.0645,10.5679,11.0714, 11.5866,12.3649,12.8915,13.4246,13.9629 ,14.5103,15.3418,16.1891,16.7617, 17.3458,17.9351,18.5281,19.4479,20.072, 20.7009,21.3393,21.9887,22.6476,23.3171 ,23.9982,24.6913,25.3983,26.1177, 26.8496,27.5944,28.3547,29.1279,29.9181 ,30.7204,31.5357,32.4515,32.4224, 32.3893,31.9432,31.1177,30.3095,29.5122 ,28.73,27.9619,27.2085,26.4679,25.7391, 25.025,24.3231,23.633,22.9544,22.2867, 21.6296,20.983,20.3465,19.7176,19.0944, 18.4859,17.8899,17.2978,16.7121,16.1369 ,15.5671,15.0047,14.4514,13.9009, 13.3617,12.8258,12.2979,11.7741,11.2583 ,10.7459,10.2418,9.73795,9.00044, 8.50884,8.02903,7.54885,7.07314,6.60559 ,6.13772,5.67498,5.21994,4.76465, 4.08794,3.64558,2.96048)
FOOTPRINT_POINT_LONGITUDE = (150.65,150.051,149.642,149.645,149.648 ,149.652,149.654,149.656,149.657, 149.657,149.656,149.654,149.652,149.652 ,149.651,149.646,149.641,149.637, 149.631,149.622,149.615,149.608,149.598 ,149.59,149.574,149.556,149.542,149.527 ,149.516,149.514,149.469,149.435, 149.414,149.392,149.368,149.344,149.318 ,149.29,149.258,149.218,149.175,149.128 ,149.08,149.027,148.969,148.908,148.846 ,148.793,149.144,149.788,150.674, 151.337,151.319,151.302,151.29,151.28, 151.27,151.262,151.254,151.247,151.24, 151.233,151.226,151.219,151.211,151.204 ,151.197,151.19,151.185,151.187,151.182 ,151.168,151.16,151.155,151.149,151.144 ,151.138,151.132,151.127,151.121, 151.116,151.11,151.105,151.099,151.093, 151.088,151.081,151.072,151.066,151.06, 151.055,151.049,151.042,151.036,151.03, 151.024,151.017,151.007,151.0,150.65)
ORBIT_NUMBER = 32
ORBITAL_ECCENTRICITY = 0.654
ORBITAL_INCLINATION = 86.66
ORBITAL_SEMIMAJOR_AXIS = 10626.1
PERIAPSIS_ALTITUDE = 275.46
PERIAPSIS_ARGUMENT_ANGLE = 354.42
PERIAPSIS_TIME = 2004-01-19T15:20:21.000Z
SPACECRAFT_ORIENTATION = (0.0,1.0,0.0)
^MEX_ORIENTATION_DESC = "MEX_ORIENTATION_DESC.TXT"
SPACECRAFT_POINTING_MODE = ACROSSTRACK
^MEX_POINTING_DESC = "MEX_POINTING_DESC.TXT"
RIGHT_ASCENSION = -1e+32
DECLINATION = -1e+32
OFFSET_ANGLE = 2.98
SPACECRAFT_SOLAR_DISTANCE = 2.24156e+08
TARGET_NAME = MARS
/* CAMERA DATA ELEMENTS */
DETECTOR_TEMPERATURE = 18.9822
FOCAL_PLANE_TEMPERATURE = 10.0106
INST_CMPRS_NAME = "DISCRETE COSINE TRANSFORMATION (DCT)"
INST_CMPRS_RATIO = 11.5371
INST_CMPRS_QUALITY = 0
INST_CMPRS_QUANTZ_TBL_ID = 0
INSTRUMENT_TEMPERATURE = 11.4379
LENS_TEMPERATURE = 9.195
MACROPIXEL_SIZE = 4
MISSING_FRAMES = 0
PIXEL_SUBSAMPLING_FLAG = N
SIGNAL_CHAIN_ID = 3
/* RADIOMETRIC DATA ELEMENTS */
BANDWIDTH = 177.0
CENTER_FILTER_WAVELENGTH = 676.5
RADIANCE_OFFSET = 0.0
RADIANCE_SCALING_FACTOR = 0.0492343
REFLECTANCE_SCALING_FACTOR = 0.00131168
MEX:REFLECTANCE_OFFSET = 0.0
/* IMAGE OBJECT DEFINITIONS */
OBJECT = IMAGE
  INTERCHANGE_FORMAT = BINARY
  LINES = 35437
  LINE_SAMPLES = 3035
  SAMPLE_TYPE = UNSIGNED_INTEGER
  SAMPLE_BITS = 8
  BANDS = 1
  BAND_STORAGE_TYPE = BAND_SEQUENTIAL
  MAXIMUM = 395
  MEAN = 276.85
  MINIMUM = 0
  STANDARD_DEVIATION = 38.1813
END_OBJECT = IMAGE
/* MAP OBJECT DEFINITIONS */
OBJECT = IMAGE_MAP_PROJECTION
  ^DATA_SET_MAP_PROJECTION_CATALOG= "DSMAP.CAT"
  A_AXIS_RADIUS = 3396.0
  B_AXIS_RADIUS = 3396.0
  C_AXIS_RADIUS = 3396.0
  CENTER_LATITUDE = 0.0
  CENTER_LONGITUDE = 150.0
  COORDINATE_SYSTEM_NAME = PLANETOGRAPHIC
  COORDINATE_SYSTEM_TYPE = "BODY-FIXED ROTATING"
  EASTERNMOST_LONGITUDE = 151.337
  FIRST_STANDARD_PARALLEL = "N/A"
  LINE_FIRST_PIXEL = 1
  LINE_LAST_PIXEL = 35437
  LINE_PROJECTION_OFFSET = 39216.625
  MAP_PROJECTION_ROTATION = 0.0
  MAP_PROJECTION_TYPE = SINUSOIDAL
  MAP_RESOLUTION = 1185.42760773333
  MAP_SCALE = 0.05
  MAXIMUM_LATITUDE = 32.4515
  MINIMUM_LATITUDE = 2.96048
  POSITIVE_LONGITUDE_DIRECTION = EAST
  REFERENCE_LATITUDE = "N/A"
  REFERENCE_LONGITUDE = "N/A"
  SAMPLE_FIRST_PIXEL = 1
  SAMPLE_LAST_PIXEL = 3035
  SAMPLE_PROJECTION_OFFSET = 1615.125
  SECOND_STANDARD_PARALLEL = "N/A"
  WESTERNMOST_LONGITUDE = 148.793
END_OBJECT = IMAGE_MAP_PROJECTION
/* The JPEG2000 image data file associated with this label. */
OBJECT = COMPRESSED_FILE
  FILE_NAME = "H0032_0000_P23.JP2"
  RECORD_TYPE = UNDEFINED
  FILE_RECORDS = UNK
  ENCODING_TYPE = "JP2"
  INTERCHANGE_FORMAT = BINARY
  UNCOMPRESSED_FILE_NAME = "H0032_0000_P23.IMG"
  REQUIRED_STORAGE_BYTES = "107575575"
  ^DESCRIPTION = "JP2INFO.TXT"
END_OBJECT = COMPRESSED_FILE
END
