PDS_VERSION_ID = PDS3
/* FILE DATA ELEMENTS */
RECORD_TYPE = STREAM
/* POINTERS TO DATA OBJECTS */
^COMPRESSED_FILE = "H0047_0000_S23.JP2"
/* IDENTIFICATION DATA ELEMENTS */
DATA_SET_ID = "MEX-M-HRSC-5-REFDR-MAPPROJECTED-V3.0"
DATA_SET_NAME = "MARS EXPRESS HRSC MAP PROJECTED REFDR V3.0"
DETECTOR_ID = MEX_HRSC_S2
EVENT_TYPE = "MARS-REGIONAL-MAPPING-Im-Fl-Pf"
INSTRUMENT_HOST_ID = MEX
INSTRUMENT_HOST_NAME = "MARS EXPRESS"
INSTRUMENT_ID = HRSC
INSTRUMENT_NAME = "HIGH RESOLUTION STEREO CAMERA"
MISSION_NAME = "MARS EXPRESS"
MISSION_PHASE_NAME = MC_Phase_1
PROCESSING_LEVEL_ID = 3
PRODUCT_CREATION_TIME = 2016-03-02T13:15:10.000Z
PRODUCT_ID = "H0047_0000_S23.JP2"
RELEASE_ID = 0003
REVISION_ID = 0000
/* QUALITY DATA ELEMENTS */
DATA_QUALITY_ID = 1
DATA_QUALITY_DESC = "Data calculated based on original SPICE kernels"
/* TIME DATA ELEMENTS */
SPACECRAFT_CLOCK_START_COUNT = "1/0023065284.32964"
SPACECRAFT_CLOCK_STOP_COUNT = "1/0023065896.31798"
START_TIME = 2004-01-24T23:01:33.527Z
STOP_TIME = 2004-01-24T23:21:38.874Z
/* ORBITAL DATA ELEMENTS */
ASCENDING_NODE_LONGITUDE = 228.02
MAXIMUM_RESOLUTION = 22.9
FOOTPRINT_POINT_LATITUDE = (-57.3616,-57.3361,-57.2536,-56.994, -55.8897,-55.135,-54.3732,-53.5905, -52.798,-51.9927,-50.7057,-49.8669, -49.0158,-47.6662,-46.7795,-45.8792, -44.9641,-44.0338,-43.0918,-42.1326, -41.1626,-40.1794,-39.1816,-38.1701, -37.1438,-36.1065,-35.0564,-34.0252, -33.0193,-11.2215,-9.67793,-8.64493, -7.61145,-6.57401,-5.53289,-3.97356, -2.40084,-1.34971,-0.298752,0.761904, 1.80815,2.86583,4.45432,6.0485,7.1049, 8.15701,9.73524,10.7854,11.8344,12.8815 ,12.918,12.9186,11.8717,10.8228,9.77194 ,8.72153,7.14242,6.08932,5.03437, 3.97356,2.91272,1.32693,0.264176, -0.783829,-1.83978,-3.41393,-4.46222, -6.02018,-7.05759,-8.61036,-9.64794, -11.1897,-33.0194,-34.0347,-35.0662, -36.1149,-37.1574,-38.1882,-39.2083, -40.2054,-41.1962,-42.1734,-43.1376, -44.0891,-45.0244,-45.9482,-46.858, -47.7543,-49.1184,-49.9826,-50.8374, -51.7384,-52.5698,-53.3851,-54.187, -54.9708,-55.7455,-56.5062,-57.2526, -57.3616)
FOOTPRINT_POINT_LONGITUDE = (82.6262,81.6171,79.6077,77.2412, 77.5782,77.791,77.9972,78.1925,78.3809, 78.5617,78.831,78.9932,79.1488,79.3769, 79.5155,79.6479,79.7738,79.8934,80.008, 80.1159,80.2195,80.318,80.4111,80.4993, 80.5824,80.6617,80.7366,80.806,80.87, 81.5079,81.5159,81.5197,81.523,81.5247, 81.5248,81.5249,81.5196,81.5145,81.5087 ,81.4993,81.4934,81.4831,81.4654, 81.4436,81.4296,81.4157,81.3926,81.3761 ,81.3586,81.3403,81.9193,82.6148, 82.5986,82.5836,82.5697,82.5575,82.5408 ,82.5311,82.5221,82.5123,82.5035, 82.4934,82.4858,82.4832,82.4787,82.4754 ,82.4737,82.4758,82.4774,82.4805, 82.4815,82.4865,82.7499,82.7706,82.7952 ,82.8225,82.8484,82.8749,82.9015, 82.9333,82.9636,82.9952,83.0281,83.062, 83.0987,83.136,83.1753,83.2162,83.2841, 83.3289,83.3737,83.4225,83.4695,83.5204 ,83.5739,83.6328,83.6924,83.7556, 83.8229,82.6262)
ORBIT_NUMBER = 47
ORBITAL_ECCENTRICITY = 0.617
ORBITAL_INCLINATION = 86.62
ORBITAL_SEMIMAJOR_AXIS = 9581.9
PERIAPSIS_ALTITUDE = 271.41
PERIAPSIS_ARGUMENT_ANGLE = 351.85
PERIAPSIS_TIME = 2004-01-24T23:16:55.000Z
SPACECRAFT_ORIENTATION = (0.0,1.0,0.0)
^MEX_ORIENTATION_DESC = "MEX_ORIENTATION_DESC.TXT"
SPACECRAFT_POINTING_MODE = NADIR
^MEX_POINTING_DESC = "MEX_POINTING_DESC.TXT"
RIGHT_ASCENSION = -1e+32
DECLINATION = -1e+32
OFFSET_ANGLE = -1e+32
SPACECRAFT_SOLAR_DISTANCE = 2.25198e+08
TARGET_NAME = MARS
/* CAMERA DATA ELEMENTS */
DETECTOR_TEMPERATURE = 18.7783
FOCAL_PLANE_TEMPERATURE = 9.3989
INST_CMPRS_NAME = "DISCRETE COSINE TRANSFORMATION (DCT)"
INST_CMPRS_RATIO = 10.3438
INST_CMPRS_QUALITY = 0
INST_CMPRS_QUANTZ_TBL_ID = 0
INSTRUMENT_TEMPERATURE = 11.4379
LENS_TEMPERATURE = 9.8067
MACROPIXEL_SIZE = 2
MISSING_FRAMES = 5848
PIXEL_SUBSAMPLING_FLAG = N
SIGNAL_CHAIN_ID = 1
/* RADIOMETRIC DATA ELEMENTS */
BANDWIDTH = 178.0
CENTER_FILTER_WAVELENGTH = 679.0
RADIANCE_OFFSET = 5.24856
RADIANCE_SCALING_FACTOR = 0.0225563
REFLECTANCE_SCALING_FACTOR = 0.000605785
MEX:REFLECTANCE_OFFSET = 0.140959
/* IMAGE OBJECT DEFINITIONS */
OBJECT = IMAGE
  INTERCHANGE_FORMAT = BINARY
  LINES = 169442
  LINE_SAMPLES = 7086
  SAMPLE_TYPE = UNSIGNED_INTEGER
  SAMPLE_BITS = 8
  BANDS = 1
  BAND_STORAGE_TYPE = BAND_SEQUENTIAL
  MAXIMUM = 178
  MEAN = 116.589
  MINIMUM = 65
  STANDARD_DEVIATION = 13.2807
END_OBJECT = IMAGE
/* MAP OBJECT DEFINITIONS */
OBJECT = IMAGE_MAP_PROJECTION
  ^DATA_SET_MAP_PROJECTION_CATALOG= "DSMAP.CAT"
  A_AXIS_RADIUS = 3396.0
  B_AXIS_RADIUS = 3396.0
  C_AXIS_RADIUS = 3396.0
  CENTER_LATITUDE = 0.0
  CENTER_LONGITUDE = 82.0
  COORDINATE_SYSTEM_NAME = PLANETOGRAPHIC
  COORDINATE_SYSTEM_TYPE = "BODY-FIXED ROTATING"
  EASTERNMOST_LONGITUDE = 83.8229
  FIRST_STANDARD_PARALLEL = "N/A"
  LINE_FIRST_PIXEL = 1
  LINE_LAST_PIXEL = 169442
  LINE_PROJECTION_OFFSET = 33062.25
  MAP_PROJECTION_ROTATION = 0.0
  MAP_PROJECTION_TYPE = SINUSOIDAL
  MAP_RESOLUTION = 2370.85521546667
  MAP_SCALE = 0.025
  MAXIMUM_LATITUDE = 12.9186
  MINIMUM_LATITUDE = -57.3616
  POSITIVE_LONGITUDE_DIRECTION = EAST
  REFERENCE_LATITUDE = "N/A"
  REFERENCE_LONGITUDE = "N/A"
  SAMPLE_FIRST_PIXEL = 1
  SAMPLE_LAST_PIXEL = 7086
  SAMPLE_PROJECTION_OFFSET = 5501.25
  SECOND_STANDARD_PARALLEL = "N/A"
  WESTERNMOST_LONGITUDE = 77.24120000000001
END_OBJECT = IMAGE_MAP_PROJECTION
/* The JPEG2000 image data file associated with this label. */
OBJECT = COMPRESSED_FILE
  FILE_NAME = "H0047_0000_S23.JP2"
  RECORD_TYPE = UNDEFINED
  FILE_RECORDS = UNK
  ENCODING_TYPE = "JP2"
  INTERCHANGE_FORMAT = BINARY
  UNCOMPRESSED_FILE_NAME = "H0047_0000_S23.IMG"
  REQUIRED_STORAGE_BYTES = "1200694356"
  ^DESCRIPTION = "JP2INFO.TXT"
END_OBJECT = COMPRESSED_FILE
END
