PDS_VERSION_ID = PDS3
/* FILE DATA ELEMENTS */
RECORD_TYPE = STREAM
/* POINTERS TO DATA OBJECTS */
^COMPRESSED_FILE = "H0049_0000_S13.JP2"
/* IDENTIFICATION DATA ELEMENTS */
DATA_SET_ID = "MEX-M-HRSC-5-REFDR-MAPPROJECTED-V3.0"
DATA_SET_NAME = "MARS EXPRESS HRSC MAP PROJECTED REFDR V3.0"
DETECTOR_ID = MEX_HRSC_S1
EVENT_TYPE = "MARS-REGIONAL-MAPPING-Vo-Eo-Mw"
INSTRUMENT_HOST_ID = MEX
INSTRUMENT_HOST_NAME = "MARS EXPRESS"
INSTRUMENT_ID = HRSC
INSTRUMENT_NAME = "HIGH RESOLUTION STEREO CAMERA"
MISSION_NAME = "MARS EXPRESS"
MISSION_PHASE_NAME = MC_Phase_1
PROCESSING_LEVEL_ID = 3
PRODUCT_CREATION_TIME = 2016-03-02T13:15:10.000Z
PRODUCT_ID = "H0049_0000_S13.JP2"
RELEASE_ID = 0003
REVISION_ID = 0000
/* QUALITY DATA ELEMENTS */
DATA_QUALITY_ID = 1
DATA_QUALITY_DESC = "Data calculated based on original SPICE kernels"
/* TIME DATA ELEMENTS */
SPACECRAFT_CLOCK_START_COUNT = "1/0023122562.32198"
SPACECRAFT_CLOCK_STOP_COUNT = "1/0023123251.34225"
START_TIME = 2004-01-25T14:57:04.731Z
STOP_TIME = 2004-01-25T15:14:11.840Z
/* ORBITAL DATA ELEMENTS */
ASCENDING_NODE_LONGITUDE = 227.99
MAXIMUM_RESOLUTION = 23.2
FOOTPRINT_POINT_LATITUDE = (-20.9489,-19.5376,-18.1541,-16.1104, -14.7917,-13.4742,-12.1595,-10.8489, -9.54454,-8.24471,-6.95131,-4.96323, -3.63086,-1.58317,-0.215969,1.13364, 2.47993,3.8154,5.13881,6.45276,7.75473, 9.04165,10.3149,11.5749,12.8221,14.0553 ,15.2738,16.4807,17.6702,18.8428, 20.0011,21.1435,22.27,23.3806,24.4752, 25.5532,26.6139,27.6581,28.6908,29.7038 ,30.7006,31.681,32.6449,33.5929,34.5253 ,35.4417,36.3423,37.2269,38.5294,38.522 ,38.4972,38.0285,37.1665,36.2878, 35.3924,34.4813,33.5543,32.6108,31.6543 ,30.6787,29.6857,28.6808,27.6497, 26.6094,25.55,24.4743,23.3783,22.2716, 21.1476,20.0012,18.8436,17.6714,16.4831 ,15.2778,14.0574,12.8237,11.5774, 10.3172,9.04466,7.75949,6.46034,5.14581 ,3.8182,2.48251,0.461489,-0.894311, -2.26295,-4.29493,-5.62678,-6.94944, -8.24518,-9.54199,-10.8553,-12.8166, -14.1313,-15.4341,-16.7828,-18.1608, -20.2264,-20.9489)
FOOTPRINT_POINT_LONGITUDE = (211.598,211.624,211.647,211.671, 211.685,211.696,211.705,211.711,211.714 ,211.715,211.714,211.707,211.7,211.69, 211.679,211.663,211.648,211.631,211.611 ,211.591,211.569,211.544,211.517, 211.489,211.459,211.428,211.395,211.361 ,211.325,211.287,211.248,211.206, 211.163,211.119,211.072,211.024,210.974 ,210.922,210.867,210.812,210.755, 210.696,210.634,210.571,210.506,210.439 ,210.37,210.299,210.721,212.116,213.264 ,214.376,214.276,214.181,214.089, 214.001,213.916,213.835,213.756,213.681 ,213.61,213.541,213.476,213.414,213.355 ,213.3,213.249,213.198,213.151,213.109, 213.068,213.029,212.992,212.959,212.928 ,212.9,212.872,212.847,212.824,212.803, 212.784,212.767,212.753,212.74,212.723, 212.712,212.703,212.698,212.693,212.689 ,212.687,212.685,212.688,212.689, 212.692,212.691,212.7,212.706,212.714, 211.598)
ORBIT_NUMBER = 49
ORBITAL_ECCENTRICITY = 0.617
ORBITAL_INCLINATION = 86.61
ORBITAL_SEMIMAJOR_AXIS = 9576.27
PERIAPSIS_ALTITUDE = 271.8
PERIAPSIS_ARGUMENT_ANGLE = 351.48
PERIAPSIS_TIME = 2004-01-25T14:59:43.000Z
SPACECRAFT_ORIENTATION = (0.0,1.0,0.0)
^MEX_ORIENTATION_DESC = "MEX_ORIENTATION_DESC.TXT"
SPACECRAFT_POINTING_MODE = NADIR
^MEX_POINTING_DESC = "MEX_POINTING_DESC.TXT"
RIGHT_ASCENSION = -1e+32
DECLINATION = -1e+32
OFFSET_ANGLE = -1e+32
SPACECRAFT_SOLAR_DISTANCE = 2.25326e+08
TARGET_NAME = MARS
/* CAMERA DATA ELEMENTS */
DETECTOR_TEMPERATURE = 17.9627
FOCAL_PLANE_TEMPERATURE = 9.8067
INST_CMPRS_NAME = "DISCRETE COSINE TRANSFORMATION (DCT)"
INST_CMPRS_RATIO = 9.81693
INST_CMPRS_QUALITY = 0
INST_CMPRS_QUANTZ_TBL_ID = 0
INSTRUMENT_TEMPERATURE = 11.6418
LENS_TEMPERATURE = 10.2145
MACROPIXEL_SIZE = 2
MISSING_FRAMES = 2
PIXEL_SUBSAMPLING_FLAG = N
SIGNAL_CHAIN_ID = 1
/* RADIOMETRIC DATA ELEMENTS */
BANDWIDTH = 180.0
CENTER_FILTER_WAVELENGTH = 677.0
RADIANCE_OFFSET = 7.32647
RADIANCE_SCALING_FACTOR = 0.0260792
REFLECTANCE_SCALING_FACTOR = 0.000690804
MEX:REFLECTANCE_OFFSET = 0.194069
/* IMAGE OBJECT DEFINITIONS */
OBJECT = IMAGE
  INTERCHANGE_FORMAT = BINARY
  LINES = 141430
  LINE_SAMPLES = 6590
  SAMPLE_TYPE = UNSIGNED_INTEGER
  SAMPLE_BITS = 8
  BANDS = 1
  BAND_STORAGE_TYPE = BAND_SEQUENTIAL
  MAXIMUM = 131
  MEAN = 98.2732
  MINIMUM = 60
  STANDARD_DEVIATION = 10.6054
END_OBJECT = IMAGE
/* MAP OBJECT DEFINITIONS */
OBJECT = IMAGE_MAP_PROJECTION
  ^DATA_SET_MAP_PROJECTION_CATALOG= "DSMAP.CAT"
  A_AXIS_RADIUS = 3396.0
  B_AXIS_RADIUS = 3396.0
  C_AXIS_RADIUS = 3396.0
  CENTER_LATITUDE = 0.0
  CENTER_LONGITUDE = 212.0
  COORDINATE_SYSTEM_NAME = PLANETOGRAPHIC
  COORDINATE_SYSTEM_TYPE = "BODY-FIXED ROTATING"
  EASTERNMOST_LONGITUDE = 214.376
  FIRST_STANDARD_PARALLEL = "N/A"
  LINE_FIRST_PIXEL = 1
  LINE_LAST_PIXEL = 141430
  LINE_PROJECTION_OFFSET = 90893.75
  MAP_PROJECTION_ROTATION = 0.0
  MAP_PROJECTION_TYPE = SINUSOIDAL
  MAP_RESOLUTION = 2370.85521546667
  MAP_SCALE = 0.025
  MAXIMUM_LATITUDE = 38.5294
  MINIMUM_LATITUDE = -20.9489
  POSITIVE_LONGITUDE_DIRECTION = EAST
  REFERENCE_LATITUDE = "N/A"
  REFERENCE_LONGITUDE = "N/A"
  SAMPLE_FIRST_PIXEL = 1
  SAMPLE_LAST_PIXEL = 6590
  SAMPLE_PROJECTION_OFFSET = 2689.75
  SECOND_STANDARD_PARALLEL = "N/A"
  WESTERNMOST_LONGITUDE = 210.299
END_OBJECT = IMAGE_MAP_PROJECTION
/* The JPEG2000 image data file associated with this label. */
OBJECT = COMPRESSED_FILE
  FILE_NAME = "H0049_0000_S13.JP2"
  RECORD_TYPE = UNDEFINED
  FILE_RECORDS = UNK
  ENCODING_TYPE = "JP2"
  INTERCHANGE_FORMAT = BINARY
  UNCOMPRESSED_FILE_NAME = "H0049_0000_S13.IMG"
  REQUIRED_STORAGE_BYTES = "932056650"
  ^DESCRIPTION = "JP2INFO.TXT"
END_OBJECT = COMPRESSED_FILE
END
