PDS_VERSION_ID = PDS3
/* FILE DATA ELEMENTS */
RECORD_TYPE = STREAM
/* POINTERS TO DATA OBJECTS */
^COMPRESSED_FILE = "H0061_0008_IR3.JP2"
/* IDENTIFICATION DATA ELEMENTS */
DATA_SET_ID = "MEX-M-HRSC-5-REFDR-MAPPROJECTED-V3.0"
DATA_SET_NAME = "MARS EXPRESS HRSC MAP PROJECTED REFDR V3.0"
DETECTOR_ID = MEX_HRSC_IR
EVENT_TYPE = "MARS-REGIONAL-STEREO-Fl-Lc-Pf"
INSTRUMENT_HOST_ID = MEX
INSTRUMENT_HOST_NAME = "MARS EXPRESS"
INSTRUMENT_ID = HRSC
INSTRUMENT_NAME = "HIGH RESOLUTION STEREO CAMERA"
MISSION_NAME = "MARS EXPRESS"
MISSION_PHASE_NAME = MC_Phase_2
PROCESSING_LEVEL_ID = 3
PRODUCT_CREATION_TIME = 2016-03-02T13:15:10.000Z
PRODUCT_ID = "H0061_0008_IR3.JP2"
RELEASE_ID = 0003
REVISION_ID = 0000
/* QUALITY DATA ELEMENTS */
DATA_QUALITY_ID = 1
DATA_QUALITY_DESC = "Data calculated based on original SPICE kernels"
/* TIME DATA ELEMENTS */
SPACECRAFT_CLOCK_START_COUNT = "1/0023453301.32342"
SPACECRAFT_CLOCK_STOP_COUNT = "1/0023453668.63054"
START_TIME = 2004-01-29T10:49:22.769Z
STOP_TIME = 2004-01-29T11:05:50.977Z
/* ORBITAL DATA ELEMENTS */
ASCENDING_NODE_LONGITUDE = 227.73
MAXIMUM_RESOLUTION = 45.2
FOOTPRINT_POINT_LATITUDE = (-17.9256,-16.6813,-15.4737,-14.2512, -13.0596,-11.8456,-10.6638,-9.48824, -8.30627,-7.06042,-5.84635,-4.63812, -2.77636,-0.890123,1.04203,2.35093, 3.6497,4.94777,6.22478,7.49463,8.75367, 9.99861,11.2321,12.453,13.6591,14.8533, 16.0349,17.2034,18.3569,19.4972,20.6235 ,21.7359,22.8334,23.9155,24.9818, 26.0335,27.0772,28.1027,29.1165,30.1048 ,31.0849,32.0496,33.0004,33.9344, 34.8549,35.7615,36.6521,37.5297,38.8188 ,38.7852,38.7526,38.685,37.3853,36.5167 ,35.6328,34.7345,33.8212,32.8926, 31.9491,30.9905,30.016,29.0273,28.022, 27.0022,25.9626,24.9128,23.8491,22.7693 ,21.6747,20.5647,19.4414,18.3043, 17.1526,15.9859,14.8056,13.6133,12.4085 ,11.1899,9.95477,8.07911,6.82312, 5.54675,4.26388,2.96843,1.66349, 0.350816,-0.927293,-2.81313,-4.67324, -5.88264,-7.12388,-8.34596,-9.52381, -10.7005,-11.8821,-13.0993,-14.2822, -15.5069,-17.3437,-17.9256)
FOOTPRINT_POINT_LONGITUDE = (309.099,309.108,309.121,309.127, 309.129,309.125,309.126,309.125,309.127 ,309.118,309.112,309.106,309.092, 309.076,309.055,309.04,309.023,309.004, 308.984,308.963,308.94,308.917,308.891, 308.865,308.837,308.808,308.778,308.746 ,308.713,308.679,308.643,308.607, 308.569,308.53,308.489,308.447,308.403, 308.359,308.314,308.266,308.217,308.167 ,308.115,308.062,308.007,307.951, 307.893,307.833,308.26,309.55,310.402, 311.708,311.925,311.82,311.719,311.622, 311.528,311.438,311.352,311.269,311.191 ,311.115,311.043,310.975,310.909, 310.847,310.787,310.73,310.677,310.627, 310.579,310.533,310.491,310.451,310.414 ,310.378,310.344,310.313,310.287, 310.253,310.225,310.207,310.187,310.171 ,310.156,310.144,310.135,310.124, 310.115,310.113,310.135,310.138,310.112 ,310.113,310.116,310.151,310.153,310.16 ,310.149,309.099)
ORBIT_NUMBER = 61
ORBITAL_ECCENTRICITY = 0.607
ORBITAL_INCLINATION = 86.6
ORBITAL_SEMIMAJOR_AXIS = 9341.67
PERIAPSIS_ALTITUDE = 271.27
PERIAPSIS_ARGUMENT_ANGLE = 349.47
PERIAPSIS_TIME = 2004-01-29T10:50:53.000Z
SPACECRAFT_ORIENTATION = (0.0,1.0,0.0)
^MEX_ORIENTATION_DESC = "MEX_ORIENTATION_DESC.TXT"
SPACECRAFT_POINTING_MODE = ACROSSTRACK
^MEX_POINTING_DESC = "MEX_POINTING_DESC.TXT"
RIGHT_ASCENSION = -1e+32
DECLINATION = -1e+32
OFFSET_ANGLE = -0.7
SPACECRAFT_SOLAR_DISTANCE = 2.26076e+08
TARGET_NAME = MARS
/* CAMERA DATA ELEMENTS */
DETECTOR_TEMPERATURE = 23.0602
FOCAL_PLANE_TEMPERATURE = 11.0301
INST_CMPRS_NAME = "DISCRETE COSINE TRANSFORMATION (DCT)"
INST_CMPRS_RATIO = 7.46492
INST_CMPRS_QUALITY = 0
INST_CMPRS_QUANTZ_TBL_ID = 0
INSTRUMENT_TEMPERATURE = 16.3315
LENS_TEMPERATURE = 11.6418
MACROPIXEL_SIZE = 4
MISSING_FRAMES = 1
PIXEL_SUBSAMPLING_FLAG = N
SIGNAL_CHAIN_ID = 2
/* RADIOMETRIC DATA ELEMENTS */
BANDWIDTH = 81.0
CENTER_FILTER_WAVELENGTH = 955.5
RADIANCE_OFFSET = 1.04932
RADIANCE_SCALING_FACTOR = 0.00817579
REFLECTANCE_SCALING_FACTOR = 0.000901499
MEX:REFLECTANCE_OFFSET = 0.115702
/* IMAGE OBJECT DEFINITIONS */
OBJECT = IMAGE
  INTERCHANGE_FORMAT = BINARY
  LINES = 68050
  LINE_SAMPLES = 3522
  SAMPLE_TYPE = UNSIGNED_INTEGER
  SAMPLE_BITS = 8
  BANDS = 1
  BAND_STORAGE_TYPE = BAND_SEQUENTIAL
  MAXIMUM = 237
  MEAN = 149.338
  MINIMUM = 72
  STANDARD_DEVIATION = 34.7395
END_OBJECT = IMAGE
/* MAP OBJECT DEFINITIONS */
OBJECT = IMAGE_MAP_PROJECTION
  ^DATA_SET_MAP_PROJECTION_CATALOG= "DSMAP.CAT"
  A_AXIS_RADIUS = 3396.0
  B_AXIS_RADIUS = 3396.0
  C_AXIS_RADIUS = 3396.0
  CENTER_LATITUDE = 0.0
  CENTER_LONGITUDE = 310.0
  COORDINATE_SYSTEM_NAME = PLANETOGRAPHIC
  COORDINATE_SYSTEM_TYPE = "BODY-FIXED ROTATING"
  EASTERNMOST_LONGITUDE = 311.925
  FIRST_STANDARD_PARALLEL = "N/A"
  LINE_FIRST_PIXEL = 1
  LINE_LAST_PIXEL = 68050
  LINE_PROJECTION_OFFSET = 46034.625
  MAP_PROJECTION_ROTATION = 0.0
  MAP_PROJECTION_TYPE = SINUSOIDAL
  MAP_RESOLUTION = 1185.42760773333
  MAP_SCALE = 0.05
  MAXIMUM_LATITUDE = 38.8188
  MINIMUM_LATITUDE = -17.9256
  POSITIVE_LONGITUDE_DIRECTION = EAST
  REFERENCE_LATITUDE = "N/A"
  REFERENCE_LONGITUDE = "N/A"
  SAMPLE_FIRST_PIXEL = 1
  SAMPLE_LAST_PIXEL = 3522
  SAMPLE_PROJECTION_OFFSET = 1826.875
  SECOND_STANDARD_PARALLEL = "N/A"
  WESTERNMOST_LONGITUDE = 307.833
END_OBJECT = IMAGE_MAP_PROJECTION
/* The JPEG2000 image data file associated with this label. */
OBJECT = COMPRESSED_FILE
  FILE_NAME = "H0061_0008_IR3.JP2"
  RECORD_TYPE = UNDEFINED
  FILE_RECORDS = UNK
  ENCODING_TYPE = "JP2"
  INTERCHANGE_FORMAT = BINARY
  UNCOMPRESSED_FILE_NAME = "H0061_0008_IR3.IMG"
  REQUIRED_STORAGE_BYTES = "239693232"
  ^DESCRIPTION = "JP2INFO.TXT"
END_OBJECT = COMPRESSED_FILE
END
