PDS_VERSION_ID = PDS3
/* FILE DATA ELEMENTS */
RECORD_TYPE = STREAM
/* POINTERS TO DATA OBJECTS */
^COMPRESSED_FILE = "H0061_0008_S23.JP2"
/* IDENTIFICATION DATA ELEMENTS */
DATA_SET_ID = "MEX-M-HRSC-5-REFDR-MAPPROJECTED-V3.0"
DATA_SET_NAME = "MARS EXPRESS HRSC MAP PROJECTED REFDR V3.0"
DETECTOR_ID = MEX_HRSC_S2
EVENT_TYPE = "MARS-REGIONAL-STEREO-Fl-Lc-Pf"
INSTRUMENT_HOST_ID = MEX
INSTRUMENT_HOST_NAME = "MARS EXPRESS"
INSTRUMENT_ID = HRSC
INSTRUMENT_NAME = "HIGH RESOLUTION STEREO CAMERA"
MISSION_NAME = "MARS EXPRESS"
MISSION_PHASE_NAME = MC_Phase_2
PROCESSING_LEVEL_ID = 3
PRODUCT_CREATION_TIME = 2016-03-02T13:15:10.000Z
PRODUCT_ID = "H0061_0008_S23.JP2"
RELEASE_ID = 0003
REVISION_ID = 0000
/* QUALITY DATA ELEMENTS */
DATA_QUALITY_ID = 1
DATA_QUALITY_DESC = "Data calculated based on original SPICE kernels"
/* TIME DATA ELEMENTS */
SPACECRAFT_CLOCK_START_COUNT = "1/0023453301.32342"
SPACECRAFT_CLOCK_STOP_COUNT = "1/0023453668.63054"
START_TIME = 2004-01-29T10:48:30.492Z
STOP_TIME = 2004-01-29T11:02:52.872Z
/* ORBITAL DATA ELEMENTS */
ASCENDING_NODE_LONGITUDE = 227.73
MAXIMUM_RESOLUTION = 23
FOOTPRINT_POINT_LATITUDE = (-18.3765,-18.4024,-17.3113,-16.2146, -14.59,-13.5238,-12.4916,-11.4255, -9.86693,-8.82834,-7.74951,-6.73858, -5.66885,-4.5738,-3.47863,-2.37984, -0.708317,0.435558,1.58164,2.7767, 3.97945,5.20399,6.43902,7.66878,8.89617 ,10.7369,11.9604,13.1812,14.4003, 15.6156,16.8236,18.0291,19.2318,20.4264 ,21.6159,22.8012,23.9828,25.1596, 26.3257,28.0669,29.2143,30.9362,32.0728 ,33.2009,34.8834,35.9945,37.0994, 38.1973,38.7539,38.7603,38.7635,37.6743 ,36.5772,35.4725,34.3608,33.2409, 32.1148,30.98,29.8408,28.6941,27.5401, 26.3802,25.2137,24.0397,22.8609,21.6767 ,20.4879,19.2928,18.0918,16.8866,15.678 ,14.4658,12.6384,11.4127,10.1897, 8.35361,7.73202,6.50211,5.27021,4.65363 ,3.43262,2.2416,1.0709,-0.0720668, -1.76665,-2.86565,-3.96232,-5.05976, -6.15251,-7.16715,-8.20977,-9.28699, -10.3277,-11.3658,-12.399,-13.4654, -15.0608,-16.1262,-17.2465,-18.3765)
FOOTPRINT_POINT_LONGITUDE = (309.739,309.074,309.086,309.097, 309.113,309.119,309.118,309.121,309.124 ,309.124,309.129,309.122,309.119, 309.115,309.11,309.104,309.093,309.084, 309.074,309.063,309.051,309.037,309.022 ,309.006,308.989,308.962,308.942, 308.921,308.9,308.877,308.854,308.83, 308.804,308.778,308.751,308.723,308.694 ,308.664,308.633,308.585,308.553, 308.501,308.466,308.43,308.374,308.336, 308.296,308.256,308.782,309.624,311.609 ,311.504,311.405,311.311,311.223, 311.139,311.061,310.987,310.918,310.853 ,310.791,310.733,310.679,310.627, 310.579,310.534,310.493,310.454,310.416 ,310.382,310.35,310.321,310.281,310.254 ,310.233,310.207,310.194,310.178, 310.164,310.157,310.145,310.134,310.126 ,310.12,310.113,310.11,310.108,310.105, 310.106,310.131,310.135,310.112,310.115 ,310.119,310.149,310.16,310.176,310.182 ,310.169,309.739)
ORBIT_NUMBER = 61
ORBITAL_ECCENTRICITY = 0.607
ORBITAL_INCLINATION = 86.6
ORBITAL_SEMIMAJOR_AXIS = 9341.67
PERIAPSIS_ALTITUDE = 271.27
PERIAPSIS_ARGUMENT_ANGLE = 349.47
PERIAPSIS_TIME = 2004-01-29T10:50:53.000Z
SPACECRAFT_ORIENTATION = (0.0,1.0,0.0)
^MEX_ORIENTATION_DESC = "MEX_ORIENTATION_DESC.TXT"
SPACECRAFT_POINTING_MODE = ACROSSTRACK
^MEX_POINTING_DESC = "MEX_POINTING_DESC.TXT"
RIGHT_ASCENSION = -1e+32
DECLINATION = -1e+32
OFFSET_ANGLE = -0.7
SPACECRAFT_SOLAR_DISTANCE = 2.26076e+08
TARGET_NAME = MARS
/* CAMERA DATA ELEMENTS */
DETECTOR_TEMPERATURE = 24.2836
FOCAL_PLANE_TEMPERATURE = 11.0301
INST_CMPRS_NAME = "DISCRETE COSINE TRANSFORMATION (DCT)"
INST_CMPRS_RATIO = 9.28212
INST_CMPRS_QUALITY = 0
INST_CMPRS_QUANTZ_TBL_ID = 0
INSTRUMENT_TEMPERATURE = 16.3315
LENS_TEMPERATURE = 11.6418
MACROPIXEL_SIZE = 2
MISSING_FRAMES = 0
PIXEL_SUBSAMPLING_FLAG = N
SIGNAL_CHAIN_ID = 1
/* RADIOMETRIC DATA ELEMENTS */
BANDWIDTH = 178.0
CENTER_FILTER_WAVELENGTH = 679.0
RADIANCE_OFFSET = 5.05304
RADIANCE_SCALING_FACTOR = 0.0286697
REFLECTANCE_SCALING_FACTOR = 0.000775995
MEX:REFLECTANCE_OFFSET = 0.136769
/* IMAGE OBJECT DEFINITIONS */
OBJECT = IMAGE
  INTERCHANGE_FORMAT = BINARY
  LINES = 136099
  LINE_SAMPLES = 7044
  SAMPLE_TYPE = UNSIGNED_INTEGER
  SAMPLE_BITS = 8
  BANDS = 1
  BAND_STORAGE_TYPE = BAND_SEQUENTIAL
  MAXIMUM = 259
  MEAN = 167.401
  MINIMUM = 91
  STANDARD_DEVIATION = 30.2211
END_OBJECT = IMAGE
/* MAP OBJECT DEFINITIONS */
OBJECT = IMAGE_MAP_PROJECTION
  ^DATA_SET_MAP_PROJECTION_CATALOG= "DSMAP.CAT"
  A_AXIS_RADIUS = 3396.0
  B_AXIS_RADIUS = 3396.0
  C_AXIS_RADIUS = 3396.0
  CENTER_LATITUDE = 0.0
  CENTER_LONGITUDE = 310.0
  COORDINATE_SYSTEM_NAME = PLANETOGRAPHIC
  COORDINATE_SYSTEM_TYPE = "BODY-FIXED ROTATING"
  EASTERNMOST_LONGITUDE = 311.609
  FIRST_STANDARD_PARALLEL = "N/A"
  LINE_FIRST_PIXEL = 1
  LINE_LAST_PIXEL = 136099
  LINE_PROJECTION_OFFSET = 92069.75
  MAP_PROJECTION_ROTATION = 0.0
  MAP_PROJECTION_TYPE = SINUSOIDAL
  MAP_RESOLUTION = 2370.85521546667
  MAP_SCALE = 0.025
  MAXIMUM_LATITUDE = 38.7635
  MINIMUM_LATITUDE = -18.4024
  POSITIVE_LONGITUDE_DIRECTION = EAST
  REFERENCE_LATITUDE = "N/A"
  REFERENCE_LONGITUDE = "N/A"
  SAMPLE_FIRST_PIXEL = 1
  SAMPLE_LAST_PIXEL = 7044
  SAMPLE_PROJECTION_OFFSET = 3654.25
  SECOND_STANDARD_PARALLEL = "N/A"
  WESTERNMOST_LONGITUDE = 308.256
END_OBJECT = IMAGE_MAP_PROJECTION
/* The JPEG2000 image data file associated with this label. */
OBJECT = COMPRESSED_FILE
  FILE_NAME = "H0061_0008_S23.JP2"
  RECORD_TYPE = UNDEFINED
  FILE_RECORDS = UNK
  ENCODING_TYPE = "JP2"
  INTERCHANGE_FORMAT = BINARY
  UNCOMPRESSED_FILE_NAME = "H0061_0008_S23.IMG"
  REQUIRED_STORAGE_BYTES = "958709532"
  ^DESCRIPTION = "JP2INFO.TXT"
END_OBJECT = COMPRESSED_FILE
END
