PDS_VERSION_ID = PDS3
/* FILE DATA ELEMENTS */
RECORD_TYPE = STREAM
/* POINTERS TO DATA OBJECTS */
^COMPRESSED_FILE = "H0068_0000_GR3.JP2"
/* IDENTIFICATION DATA ELEMENTS */
DATA_SET_ID = "MEX-M-HRSC-5-REFDR-MAPPROJECTED-V3.0"
DATA_SET_NAME = "MARS EXPRESS HRSC MAP PROJECTED REFDR V3.0"
DETECTOR_ID = MEX_HRSC_GREEN
EVENT_TYPE = "MARS-REGIONAL-STEREO-Vo-Te"
INSTRUMENT_HOST_ID = MEX
INSTRUMENT_HOST_NAME = "MARS EXPRESS"
INSTRUMENT_ID = HRSC
INSTRUMENT_NAME = "HIGH RESOLUTION STEREO CAMERA"
MISSION_NAME = "MARS EXPRESS"
MISSION_PHASE_NAME = MC_Phase_2
PROCESSING_LEVEL_ID = 3
PRODUCT_CREATION_TIME = 2016-03-02T13:15:10.000Z
PRODUCT_ID = "H0068_0000_GR3.JP2"
RELEASE_ID = 0003
REVISION_ID = 0000
/* QUALITY DATA ELEMENTS */
DATA_QUALITY_ID = 1
DATA_QUALITY_DESC = "Data calculated based on original SPICE kernels"
/* TIME DATA ELEMENTS */
SPACECRAFT_CLOCK_START_COUNT = "1/0023643928.33000"
SPACECRAFT_CLOCK_STOP_COUNT = "1/0023644773.24591"
START_TIME = 2004-01-31T15:46:35.701Z
STOP_TIME = 2004-01-31T16:01:27.858Z
/* ORBITAL DATA ELEMENTS */
ASCENDING_NODE_LONGITUDE = 227.58
MAXIMUM_RESOLUTION = 45.4
FOOTPRINT_POINT_LATITUDE = (-40.1662,-40.1523,-38.744,-37.374, -36.05,-34.7605,-33.5021,-32.277, -31.0802,-29.9117,-28.7675,-27.6433, -26.5329,-25.4547,-24.3861,-23.3353, -22.2864,-21.2675,-20.2467,-11.8421, -10.4088,-9.45422,-8.50036,-7.54778, -6.12167,-4.69868,-3.75231,-2.80838, -1.86626,-0.926543,0.0106588,0.94501, 1.87646,2.80492,4.19748,5.63589,6.73475 ,7.64457,8.55059,9.45408,10.3541,11.248 ,12.1334,13.0101,13.8815,14.7513, 15.6176,16.4794,17.3359,18.187,18.1631, 17.2853,16.4319,15.5726,14.709,13.8418, 12.972,12.0967,11.2124,10.32,8.96622, 8.06213,7.15585,6.24566,5.0867,4.16784, 2.77677,1.84919,0.91849,-0.015221, -0.951727,-1.89078,-2.8321,-3.77564, -4.72096,-5.66932,-7.09372,-8.04482, -8.99776,-9.95156,-10.9062,-11.8615, -20.263,-21.2835,-22.3021,-23.3503, -24.3993,-25.4691,-27.1018,-28.2104, -29.3478,-30.5066,-31.6896,-32.9,-34.14 ,-35.4094,-36.7193,-38.064,-39.4533, -40.1662)
FOOTPRINT_POINT_LONGITUDE = (255.973,254.695,254.735,254.757, 254.783,254.808,254.823,254.845,254.857 ,254.872,254.883,254.892,254.89,254.895 ,254.91,254.901,254.899,254.898,254.896 ,254.869,254.861,254.856,254.85,254.846 ,254.841,254.834,254.829,254.826, 254.821,254.815,254.809,254.802,254.795 ,254.788,254.775,254.761,254.748, 254.736,254.722,254.7,254.674,254.656, 254.656,254.673,254.69,254.691,254.684, 254.674,254.663,254.653,255.715,256.513 ,256.47,256.433,256.39,256.336,256.262, 256.193,256.156,256.148,256.193,256.195 ,256.18,256.165,256.144,256.131,256.115 ,256.105,256.097,256.089,256.083, 256.077,256.071,256.065,256.057,256.063 ,256.061,256.058,256.064,256.07,256.078 ,256.088,256.219,256.242,256.267, 256.293,256.321,256.349,256.396,256.428 ,256.462,256.503,256.546,256.595, 256.654,256.699,256.765,256.832,256.926 ,255.973)
ORBIT_NUMBER = 68
ORBITAL_ECCENTRICITY = 0.608
ORBITAL_INCLINATION = 86.57
ORBITAL_SEMIMAJOR_AXIS = 9361.22
PERIAPSIS_ALTITUDE = 270.1
PERIAPSIS_ARGUMENT_ANGLE = 348.25
PERIAPSIS_TIME = 2004-01-31T15:53:43.000Z
SPACECRAFT_ORIENTATION = (0.0,1.0,0.0)
^MEX_ORIENTATION_DESC = "MEX_ORIENTATION_DESC.TXT"
SPACECRAFT_POINTING_MODE = ACROSSTRACK
^MEX_POINTING_DESC = "MEX_POINTING_DESC.TXT"
RIGHT_ASCENSION = -1e+32
DECLINATION = -1e+32
OFFSET_ANGLE = -2.35
SPACECRAFT_SOLAR_DISTANCE = 2.26509e+08
TARGET_NAME = MARS
/* CAMERA DATA ELEMENTS */
DETECTOR_TEMPERATURE = 17.7588
FOCAL_PLANE_TEMPERATURE = 8.7872
INST_CMPRS_NAME = "DISCRETE COSINE TRANSFORMATION (DCT)"
INST_CMPRS_RATIO = 13.3883
INST_CMPRS_QUALITY = 0
INST_CMPRS_QUANTZ_TBL_ID = 0
INSTRUMENT_TEMPERATURE = 11.234
LENS_TEMPERATURE = 9.6028
MACROPIXEL_SIZE = 4
MISSING_FRAMES = 1288
PIXEL_SUBSAMPLING_FLAG = N
SIGNAL_CHAIN_ID = 2
/* RADIOMETRIC DATA ELEMENTS */
BANDWIDTH = 88.0
CENTER_FILTER_WAVELENGTH = 538.0
RADIANCE_OFFSET = 1.83076
RADIANCE_SCALING_FACTOR = 0.0125811
REFLECTANCE_SCALING_FACTOR = 0.000555744
MEX:REFLECTANCE_OFFSET = 0.0808698
/* IMAGE OBJECT DEFINITIONS */
OBJECT = IMAGE
  INTERCHANGE_FORMAT = BINARY
  LINES = 69187
  LINE_SAMPLES = 2342
  SAMPLE_TYPE = UNSIGNED_INTEGER
  SAMPLE_BITS = 8
  BANDS = 1
  BAND_STORAGE_TYPE = BAND_SEQUENTIAL
  MAXIMUM = 293
  MEAN = 200.35
  MINIMUM = 95
  STANDARD_DEVIATION = 34.6928
END_OBJECT = IMAGE
/* MAP OBJECT DEFINITIONS */
OBJECT = IMAGE_MAP_PROJECTION
  ^DATA_SET_MAP_PROJECTION_CATALOG= "DSMAP.CAT"
  A_AXIS_RADIUS = 3396.0
  B_AXIS_RADIUS = 3396.0
  C_AXIS_RADIUS = 3396.0
  CENTER_LATITUDE = 0.0
  CENTER_LONGITUDE = 255.0
  COORDINATE_SYSTEM_NAME = PLANETOGRAPHIC
  COORDINATE_SYSTEM_TYPE = "BODY-FIXED ROTATING"
  EASTERNMOST_LONGITUDE = 256.926
  FIRST_STANDARD_PARALLEL = "N/A"
  LINE_FIRST_PIXEL = 1
  LINE_LAST_PIXEL = 69187
  LINE_PROJECTION_OFFSET = 21560.875
  MAP_PROJECTION_ROTATION = 0.0
  MAP_PROJECTION_TYPE = SINUSOIDAL
  MAP_RESOLUTION = 1185.42760773333
  MAP_SCALE = 0.05
  MAXIMUM_LATITUDE = 18.187
  MINIMUM_LATITUDE = -40.1662
  POSITIVE_LONGITUDE_DIRECTION = EAST
  REFERENCE_LATITUDE = "N/A"
  REFERENCE_LONGITUDE = "N/A"
  SAMPLE_FIRST_PIXEL = 1
  SAMPLE_LAST_PIXEL = 2342
  SAMPLE_PROJECTION_OFFSET = 384.125
  SECOND_STANDARD_PARALLEL = "N/A"
  WESTERNMOST_LONGITUDE = 254.653
END_OBJECT = IMAGE_MAP_PROJECTION
/* The JPEG2000 image data file associated with this label. */
OBJECT = COMPRESSED_FILE
  FILE_NAME = "H0068_0000_GR3.JP2"
  RECORD_TYPE = UNDEFINED
  FILE_RECORDS = UNK
  ENCODING_TYPE = "JP2"
  INTERCHANGE_FORMAT = BINARY
  UNCOMPRESSED_FILE_NAME = "H0068_0000_GR3.IMG"
  REQUIRED_STORAGE_BYTES = "162059374"
  ^DESCRIPTION = "JP2INFO.TXT"
END_OBJECT = COMPRESSED_FILE
END
