PDS_VERSION_ID = PDS3
/* FILE DATA ELEMENTS */
RECORD_TYPE = STREAM
/* POINTERS TO DATA OBJECTS */
^COMPRESSED_FILE = "H0068_0009_GR3.JP2"
/* IDENTIFICATION DATA ELEMENTS */
DATA_SET_ID = "MEX-M-HRSC-5-REFDR-MAPPROJECTED-V3.0"
DATA_SET_NAME = "MARS EXPRESS HRSC MAP PROJECTED REFDR V3.0"
DETECTOR_ID = MEX_HRSC_GREEN
EVENT_TYPE = "MARS-REGIONAL-STEREO-Vo-Te"
INSTRUMENT_HOST_ID = MEX
INSTRUMENT_HOST_NAME = "MARS EXPRESS"
INSTRUMENT_ID = HRSC
INSTRUMENT_NAME = "HIGH RESOLUTION STEREO CAMERA"
MISSION_NAME = "MARS EXPRESS"
MISSION_PHASE_NAME = MC_Phase_2
PROCESSING_LEVEL_ID = 3
PRODUCT_CREATION_TIME = 2016-03-02T13:15:10.000Z
PRODUCT_ID = "H0068_0009_GR3.JP2"
RELEASE_ID = 0003
REVISION_ID = 0000
/* QUALITY DATA ELEMENTS */
DATA_QUALITY_ID = 1
DATA_QUALITY_DESC = "Data calculated based on original SPICE kernels"
/* TIME DATA ELEMENTS */
SPACECRAFT_CLOCK_START_COUNT = "1/0023645171.31240"
SPACECRAFT_CLOCK_STOP_COUNT = "1/0023645584.12322"
START_TIME = 2004-01-31T16:07:53.243Z
STOP_TIME = 2004-01-31T16:10:30.444Z
/* ORBITAL DATA ELEMENTS */
ASCENDING_NODE_LONGITUDE = 227.58
MAXIMUM_RESOLUTION = 142.1
FOOTPRINT_POINT_LATITUDE = (38.9439,38.9644,38.9838,39.0022, 39.0196,39.0359,39.0513,39.0657,39.0792 ,39.0917,39.1034,39.1141,39.124,39.1308 ,39.282,39.4329,39.5835,39.7338,39.8839 ,40.0336,40.183,40.3321,40.4809,40.6294 ,40.7776,40.9255,41.0732,41.2205, 41.3676,41.5143,41.6608,41.8069,42.0984 ,42.3887,42.6778,42.9657,43.2525, 43.5381,43.7517,44.0351,44.3172,44.5979 ,44.8776,45.1562,45.4334,45.6408, 45.9165,46.1907,46.3592,46.3435,46.3236 ,46.3103,46.2889,46.2681,46.257,46.2453 ,46.2302,46.2175,46.2044,46.1907, 46.1733,46.155,46.1319,46.1035,46.0869, 46.0695,45.964,45.6959,45.4265,45.1559, 44.8842,44.611,44.3366,44.061,43.7843, 43.5061,43.2269,42.9466,42.6652,42.3823 ,42.0984,41.8135,41.5984,41.3113, 41.0227,40.8778,40.7326,40.587,40.4413, 40.2952,40.1487,40.0019,39.8549,39.7074 ,39.5595,39.4113,39.2628,39.1138, 38.9647,38.9439)
FOOTPRINT_POINT_LONGITUDE = (258.212,257.894,257.579,257.266, 256.956,256.647,256.34,256.036,255.734, 255.433,255.135,254.837,254.542,254.279 ,254.275,254.271,254.268,254.264, 254.261,254.257,254.254,254.25,254.247, 254.243,254.239,254.236,254.232,254.228 ,254.225,254.221,254.217,254.214, 254.206,254.199,254.191,254.184,254.176 ,254.169,254.163,254.155,254.148,254.14 ,254.133,254.125,254.118,254.112, 254.104,254.096,254.138,254.602,255.121 ,255.433,255.902,256.322,256.532, 256.743,257.008,257.221,257.434,257.648 ,257.916,258.185,258.509,258.89,259.107 ,259.326,259.769,259.705,259.643, 259.581,259.52,259.46,259.4,259.342, 259.284,259.227,259.17,259.113,259.056, 259.001,258.946,258.89,258.851,258.796, 258.743,258.718,258.692,258.667,258.641 ,258.616,258.591,258.566,258.541, 258.517,258.493,258.47,258.446,258.424, 258.4,258.212)
ORBIT_NUMBER = 68
ORBITAL_ECCENTRICITY = 0.608
ORBITAL_INCLINATION = 86.57
ORBITAL_SEMIMAJOR_AXIS = 9361.22
PERIAPSIS_ALTITUDE = 270.1
PERIAPSIS_ARGUMENT_ANGLE = 348.25
PERIAPSIS_TIME = 2004-01-31T15:53:43.000Z
SPACECRAFT_ORIENTATION = (0.0,1.0,0.0)
^MEX_ORIENTATION_DESC = "MEX_ORIENTATION_DESC.TXT"
SPACECRAFT_POINTING_MODE = ACROSSTRACK
^MEX_POINTING_DESC = "MEX_POINTING_DESC.TXT"
RIGHT_ASCENSION = -1e+32
DECLINATION = -1e+32
OFFSET_ANGLE = -2.35
SPACECRAFT_SOLAR_DISTANCE = 2.26509e+08
TARGET_NAME = MARS
/* CAMERA DATA ELEMENTS */
DETECTOR_TEMPERATURE = 20.8173
FOCAL_PLANE_TEMPERATURE = 9.6028
INST_CMPRS_NAME = "DISCRETE COSINE TRANSFORMATION (DCT)"
INST_CMPRS_RATIO = 9.52228
INST_CMPRS_QUALITY = 0
INST_CMPRS_QUANTZ_TBL_ID = 0
INSTRUMENT_TEMPERATURE = 15.312
LENS_TEMPERATURE = 10.2145
MACROPIXEL_SIZE = 4
MISSING_FRAMES = 0
PIXEL_SUBSAMPLING_FLAG = N
SIGNAL_CHAIN_ID = 2
/* RADIOMETRIC DATA ELEMENTS */
BANDWIDTH = 88.0
CENTER_FILTER_WAVELENGTH = 538.0
RADIANCE_OFFSET = 1.22965
RADIANCE_SCALING_FACTOR = 0.00765424
REFLECTANCE_SCALING_FACTOR = 0.000338116
MEX:REFLECTANCE_OFFSET = 0.0543183
/* IMAGE OBJECT DEFINITIONS */
OBJECT = IMAGE
  INTERCHANGE_FORMAT = BINARY
  LINES = 4383
  LINE_SAMPLES = 2388
  SAMPLE_TYPE = UNSIGNED_INTEGER
  SAMPLE_BITS = 8
  BANDS = 1
  BAND_STORAGE_TYPE = BAND_SEQUENTIAL
  MAXIMUM = 167
  MEAN = 111.64
  MINIMUM = 60
  STANDARD_DEVIATION = 8.06234
END_OBJECT = IMAGE
/* MAP OBJECT DEFINITIONS */
OBJECT = IMAGE_MAP_PROJECTION
  ^DATA_SET_MAP_PROJECTION_CATALOG= "DSMAP.CAT"
  A_AXIS_RADIUS = 3396.0
  B_AXIS_RADIUS = 3396.0
  C_AXIS_RADIUS = 3396.0
  CENTER_LATITUDE = 0.0
  CENTER_LONGITUDE = 257.0
  COORDINATE_SYSTEM_NAME = PLANETOGRAPHIC
  COORDINATE_SYSTEM_TYPE = "BODY-FIXED ROTATING"
  EASTERNMOST_LONGITUDE = 259.769
  FIRST_STANDARD_PARALLEL = "N/A"
  LINE_FIRST_PIXEL = 1
  LINE_LAST_PIXEL = 4383
  LINE_PROJECTION_OFFSET = 27472.625
  MAP_PROJECTION_ROTATION = 0.0
  MAP_PROJECTION_TYPE = SINUSOIDAL
  MAP_RESOLUTION = 592.713803866667
  MAP_SCALE = 0.1
  MAXIMUM_LATITUDE = 46.3592
  MINIMUM_LATITUDE = 38.9439
  POSITIVE_LONGITUDE_DIRECTION = EAST
  REFERENCE_LATITUDE = "N/A"
  REFERENCE_LONGITUDE = "N/A"
  SAMPLE_FIRST_PIXEL = 1
  SAMPLE_LAST_PIXEL = 2388
  SAMPLE_PROJECTION_OFFSET = 1239.375
  SECOND_STANDARD_PARALLEL = "N/A"
  WESTERNMOST_LONGITUDE = 254.096
END_OBJECT = IMAGE_MAP_PROJECTION
/* The JPEG2000 image data file associated with this label. */
OBJECT = COMPRESSED_FILE
  FILE_NAME = "H0068_0009_GR3.JP2"
  RECORD_TYPE = UNDEFINED
  FILE_RECORDS = UNK
  ENCODING_TYPE = "JP2"
  INTERCHANGE_FORMAT = BINARY
  UNCOMPRESSED_FILE_NAME = "H0068_0009_GR3.IMG"
  REQUIRED_STORAGE_BYTES = "10485708"
  ^DESCRIPTION = "JP2INFO.TXT"
END_OBJECT = COMPRESSED_FILE
END
