PDS_VERSION_ID = PDS3
/* FILE DATA ELEMENTS */
RECORD_TYPE = STREAM
/* POINTERS TO DATA OBJECTS */
^COMPRESSED_FILE = "H0068_0009_S13.JP2"
/* IDENTIFICATION DATA ELEMENTS */
DATA_SET_ID = "MEX-M-HRSC-5-REFDR-MAPPROJECTED-V3.0"
DATA_SET_NAME = "MARS EXPRESS HRSC MAP PROJECTED REFDR V3.0"
DETECTOR_ID = MEX_HRSC_S1
EVENT_TYPE = "MARS-REGIONAL-STEREO-Vo-Te"
INSTRUMENT_HOST_ID = MEX
INSTRUMENT_HOST_NAME = "MARS EXPRESS"
INSTRUMENT_ID = HRSC
INSTRUMENT_NAME = "HIGH RESOLUTION STEREO CAMERA"
MISSION_NAME = "MARS EXPRESS"
MISSION_PHASE_NAME = MC_Phase_2
PROCESSING_LEVEL_ID = 3
PRODUCT_CREATION_TIME = 2016-03-02T13:15:10.000Z
PRODUCT_ID = "H0068_0009_S13.JP2"
RELEASE_ID = 0003
REVISION_ID = 0000
/* QUALITY DATA ELEMENTS */
DATA_QUALITY_ID = 1
DATA_QUALITY_DESC = "Data calculated based on original SPICE kernels"
/* TIME DATA ELEMENTS */
SPACECRAFT_CLOCK_START_COUNT = "1/0023645171.31240"
SPACECRAFT_CLOCK_STOP_COUNT = "1/0023645584.12322"
START_TIME = 2004-01-31T16:09:42.340Z
STOP_TIME = 2004-01-31T16:13:11.209Z
/* ORBITAL DATA ELEMENTS */
ASCENDING_NODE_LONGITUDE = 227.58
MAXIMUM_RESOLUTION = 88.6
FOOTPRINT_POINT_LATITUDE = (38.7747,38.7989,38.8225,38.8456, 38.8681,38.8901,38.9324,38.9724,39.0103 ,39.0461,39.0798,39.1115,39.1412,39.169 ,39.195,39.2011,39.3603,39.519,39.6768, 39.8339,39.9909,40.1471,40.3025,40.4575 ,40.6117,40.7654,40.9188,41.0713, 41.2231,41.4501,41.6758,41.8257,42.1237 ,42.4194,42.6401,43.0049,43.2944, 43.6538,43.9378,44.2193,44.4972,44.7042 ,44.9758,45.3156,45.5832,45.7837, 46.1149,46.3112,46.427,46.4109,46.3934, 46.3739,46.3399,46.3186,46.2973,46.2686 ,46.2453,46.214,46.1881,46.1601,46.1312 ,46.095,46.0647,46.0329,46.0005,45.9387 ,45.9013,45.8377,45.7995,45.7444, 45.4272,45.2352,44.9772,44.7166,44.3875 ,44.1222,43.8548,43.5853,43.2451, 42.9705,42.695,42.416,42.0647,41.8533, 41.6407,41.355,40.9939,40.7016,40.3327, 40.1838,40.0341,39.8834,39.7319,39.5041 ,39.3511,39.1975,39.0428,38.8878, 38.7326,38.7747)
FOOTPRINT_POINT_LONGITUDE = (258.547,258.354,258.162,257.97,257.779 ,257.589,257.21,256.833,256.459,256.087 ,255.717,255.349,254.983,254.619, 254.256,253.927,253.919,253.91,253.901, 253.892,253.883,253.874,253.865,253.856 ,253.847,253.838,253.829,253.819,253.81 ,253.796,253.781,253.772,253.752, 253.732,253.717,253.692,253.671,253.645 ,253.623,253.602,253.58,253.563,253.54, 253.512,253.488,253.471,253.441,253.422 ,253.804,254.07,254.335,254.602,255.069 ,255.336,255.604,255.939,256.208, 256.544,256.814,257.085,257.356,257.696 ,257.968,258.241,258.515,258.996, 259.272,259.754,260.031,260.404,260.313 ,260.259,260.187,260.116,260.029,259.96 ,259.891,259.822,259.738,259.671, 259.603,259.537,259.455,259.406,259.357 ,259.292,259.212,259.149,259.072, 259.041,259.011,258.981,258.952,258.908 ,258.879,258.85,258.821,258.793,258.764 ,258.547)
ORBIT_NUMBER = 68
ORBITAL_ECCENTRICITY = 0.608
ORBITAL_INCLINATION = 86.57
ORBITAL_SEMIMAJOR_AXIS = 9361.22
PERIAPSIS_ALTITUDE = 270.1
PERIAPSIS_ARGUMENT_ANGLE = 348.25
PERIAPSIS_TIME = 2004-01-31T15:53:43.000Z
SPACECRAFT_ORIENTATION = (0.0,1.0,0.0)
^MEX_ORIENTATION_DESC = "MEX_ORIENTATION_DESC.TXT"
SPACECRAFT_POINTING_MODE = ACROSSTRACK
^MEX_POINTING_DESC = "MEX_POINTING_DESC.TXT"
RIGHT_ASCENSION = -1e+32
DECLINATION = -1e+32
OFFSET_ANGLE = -2.35
SPACECRAFT_SOLAR_DISTANCE = 2.26509e+08
TARGET_NAME = MARS
/* CAMERA DATA ELEMENTS */
DETECTOR_TEMPERATURE = 20.8173
FOCAL_PLANE_TEMPERATURE = 9.6028
INST_CMPRS_NAME = "DISCRETE COSINE TRANSFORMATION (DCT)"
INST_CMPRS_RATIO = 8.09114
INST_CMPRS_QUALITY = 0
INST_CMPRS_QUANTZ_TBL_ID = 0
INSTRUMENT_TEMPERATURE = 15.312
LENS_TEMPERATURE = 10.2145
MACROPIXEL_SIZE = 2
MISSING_FRAMES = 0
PIXEL_SUBSAMPLING_FLAG = N
SIGNAL_CHAIN_ID = 1
/* RADIOMETRIC DATA ELEMENTS */
BANDWIDTH = 180.0
CENTER_FILTER_WAVELENGTH = 677.0
RADIANCE_OFFSET = 4.30262
RADIANCE_SCALING_FACTOR = 0.0278772
REFLECTANCE_SCALING_FACTOR = 0.000746217
MEX:REFLECTANCE_OFFSET = 0.115173
/* IMAGE OBJECT DEFINITIONS */
OBJECT = IMAGE
  INTERCHANGE_FORMAT = BINARY
  LINES = 8766
  LINE_SAMPLES = 4776
  SAMPLE_TYPE = UNSIGNED_INTEGER
  SAMPLE_BITS = 8
  BANDS = 1
  BAND_STORAGE_TYPE = BAND_SEQUENTIAL
  MAXIMUM = 190
  MEAN = 121.291
  MINIMUM = 65
  STANDARD_DEVIATION = 8.74621
END_OBJECT = IMAGE
/* MAP OBJECT DEFINITIONS */
OBJECT = IMAGE_MAP_PROJECTION
  ^DATA_SET_MAP_PROJECTION_CATALOG= "DSMAP.CAT"
  A_AXIS_RADIUS = 3396.0
  B_AXIS_RADIUS = 3396.0
  C_AXIS_RADIUS = 3396.0
  CENTER_LATITUDE = 0.0
  CENTER_LONGITUDE = 257.0
  COORDINATE_SYSTEM_NAME = PLANETOGRAPHIC
  COORDINATE_SYSTEM_TYPE = "BODY-FIXED ROTATING"
  EASTERNMOST_LONGITUDE = 260.404
  FIRST_STANDARD_PARALLEL = "N/A"
  LINE_FIRST_PIXEL = 1
  LINE_LAST_PIXEL = 8766
  LINE_PROJECTION_OFFSET = 54945.75
  MAP_PROJECTION_ROTATION = 0.0
  MAP_PROJECTION_TYPE = SINUSOIDAL
  MAP_RESOLUTION = 1185.42760773333
  MAP_SCALE = 0.05
  MAXIMUM_LATITUDE = 46.427
  MINIMUM_LATITUDE = 38.7326
  POSITIVE_LONGITUDE_DIRECTION = EAST
  REFERENCE_LATITUDE = "N/A"
  REFERENCE_LONGITUDE = "N/A"
  SAMPLE_FIRST_PIXEL = 1
  SAMPLE_LAST_PIXEL = 4776
  SAMPLE_PROJECTION_OFFSET = 2479.25
  SECOND_STANDARD_PARALLEL = "N/A"
  WESTERNMOST_LONGITUDE = 253.422
END_OBJECT = IMAGE_MAP_PROJECTION
/* The JPEG2000 image data file associated with this label. */
OBJECT = COMPRESSED_FILE
  FILE_NAME = "H0068_0009_S13.JP2"
  RECORD_TYPE = UNDEFINED
  FILE_RECORDS = UNK
  ENCODING_TYPE = "JP2"
  INTERCHANGE_FORMAT = BINARY
  UNCOMPRESSED_FILE_NAME = "H0068_0009_S13.IMG"
  REQUIRED_STORAGE_BYTES = "41890296"
  ^DESCRIPTION = "JP2INFO.TXT"
END_OBJECT = COMPRESSED_FILE
END
