PDS_VERSION_ID = PDS3
/* FILE DATA ELEMENTS */
RECORD_TYPE = STREAM
/* POINTERS TO DATA OBJECTS */
^COMPRESSED_FILE = "H0071_0000_S13.JP2"
/* IDENTIFICATION DATA ELEMENTS */
DATA_SET_ID = "MEX-M-HRSC-5-REFDR-MAPPROJECTED-V3.0"
DATA_SET_NAME = "MARS EXPRESS HRSC MAP PROJECTED REFDR V3.0"
DETECTOR_ID = MEX_HRSC_S1
EVENT_TYPE = "MARS-REGIONAL-STEREO-Vo-Fl-La"
INSTRUMENT_HOST_ID = MEX
INSTRUMENT_HOST_NAME = "MARS EXPRESS"
INSTRUMENT_ID = HRSC
INSTRUMENT_NAME = "HIGH RESOLUTION STEREO CAMERA"
MISSION_NAME = "MARS EXPRESS"
MISSION_PHASE_NAME = MC_Phase_2
PROCESSING_LEVEL_ID = 3
PRODUCT_CREATION_TIME = 2016-03-02T13:15:10.000Z
PRODUCT_ID = "H0071_0000_S13.JP2"
RELEASE_ID = 0003
REVISION_ID = 0000
/* QUALITY DATA ELEMENTS */
DATA_QUALITY_ID = 1
DATA_QUALITY_DESC = "Data calculated based on original SPICE kernels"
/* TIME DATA ELEMENTS */
SPACECRAFT_CLOCK_START_COUNT = "1/0023726186.32183"
SPACECRAFT_CLOCK_STOP_COUNT = "1/0023726546.63951"
START_TIME = 2004-02-01T14:37:23.476Z
STOP_TIME = 2004-02-01T14:47:59.214Z
/* ORBITAL DATA ELEMENTS */
ASCENDING_NODE_LONGITUDE = 227.52
MAXIMUM_RESOLUTION = 22.6
FOOTPRINT_POINT_LATITUDE = (-16.1786,-15.416,-14.6584,-13.8977, -13.1379,-12.3788,-11.6226,-10.869, -10.1166,-9.37089,-8.26396,-7.52632, -6.70503,-5.9398,-5.18979,-4.39167, -3.60057,-2.81084,-2.02509,-1.21857, -0.434734,0.804857,2.06357,2.91618, 3.76375,4.60625,5.44381,6.27507,7.10161 ,7.92317,8.73795,9.5474,10.3513,11.1485 ,11.9398,12.7253,13.5069,14.2795, 15.0457,15.8053,16.5582,17.3045,18.0445 ,18.7778,19.5042,20.2244,20.9385, 21.6458,22.3463,22.37,22.3667,22.0076, 21.3051,20.5947,19.8793,19.1564,18.4281 ,17.6921,16.9484,16.199,15.4433,14.6809 ,13.912,13.1336,12.3527,11.5654,10.7712 ,9.9715,9.16463,8.35277,7.53541,6.71204 ,5.88307,5.04916,4.2093,3.37391,2.51821 ,1.67177,0.850835,0.0237112,-0.816812, -2.00438,-2.78952,-3.58007,-4.37109, -5.14087,-5.92189,-7.08034,-7.89503, -8.64274,-9.72958,-10.4747,-11.2266, -11.982,-13.1208,-13.8811,-14.6408, -15.404,-16.1696,-16.1786)
FOOTPRINT_POINT_LONGITUDE = (280.029,280.036,280.04,280.045,280.049 ,280.053,280.055,280.057,280.057, 280.056,280.05,280.041,280.053,280.047, 280.037,280.041,280.035,280.028,280.02, 280.01,279.993,279.978,279.96,279.948, 279.934,279.919,279.904,279.888,279.871 ,279.853,279.835,279.816,279.796, 279.775,279.754,279.732,279.709,279.686 ,279.661,279.636,279.611,279.584, 279.557,279.529,279.5,279.471,279.441, 279.411,279.38,280.052,280.812,281.609, 281.577,281.547,281.518,281.49,281.462, 281.436,281.411,281.387,281.363,281.341 ,281.319,281.299,281.279,281.26,281.242 ,281.225,281.209,281.193,281.178, 281.164,281.151,281.139,281.127,281.113 ,281.104,281.092,281.08,281.069,281.071 ,281.052,281.045,281.039,281.034, 281.029,281.028,281.023,281.032,281.029 ,281.014,281.01,281.008,281.006,281.005 ,281.005,281.004,281.004,281.005, 280.029)
ORBIT_NUMBER = 71
ORBITAL_ECCENTRICITY = 0.608
ORBITAL_INCLINATION = 86.58
ORBITAL_SEMIMAJOR_AXIS = 9351.6
PERIAPSIS_ALTITUDE = 270.45
PERIAPSIS_ARGUMENT_ANGLE = 347.79
PERIAPSIS_TIME = 2004-02-01T14:38:06.000Z
SPACECRAFT_ORIENTATION = (0.0,1.0,0.0)
^MEX_ORIENTATION_DESC = "MEX_ORIENTATION_DESC.TXT"
SPACECRAFT_POINTING_MODE = NADIR
^MEX_POINTING_DESC = "MEX_POINTING_DESC.TXT"
RIGHT_ASCENSION = -1e+32
DECLINATION = -1e+32
OFFSET_ANGLE = -1e+32
SPACECRAFT_SOLAR_DISTANCE = 2.26694e+08
TARGET_NAME = MARS
/* CAMERA DATA ELEMENTS */
DETECTOR_TEMPERATURE = 17.5549
FOCAL_PLANE_TEMPERATURE = 9.195
INST_CMPRS_NAME = "DISCRETE COSINE TRANSFORMATION (DCT)"
INST_CMPRS_RATIO = 9.03337
INST_CMPRS_QUALITY = 0
INST_CMPRS_QUANTZ_TBL_ID = 0
INSTRUMENT_TEMPERATURE = 11.234
LENS_TEMPERATURE = 9.6028
MACROPIXEL_SIZE = 2
MISSING_FRAMES = 3
PIXEL_SUBSAMPLING_FLAG = N
SIGNAL_CHAIN_ID = 1
/* RADIOMETRIC DATA ELEMENTS */
BANDWIDTH = 180.0
CENTER_FILTER_WAVELENGTH = 677.0
RADIANCE_OFFSET = 5.77628
RADIANCE_SCALING_FACTOR = 0.0341179
REFLECTANCE_SCALING_FACTOR = 0.000914751
MEX:REFLECTANCE_OFFSET = 0.15487
/* IMAGE OBJECT DEFINITIONS */
OBJECT = IMAGE
  INTERCHANGE_FORMAT = BINARY
  LINES = 92516
  LINE_SAMPLES = 4554
  SAMPLE_TYPE = UNSIGNED_INTEGER
  SAMPLE_BITS = 8
  BANDS = 1
  BAND_STORAGE_TYPE = BAND_SEQUENTIAL
  MAXIMUM = 235
  MEAN = 158.641
  MINIMUM = 78
  STANDARD_DEVIATION = 15.3209
END_OBJECT = IMAGE
/* MAP OBJECT DEFINITIONS */
OBJECT = IMAGE_MAP_PROJECTION
  ^DATA_SET_MAP_PROJECTION_CATALOG= "DSMAP.CAT"
  A_AXIS_RADIUS = 3396.0
  B_AXIS_RADIUS = 3396.0
  C_AXIS_RADIUS = 3396.0
  CENTER_LATITUDE = 0.0
  CENTER_LONGITUDE = 281.0
  COORDINATE_SYSTEM_NAME = PLANETOGRAPHIC
  COORDINATE_SYSTEM_TYPE = "BODY-FIXED ROTATING"
  EASTERNMOST_LONGITUDE = 281.609
  FIRST_STANDARD_PARALLEL = "N/A"
  LINE_FIRST_PIXEL = 1
  LINE_LAST_PIXEL = 92516
  LINE_PROJECTION_OFFSET = 53144.25
  MAP_PROJECTION_ROTATION = 0.0
  MAP_PROJECTION_TYPE = SINUSOIDAL
  MAP_RESOLUTION = 2370.85521546667
  MAP_SCALE = 0.025
  MAXIMUM_LATITUDE = 22.37
  MINIMUM_LATITUDE = -16.1786
  POSITIVE_LONGITUDE_DIRECTION = EAST
  REFERENCE_LATITUDE = "N/A"
  REFERENCE_LONGITUDE = "N/A"
  SAMPLE_FIRST_PIXEL = 1
  SAMPLE_LAST_PIXEL = 4554
  SAMPLE_PROJECTION_OFFSET = 3365.25
  SECOND_STANDARD_PARALLEL = "N/A"
  WESTERNMOST_LONGITUDE = 279.38
END_OBJECT = IMAGE_MAP_PROJECTION
/* The JPEG2000 image data file associated with this label. */
OBJECT = COMPRESSED_FILE
  FILE_NAME = "H0071_0000_S13.JP2"
  RECORD_TYPE = UNDEFINED
  FILE_RECORDS = UNK
  ENCODING_TYPE = "JP2"
  INTERCHANGE_FORMAT = BINARY
  UNCOMPRESSED_FILE_NAME = "H0071_0000_S13.IMG"
  REQUIRED_STORAGE_BYTES = "421345188"
  ^DESCRIPTION = "JP2INFO.TXT"
END_OBJECT = COMPRESSED_FILE
END
