PDS_VERSION_ID = PDS3
/* FILE DATA ELEMENTS */
RECORD_TYPE = STREAM
/* POINTERS TO DATA OBJECTS */
^COMPRESSED_FILE = "H0071_0000_S23.JP2"
/* IDENTIFICATION DATA ELEMENTS */
DATA_SET_ID = "MEX-M-HRSC-5-REFDR-MAPPROJECTED-V3.0"
DATA_SET_NAME = "MARS EXPRESS HRSC MAP PROJECTED REFDR V3.0"
DETECTOR_ID = MEX_HRSC_S2
EVENT_TYPE = "MARS-REGIONAL-STEREO-Vo-Fl-La"
INSTRUMENT_HOST_ID = MEX
INSTRUMENT_HOST_NAME = "MARS EXPRESS"
INSTRUMENT_ID = HRSC
INSTRUMENT_NAME = "HIGH RESOLUTION STEREO CAMERA"
MISSION_NAME = "MARS EXPRESS"
MISSION_PHASE_NAME = MC_Phase_2
PROCESSING_LEVEL_ID = 3
PRODUCT_CREATION_TIME = 2016-03-02T13:15:10.000Z
PRODUCT_ID = "H0071_0000_S23.JP2"
RELEASE_ID = 0003
REVISION_ID = 0000
/* QUALITY DATA ELEMENTS */
DATA_QUALITY_ID = 1
DATA_QUALITY_DESC = "Data calculated based on original SPICE kernels"
/* TIME DATA ELEMENTS */
SPACECRAFT_CLOCK_START_COUNT = "1/0023726186.32183"
SPACECRAFT_CLOCK_STOP_COUNT = "1/0023726546.63951"
START_TIME = 2004-02-01T14:36:35.484Z
STOP_TIME = 2004-02-01T14:46:13.242Z
/* ORBITAL DATA ELEMENTS */
ASCENDING_NODE_LONGITUDE = 227.52
MAXIMUM_RESOLUTION = 22.7
FOOTPRINT_POINT_LATITUDE = (-16.6338,-15.9243,-15.1999,-14.488, -13.7929,-13.0955,-12.3978,-11.6973, -10.9943,-10.2905,-9.58492,-8.85792, -8.15176,-7.10921,-6.04563,-5.31653, -4.62087,-3.88471,-3.14148,-2.39661, -1.65192,-0.87664,-0.098582,0.672962, 1.44762,2.64889,3.45185,4.27863,5.11025 ,5.96214,6.39245,6.82232,7.68072,8.5384 ,9.82317,10.6777,11.5316,12.3834, 13.2335,14.0821,14.9288,15.7739,16.6168 ,17.4577,18.2963,19.1325,19.9663, 20.7969,21.6242,22.4492,22.4565,22.4575 ,22.4574,21.6328,20.8055,19.9752,19.142 ,18.3047,17.4676,16.2063,15.3631, 14.5175,13.6703,12.8206,11.9688,11.1159 ,10.2612,9.40611,8.54949,7.69103, 6.83192,5.97181,5.11865,4.28743,3.45011 ,2.24513,1.4408,0.655517,-0.124286, -1.27269,-2.01732,-3.1351,-3.87841, -4.97689,-5.68417,-6.40236,-7.1011, -8.12259,-8.82296,-9.57223,-10.2865, -10.9917,-11.6955,-12.3958,-13.0934, -13.7901,-14.8351,-15.9144,-16.6338, -16.6338)
FOOTPRINT_POINT_LONGITUDE = (280.009,280.021,280.028,280.034,280.04 ,280.045,280.05,280.054,280.057,280.06, 280.061,280.056,280.057,280.063,280.061 ,280.054,280.056,280.055,280.051, 280.046,280.04,280.027,280.019,280.012, 280.004,279.991,279.981,279.97,279.959, 279.946,279.94,279.933,279.919,279.905, 279.882,279.865,279.848,279.83,279.812, 279.793,279.773,279.752,279.731,279.709 ,279.687,279.663,279.639,279.615,279.59 ,279.564,280.164,280.782,281.443, 281.417,281.391,281.367,281.344,281.321 ,281.3,281.27,281.251,281.234,281.217, 281.201,281.186,281.171,281.158,281.145 ,281.134,281.122,281.112,281.102, 281.093,281.085,281.074,281.064,281.056 ,281.047,281.041,281.035,281.03,281.024 ,281.021,281.018,281.017,281.013, 281.015,281.025,281.027,281.013,281.01, 281.01,281.01,281.01,281.012,281.013, 281.015,281.018,281.02,280.009)
ORBIT_NUMBER = 71
ORBITAL_ECCENTRICITY = 0.608
ORBITAL_INCLINATION = 86.58
ORBITAL_SEMIMAJOR_AXIS = 9351.6
PERIAPSIS_ALTITUDE = 270.45
PERIAPSIS_ARGUMENT_ANGLE = 347.79
PERIAPSIS_TIME = 2004-02-01T14:38:06.000Z
SPACECRAFT_ORIENTATION = (0.0,1.0,0.0)
^MEX_ORIENTATION_DESC = "MEX_ORIENTATION_DESC.TXT"
SPACECRAFT_POINTING_MODE = NADIR
^MEX_POINTING_DESC = "MEX_POINTING_DESC.TXT"
RIGHT_ASCENSION = -1e+32
DECLINATION = -1e+32
OFFSET_ANGLE = -1e+32
SPACECRAFT_SOLAR_DISTANCE = 2.26694e+08
TARGET_NAME = MARS
/* CAMERA DATA ELEMENTS */
DETECTOR_TEMPERATURE = 18.7783
FOCAL_PLANE_TEMPERATURE = 9.195
INST_CMPRS_NAME = "DISCRETE COSINE TRANSFORMATION (DCT)"
INST_CMPRS_RATIO = 10.8571
INST_CMPRS_QUALITY = 0
INST_CMPRS_QUANTZ_TBL_ID = 0
INSTRUMENT_TEMPERATURE = 11.234
LENS_TEMPERATURE = 9.6028
MACROPIXEL_SIZE = 2
MISSING_FRAMES = 0
PIXEL_SUBSAMPLING_FLAG = N
SIGNAL_CHAIN_ID = 1
/* RADIOMETRIC DATA ELEMENTS */
BANDWIDTH = 178.0
CENTER_FILTER_WAVELENGTH = 679.0
RADIANCE_OFFSET = 5.4373
RADIANCE_SCALING_FACTOR = 0.0345774
REFLECTANCE_SCALING_FACTOR = 0.000941026
MEX:REFLECTANCE_OFFSET = 0.147976
/* IMAGE OBJECT DEFINITIONS */
OBJECT = IMAGE
  INTERCHANGE_FORMAT = BINARY
  LINES = 92516
  LINE_SAMPLES = 4554
  SAMPLE_TYPE = UNSIGNED_INTEGER
  SAMPLE_BITS = 8
  BANDS = 1
  BAND_STORAGE_TYPE = BAND_SEQUENTIAL
  MAXIMUM = 216
  MEAN = 153.599
  MINIMUM = 70
  STANDARD_DEVIATION = 17.6606
END_OBJECT = IMAGE
/* MAP OBJECT DEFINITIONS */
OBJECT = IMAGE_MAP_PROJECTION
  ^DATA_SET_MAP_PROJECTION_CATALOG= "DSMAP.CAT"
  A_AXIS_RADIUS = 3396.0
  B_AXIS_RADIUS = 3396.0
  C_AXIS_RADIUS = 3396.0
  CENTER_LATITUDE = 0.0
  CENTER_LONGITUDE = 281.0
  COORDINATE_SYSTEM_NAME = PLANETOGRAPHIC
  COORDINATE_SYSTEM_TYPE = "BODY-FIXED ROTATING"
  EASTERNMOST_LONGITUDE = 281.443
  FIRST_STANDARD_PARALLEL = "N/A"
  LINE_FIRST_PIXEL = 1
  LINE_LAST_PIXEL = 92516
  LINE_PROJECTION_OFFSET = 53144.25
  MAP_PROJECTION_ROTATION = 0.0
  MAP_PROJECTION_TYPE = SINUSOIDAL
  MAP_RESOLUTION = 2370.85521546667
  MAP_SCALE = 0.025
  MAXIMUM_LATITUDE = 22.4575
  MINIMUM_LATITUDE = -16.6338
  POSITIVE_LONGITUDE_DIRECTION = EAST
  REFERENCE_LATITUDE = "N/A"
  REFERENCE_LONGITUDE = "N/A"
  SAMPLE_FIRST_PIXEL = 1
  SAMPLE_LAST_PIXEL = 4554
  SAMPLE_PROJECTION_OFFSET = 3365.25
  SECOND_STANDARD_PARALLEL = "N/A"
  WESTERNMOST_LONGITUDE = 279.564
END_OBJECT = IMAGE_MAP_PROJECTION
/* The JPEG2000 image data file associated with this label. */
OBJECT = COMPRESSED_FILE
  FILE_NAME = "H0071_0000_S23.JP2"
  RECORD_TYPE = UNDEFINED
  FILE_RECORDS = UNK
  ENCODING_TYPE = "JP2"
  INTERCHANGE_FORMAT = BINARY
  UNCOMPRESSED_FILE_NAME = "H0071_0000_S23.IMG"
  REQUIRED_STORAGE_BYTES = "421345188"
  ^DESCRIPTION = "JP2INFO.TXT"
END_OBJECT = COMPRESSED_FILE
END
