PDS_VERSION_ID = PDS3
/* FILE DATA ELEMENTS */
RECORD_TYPE = STREAM
/* POINTERS TO DATA OBJECTS */
^COMPRESSED_FILE = "H0071_0004_SR3.JP2"
/* IDENTIFICATION DATA ELEMENTS */
DATA_SET_ID = "MEX-M-HRSC-5-REFDR-MAPPROJECTED-V3.0"
DATA_SET_NAME = "MARS EXPRESS HRSC MAP PROJECTED REFDR V3.0"
DETECTOR_ID = MEX_HRSC_SRC
EVENT_TYPE = "MARS-REGIONAL-STEREO-Vo-Fl-La"
INSTRUMENT_HOST_ID = MEX
INSTRUMENT_HOST_NAME = "MARS EXPRESS"
INSTRUMENT_ID = HRSC
INSTRUMENT_NAME = "HIGH RESOLUTION STEREO CAMERA"
MISSION_NAME = "MARS EXPRESS"
MISSION_PHASE_NAME = MC_Phase_2
PROCESSING_LEVEL_ID = 3
PRODUCT_CREATION_TIME = 2016-03-02T13:15:10.000Z
PRODUCT_ID = "H0071_0004_SR3.JP2"
RELEASE_ID = 0003
REVISION_ID = 0000
/* QUALITY DATA ELEMENTS */
DATA_QUALITY_ID = 1
DATA_QUALITY_DESC = "Data calculated based on original SPICE kernels"
/* TIME DATA ELEMENTS */
SPACECRAFT_CLOCK_START_COUNT = "1/0023726186.32183"
SPACECRAFT_CLOCK_STOP_COUNT = "1/0023726546.63951"
IMAGE_TIME = 2004-02-01T14:41:14.249Z
START_TIME = 2004-02-01T14:41:14.247Z
STOP_TIME = 2004-02-01T14:41:14.252Z
/* ORBITAL DATA ELEMENTS */
ASCENDING_NODE_LONGITUDE = 227.52
MAXIMUM_RESOLUTION = 2.75
FOOTPRINT_POINT_LATITUDE = (0.476396,0.478575,0.479919,0.481496, 0.48284,0.484184,0.485992,0.488959, 0.490257,0.492436,0.494661,0.496516, 0.499019,0.500503,0.502172,0.504582, 0.507364,0.509126,0.511397,0.512788, 0.514782,0.516961,0.519047,0.520762, 0.522431,0.523082,0.523084,0.523087, 0.52309,0.523092,0.523095,0.523097, 0.5231,0.523102,0.523106,0.523108, 0.523111,0.523113,0.523117,0.523119, 0.523122,0.523124,0.523126,0.523129, 0.523131,0.523134,0.523137,0.523139, 0.523142,0.523145,0.521245,0.519205, 0.517583,0.515033,0.513271,0.510907, 0.509238,0.506595,0.50488,0.503582, 0.502191,0.49978,0.498018,0.496535, 0.494449,0.49278,0.491482,0.489071, 0.487356,0.485965,0.484389,0.483091, 0.481097,0.479567,0.477203,0.476459, 0.476457,0.476454,0.476451,0.476449, 0.476445,0.476443,0.47644,0.476438, 0.476435,0.476433,0.476431,0.476428, 0.476425,0.476422,0.47642,0.476417, 0.476414,0.476411,0.476408,0.476406, 0.476403,0.4764,0.476398,0.476396)
FOOTPRINT_POINT_LONGITUDE = (280.513,280.513,280.513,280.513, 280.513,280.513,280.513,280.513,280.513 ,280.513,280.513,280.513,280.513, 280.513,280.513,280.513,280.513,280.513 ,280.513,280.513,280.513,280.513, 280.513,280.513,280.513,280.514,280.516 ,280.518,280.52,280.521,280.523,280.525 ,280.527,280.529,280.531,280.533, 280.535,280.537,280.539,280.541,280.543 ,280.544,280.546,280.548,280.549, 280.551,280.553,280.555,280.557,280.559 ,280.56,280.56,280.56,280.56,280.56, 280.56,280.56,280.56,280.56,280.56, 280.56,280.56,280.56,280.56,280.56, 280.56,280.56,280.56,280.56,280.56, 280.56,280.56,280.56,280.56,280.56, 280.559,280.557,280.555,280.553,280.551 ,280.549,280.547,280.545,280.543, 280.541,280.54,280.538,280.536,280.534, 280.532,280.531,280.528,280.526,280.524 ,280.522,280.52,280.518,280.516,280.515 ,280.513)
ORBIT_NUMBER = 71
ORBITAL_ECCENTRICITY = 0.608
ORBITAL_INCLINATION = 86.58
ORBITAL_SEMIMAJOR_AXIS = 9351.6
PERIAPSIS_ALTITUDE = 270.45
PERIAPSIS_ARGUMENT_ANGLE = 347.79
PERIAPSIS_TIME = 2004-02-01T14:38:06.000Z
SPACECRAFT_ORIENTATION = (0.0,1.0,0.0)
^MEX_ORIENTATION_DESC = "MEX_ORIENTATION_DESC.TXT"
SPACECRAFT_POINTING_MODE = NADIR
^MEX_POINTING_DESC = "MEX_POINTING_DESC.TXT"
RIGHT_ASCENSION = -1e+32
DECLINATION = -1e+32
OFFSET_ANGLE = -1e+32
SPACECRAFT_SOLAR_DISTANCE = 2.26694e+08
TARGET_NAME = MARS
/* CAMERA DATA ELEMENTS */
BUFFER_MODE_ID = BUFFER_8
EXPOSURE_DURATION = 5.04
INST_CMPRS_NAME = NONE
INST_CMPRS_RATIO = 1.0
INST_CMPRS_QUALITY = -2147483648
INST_CMPRS_QUANTZ_TBL_ID = -2147483648
INSTRUMENT_TEMPERATURE = 14.2424
MISSING_FRAMES = 0
START_BIT = 0
/* RADIOMETRIC DATA ELEMENTS */
BANDWIDTH = 250.0
CENTER_FILTER_WAVELENGTH = 600.0
RADIANCE_OFFSET = -9.99e+31
RADIANCE_SCALING_FACTOR = -9.99e+31
REFLECTANCE_SCALING_FACTOR = -9.99e+31
MEX:REFLECTANCE_OFFSET = -9.99e+31
/* IMAGE OBJECT DEFINITIONS */
OBJECT = IMAGE
  INTERCHANGE_FORMAT = BINARY
  LINES = 1149
  LINE_SAMPLES = 1159
  SAMPLE_TYPE = UNSIGNED_INTEGER
  SAMPLE_BITS = 8
  BANDS = 1
  BAND_STORAGE_TYPE = BAND_SEQUENTIAL
  MAXIMUM = 9112
  MEAN = 8578.46
  MINIMUM = 7218
  STANDARD_DEVIATION = 100.996
END_OBJECT = IMAGE
/* MAP OBJECT DEFINITIONS */
OBJECT = IMAGE_MAP_PROJECTION
  ^DATA_SET_MAP_PROJECTION_CATALOG= "DSMAP.CAT"
  A_AXIS_RADIUS = 3396.19
  B_AXIS_RADIUS = 3396.19
  C_AXIS_RADIUS = 3396.19
  CENTER_LATITUDE = 0.0
  CENTER_LONGITUDE = 281.0
  COORDINATE_SYSTEM_NAME = PLANETOGRAPHIC
  COORDINATE_SYSTEM_TYPE = "BODY-FIXED ROTATING"
  EASTERNMOST_LONGITUDE = 280.56
  FIRST_STANDARD_PARALLEL = "N/A"
  LINE_FIRST_PIXEL = 1
  LINE_LAST_PIXEL = 1149
  LINE_PROJECTION_OFFSET = 12423.0
  MAP_PROJECTION_ROTATION = 0.0
  MAP_PROJECTION_TYPE = SINUSOIDAL
  MAP_RESOLUTION = 23709.8786048756
  MAP_SCALE = 0.0025
  MAXIMUM_LATITUDE = 0.523145
  MINIMUM_LATITUDE = 0.476396
  POSITIVE_LONGITUDE_DIRECTION = EAST
  REFERENCE_LATITUDE = "N/A"
  REFERENCE_LONGITUDE = "N/A"
  SAMPLE_FIRST_PIXEL = 1
  SAMPLE_LAST_PIXEL = 1159
  SAMPLE_PROJECTION_OFFSET = 11565.0
  SECOND_STANDARD_PARALLEL = "N/A"
  WESTERNMOST_LONGITUDE = 280.513
END_OBJECT = IMAGE_MAP_PROJECTION
/* The JPEG2000 image data file associated with this label. */
OBJECT = COMPRESSED_FILE
  FILE_NAME = "H0071_0004_SR3.JP2"
  RECORD_TYPE = UNDEFINED
  FILE_RECORDS = UNK
  ENCODING_TYPE = "JP2"
  INTERCHANGE_FORMAT = BINARY
  UNCOMPRESSED_FILE_NAME = "H0071_0004_SR3.IMG"
  REQUIRED_STORAGE_BYTES = "1351394"
  ^DESCRIPTION = "JP2INFO.TXT"
END_OBJECT = COMPRESSED_FILE
END
