PDS_VERSION_ID = PDS3
/* FILE DATA ELEMENTS */
RECORD_TYPE = STREAM
/* POINTERS TO DATA OBJECTS */
^COMPRESSED_FILE = "H0072_0000_GR3.JP2"
/* IDENTIFICATION DATA ELEMENTS */
DATA_SET_ID = "MEX-M-HRSC-5-REFDR-MAPPROJECTED-V3.0"
DATA_SET_NAME = "MARS EXPRESS HRSC MAP PROJECTED REFDR V3.0"
DETECTOR_ID = MEX_HRSC_GREEN
EVENT_TYPE = "MARS-LOCAL-COLOR-Im-Lc-Tc"
INSTRUMENT_HOST_ID = MEX
INSTRUMENT_HOST_NAME = "MARS EXPRESS"
INSTRUMENT_ID = HRSC
INSTRUMENT_NAME = "HIGH RESOLUTION STEREO CAMERA"
MISSION_NAME = "MARS EXPRESS"
MISSION_PHASE_NAME = MC_Phase_2
PROCESSING_LEVEL_ID = 3
PRODUCT_CREATION_TIME = 2016-03-02T13:15:10.000Z
PRODUCT_ID = "H0072_0000_GR3.JP2"
RELEASE_ID = 0003
REVISION_ID = 0000
/* QUALITY DATA ELEMENTS */
DATA_QUALITY_ID = 1
DATA_QUALITY_DESC = "Data calculated based on original SPICE kernels"
/* TIME DATA ELEMENTS */
SPACECRAFT_CLOCK_START_COUNT = "1/0023753324.32969"
SPACECRAFT_CLOCK_STOP_COUNT = "1/0023753728.05252"
START_TIME = 2004-02-01T22:09:39.994Z
STOP_TIME = 2004-02-01T22:15:05.187Z
/* ORBITAL DATA ELEMENTS */
ASCENDING_NODE_LONGITUDE = 227.5
MAXIMUM_RESOLUTION = 62.2
FOOTPRINT_POINT_LATITUDE = (-25.3627,-25.3073,-25.2736,-25.2345, -24.6979,-24.1959,-23.702,-23.2087, -22.1037,-21.3937,-20.9221,-20.4523, -19.7621,-19.302,-18.8412,-18.3901, -17.7152,-17.2652,-16.8148,-16.3685, -15.9306,-15.2718,-14.8316,-14.3894, -13.7271,-13.2834,-12.8421,-12.4021, -11.9614,-11.298,-10.8558,-10.413, -9.9705,-9.52716,-9.08284,-8.63826, -8.18286,-7.73764,-7.29201,-6.84054, -6.15182,-5.6925,-4.99135,-4.28879, -3.81561,-3.34134,-2.86297,-2.37555, -1.8859,-1.31701,-1.3666,-1.40939, -1.45252,-1.48904,-1.52062,-1.79657, -2.28186,-2.76494,-3.48174,-3.95247, -4.65734,-5.12096,-5.81684,-6.27303, -6.73054,-7.19,-7.63962,-8.30851, -9.20743,-10.3017,-10.962,-11.4023, -12.0628,-12.5042,-13.1645,-13.6061, -14.2662,-14.7062,-15.1466,-15.5868, -16.0268,-16.4667,-16.913,-17.589, -18.0394,-18.49,-18.9405,-19.4005, -19.8622,-20.3241,-20.7866,-21.2597, -21.733,-22.2073,-23.318,-23.8116, -24.3082,-24.8112,-25.3191,-25.3627)
FOOTPRINT_POINT_LONGITUDE = (175.855,176.783,177.319,177.918, 178.369,178.287,178.171,178.11,177.878, 177.756,177.698,177.662,177.555,177.486 ,177.44,177.423,177.365,177.327,177.297 ,177.239,177.193,177.156,177.144, 177.159,177.163,177.188,177.186,177.169 ,177.161,177.172,177.179,177.19,177.2, 177.216,177.241,177.267,177.3,177.33, 177.363,177.403,177.474,177.522,177.608 ,177.705,177.768,177.837,177.919, 177.998,178.088,178.018,177.399,176.827 ,176.25,175.74,175.284,174.844,174.794, 174.752,174.691,174.653,174.602,174.571 ,174.528,174.505,174.475,174.434,174.39 ,174.341,174.287,174.332,174.338, 174.343,174.352,174.348,174.36,174.352, 174.365,174.377,174.381,174.387,174.395 ,174.402,174.42,174.448,174.475,174.495 ,174.521,174.545,174.573,174.618, 174.638,174.68,174.726,174.771,174.895, 174.947,175.006,175.065,175.126, 175.855)
ORBIT_NUMBER = 72
ORBITAL_ECCENTRICITY = 0.607
ORBITAL_INCLINATION = 86.59
ORBITAL_SEMIMAJOR_AXIS = 9338.81
PERIAPSIS_ALTITUDE = 270.87
PERIAPSIS_ARGUMENT_ANGLE = 347.61
PERIAPSIS_TIME = 2004-02-01T22:12:46.000Z
SPACECRAFT_ORIENTATION = (0.0,-1.0,0.0)
^MEX_ORIENTATION_DESC = "MEX_ORIENTATION_DESC.TXT"
SPACECRAFT_POINTING_MODE = INERT
^MEX_POINTING_DESC = "MEX_POINTING_DESC.TXT"
RIGHT_ASCENSION = 39.75
DECLINATION = 5.035
OFFSET_ANGLE = -1e+32
SPACECRAFT_SOLAR_DISTANCE = 2.26756e+08
TARGET_NAME = MARS
/* CAMERA DATA ELEMENTS */
DETECTOR_TEMPERATURE = 18.3705
FOCAL_PLANE_TEMPERATURE = 9.8067
INST_CMPRS_NAME = "DISCRETE COSINE TRANSFORMATION (DCT)"
INST_CMPRS_RATIO = 20.3757
INST_CMPRS_QUALITY = 0
INST_CMPRS_QUANTZ_TBL_ID = 0
INSTRUMENT_TEMPERATURE = 11.6418
LENS_TEMPERATURE = 10.2145
MACROPIXEL_SIZE = 4
MISSING_FRAMES = 83
PIXEL_SUBSAMPLING_FLAG = N
SIGNAL_CHAIN_ID = 2
/* RADIOMETRIC DATA ELEMENTS */
BANDWIDTH = 88.0
CENTER_FILTER_WAVELENGTH = 538.0
RADIANCE_OFFSET = 3.0822
RADIANCE_SCALING_FACTOR = 0.00451853
REFLECTANCE_SCALING_FACTOR = 0.000200033
MEX:REFLECTANCE_OFFSET = 0.136447
/* IMAGE OBJECT DEFINITIONS */
OBJECT = IMAGE
  INTERCHANGE_FORMAT = BINARY
  LINES = 28407
  LINE_SAMPLES = 5765
  SAMPLE_TYPE = UNSIGNED_INTEGER
  SAMPLE_BITS = 8
  BANDS = 1
  BAND_STORAGE_TYPE = BAND_SEQUENTIAL
  MAXIMUM = 166
  MEAN = 130.038
  MINIMUM = 105
  STANDARD_DEVIATION = 6.97444
END_OBJECT = IMAGE
/* MAP OBJECT DEFINITIONS */
OBJECT = IMAGE_MAP_PROJECTION
  ^DATA_SET_MAP_PROJECTION_CATALOG= "DSMAP.CAT"
  A_AXIS_RADIUS = 3396.0
  B_AXIS_RADIUS = 3396.0
  C_AXIS_RADIUS = 3396.0
  CENTER_LATITUDE = 0.0
  CENTER_LONGITUDE = 176.0
  COORDINATE_SYSTEM_NAME = PLANETOGRAPHIC
  COORDINATE_SYSTEM_TYPE = "BODY-FIXED ROTATING"
  EASTERNMOST_LONGITUDE = 178.369
  FIRST_STANDARD_PARALLEL = "N/A"
  LINE_FIRST_PIXEL = 1
  LINE_LAST_PIXEL = 28407
  LINE_PROJECTION_OFFSET = -2866.625
  MAP_PROJECTION_ROTATION = 0.0
  MAP_PROJECTION_TYPE = SINUSOIDAL
  MAP_RESOLUTION = 1185.42760773333
  MAP_SCALE = 0.05
  MAXIMUM_LATITUDE = -1.31701
  MINIMUM_LATITUDE = -25.3627
  POSITIVE_LONGITUDE_DIRECTION = EAST
  REFERENCE_LATITUDE = "N/A"
  REFERENCE_LONGITUDE = "N/A"
  SAMPLE_FIRST_PIXEL = 1
  SAMPLE_LAST_PIXEL = 5765
  SAMPLE_PROJECTION_OFFSET = 2005.125
  SECOND_STANDARD_PARALLEL = "N/A"
  WESTERNMOST_LONGITUDE = 174.287
END_OBJECT = IMAGE_MAP_PROJECTION
/* The JPEG2000 image data file associated with this label. */
OBJECT = COMPRESSED_FILE
  FILE_NAME = "H0072_0000_GR3.JP2"
  RECORD_TYPE = UNDEFINED
  FILE_RECORDS = UNK
  ENCODING_TYPE = "JP2"
  INTERCHANGE_FORMAT = BINARY
  UNCOMPRESSED_FILE_NAME = "H0072_0000_GR3.IMG"
  REQUIRED_STORAGE_BYTES = "163795180"
  ^DESCRIPTION = "JP2INFO.TXT"
END_OBJECT = COMPRESSED_FILE
END
