PDS_VERSION_ID = PDS3
/* FILE DATA ELEMENTS */
RECORD_TYPE = STREAM
/* POINTERS TO DATA OBJECTS */
^COMPRESSED_FILE = "H0097_0000_IR3.JP2"
/* IDENTIFICATION DATA ELEMENTS */
DATA_SET_ID = "MEX-M-HRSC-5-REFDR-MAPPROJECTED-V3.0"
DATA_SET_NAME = "MARS EXPRESS HRSC MAP PROJECTED REFDR V3.0"
DETECTOR_ID = MEX_HRSC_IR
EVENT_TYPE = "MARS-REGIONAL-STEREO-Vo-Te-Fl"
INSTRUMENT_HOST_ID = MEX
INSTRUMENT_HOST_NAME = "MARS EXPRESS"
INSTRUMENT_ID = HRSC
INSTRUMENT_NAME = "HIGH RESOLUTION STEREO CAMERA"
MISSION_NAME = "MARS EXPRESS"
MISSION_PHASE_NAME = MC_Phase_2
PROCESSING_LEVEL_ID = 3
PRODUCT_CREATION_TIME = 2016-03-02T13:15:10.000Z
PRODUCT_ID = "H0097_0000_IR3.JP2"
RELEASE_ID = 0003
REVISION_ID = 0000
/* QUALITY DATA ELEMENTS */
DATA_QUALITY_ID = 1
DATA_QUALITY_DESC = "Data calculated based on original SPICE kernels"
/* TIME DATA ELEMENTS */
SPACECRAFT_CLOCK_START_COUNT = "1/0024435619.56199"
SPACECRAFT_CLOCK_STOP_COUNT = "1/0024436001.17361"
START_TIME = 2004-02-09T19:41:12.155Z
STOP_TIME = 2004-02-09T19:48:43.671Z
/* ORBITAL DATA ELEMENTS */
ASCENDING_NODE_LONGITUDE = 226.98
MAXIMUM_RESOLUTION = 44.3
FOOTPRINT_POINT_LATITUDE = (-16.2356,-16.2337,-15.9593,-15.4402, -14.662,-14.1443,-13.628,-13.112, -12.3125,-11.7775,-11.2433,-10.7104, -10.1782,-9.64789,-9.11946,-8.59138, -7.77466,-6.94492,-6.39702,-5.83378, -4.99561,-4.43133,-3.8608,-3.28515, -2.71225,-1.83541,-1.24841,-0.348902, 0.254161,0.866392,1.49296,2.10873, 2.72286,3.33332,3.94075,4.54448,5.14639 ,5.74478,6.34103,6.93434,7.52498, 8.11204,8.69625,9.27747,9.855,10.4293, 11.0005,11.5685,12.1328,12.171,12.1708, 12.1696,11.8859,11.3197,10.7506,10.1778 ,9.60142,9.0225,8.43931,7.85394,7.2647, 6.67293,6.07769,5.47987,4.87809,4.27407 ,3.66718,3.05745,2.44482,1.82981, 0.90103,0.280603,-0.324778,-0.923174, -1.50165,-2.09009,-2.67566,-3.24946, -3.8253,-4.67841,-5.80032,-6.36035, -7.20157,-7.76071,-8.30479,-8.83447, -9.35367,-9.88372,-10.4152,-10.9479, -11.4812,-12.0155,-12.5514,-13.0843, -13.6007,-14.118,-14.6359,-15.4117, -15.9299,-16.2356)
FOOTPRINT_POINT_LONGITUDE = (278.945,278.582,278.332,278.335, 278.339,278.341,278.342,278.344,278.345 ,278.345,278.344,278.344,278.342, 278.341,278.338,278.332,278.325,278.324 ,278.321,278.319,278.309,278.306, 278.299,278.292,278.284,278.271,278.261 ,278.246,278.236,278.222,278.214, 278.202,278.19,278.178,278.164,278.15, 278.137,278.122,278.107,278.092,278.077 ,278.061,278.045,278.028,278.011, 277.993,277.975,277.957,277.938,278.651 ,278.985,279.382,279.634,279.62,279.605 ,279.592,279.578,279.565,279.553, 279.541,279.529,279.517,279.506,279.496 ,279.486,279.476,279.466,279.457, 279.448,279.439,279.427,279.419,279.412 ,279.401,279.39,279.382,279.375,279.369 ,279.364,279.357,279.347,279.343, 279.346,279.347,279.342,279.331,279.324 ,279.32,279.317,279.315,279.312,279.309 ,279.307,279.304,279.302,279.301, 279.299,279.295,279.293,278.945)
ORBIT_NUMBER = 97
ORBITAL_ECCENTRICITY = 0.608
ORBITAL_INCLINATION = 86.58
ORBITAL_SEMIMAJOR_AXIS = 9347.87
PERIAPSIS_ALTITUDE = 269.21
PERIAPSIS_ARGUMENT_ANGLE = 343.35
PERIAPSIS_TIME = 2004-02-09T19:40:48.000Z
SPACECRAFT_ORIENTATION = (0.0,1.0,0.0)
^MEX_ORIENTATION_DESC = "MEX_ORIENTATION_DESC.TXT"
SPACECRAFT_POINTING_MODE = ACROSSTRACK
^MEX_POINTING_DESC = "MEX_POINTING_DESC.TXT"
RIGHT_ASCENSION = -1e+32
DECLINATION = -1e+32
OFFSET_ANGLE = -0.79
SPACECRAFT_SOLAR_DISTANCE = 2.28297e+08
TARGET_NAME = MARS
/* CAMERA DATA ELEMENTS */
DETECTOR_TEMPERATURE = 17.5549
FOCAL_PLANE_TEMPERATURE = 9.195
INST_CMPRS_NAME = "DISCRETE COSINE TRANSFORMATION (DCT)"
INST_CMPRS_RATIO = 10.4192
INST_CMPRS_QUALITY = 0
INST_CMPRS_QUANTZ_TBL_ID = 0
INSTRUMENT_TEMPERATURE = 11.4379
LENS_TEMPERATURE = 9.3989
MACROPIXEL_SIZE = 4
MISSING_FRAMES = 0
PIXEL_SUBSAMPLING_FLAG = N
SIGNAL_CHAIN_ID = 2
/* RADIOMETRIC DATA ELEMENTS */
BANDWIDTH = 81.0
CENTER_FILTER_WAVELENGTH = 955.5
RADIANCE_OFFSET = 1.29697
RADIANCE_SCALING_FACTOR = 0.00929204
REFLECTANCE_SCALING_FACTOR = 0.00104481
MEX:REFLECTANCE_OFFSET = 0.145834
/* IMAGE OBJECT DEFINITIONS */
OBJECT = IMAGE
  INTERCHANGE_FORMAT = BINARY
  LINES = 33755
  LINE_SAMPLES = 1941
  SAMPLE_TYPE = UNSIGNED_INTEGER
  SAMPLE_BITS = 8
  BANDS = 1
  BAND_STORAGE_TYPE = BAND_SEQUENTIAL
  MAXIMUM = 297
  MEAN = 149.011
  MINIMUM = 99
  STANDARD_DEVIATION = 109.875
END_OBJECT = IMAGE
/* MAP OBJECT DEFINITIONS */
OBJECT = IMAGE_MAP_PROJECTION
  ^DATA_SET_MAP_PROJECTION_CATALOG= "DSMAP.CAT"
  A_AXIS_RADIUS = 3396.0
  B_AXIS_RADIUS = 3396.0
  C_AXIS_RADIUS = 3396.0
  CENTER_LATITUDE = 0.0
  CENTER_LONGITUDE = 279.0
  COORDINATE_SYSTEM_NAME = PLANETOGRAPHIC
  COORDINATE_SYSTEM_TYPE = "BODY-FIXED ROTATING"
  EASTERNMOST_LONGITUDE = 279.634
  FIRST_STANDARD_PARALLEL = "N/A"
  LINE_FIRST_PIXEL = 1
  LINE_LAST_PIXEL = 33755
  LINE_PROJECTION_OFFSET = 14455.375
  MAP_PROJECTION_ROTATION = 0.0
  MAP_PROJECTION_TYPE = SINUSOIDAL
  MAP_RESOLUTION = 1185.42760773333
  MAP_SCALE = 0.05
  MAXIMUM_LATITUDE = 12.171
  MINIMUM_LATITUDE = -16.2356
  POSITIVE_LONGITUDE_DIRECTION = EAST
  REFERENCE_LATITUDE = "N/A"
  REFERENCE_LONGITUDE = "N/A"
  SAMPLE_FIRST_PIXEL = 1
  SAMPLE_LAST_PIXEL = 1941
  SAMPLE_PROJECTION_OFFSET = 1216.125
  SECOND_STANDARD_PARALLEL = "N/A"
  WESTERNMOST_LONGITUDE = 277.938
END_OBJECT = IMAGE_MAP_PROJECTION
/* The JPEG2000 image data file associated with this label. */
OBJECT = COMPRESSED_FILE
  FILE_NAME = "H0097_0000_IR3.JP2"
  RECORD_TYPE = UNDEFINED
  FILE_RECORDS = UNK
  ENCODING_TYPE = "JP2"
  INTERCHANGE_FORMAT = BINARY
  UNCOMPRESSED_FILE_NAME = "H0097_0000_IR3.IMG"
  REQUIRED_STORAGE_BYTES = "65537865"
  ^DESCRIPTION = "JP2INFO.TXT"
END_OBJECT = COMPRESSED_FILE
END
