PDS_VERSION_ID = PDS3
/* FILE DATA ELEMENTS */
RECORD_TYPE = STREAM
/* POINTERS TO DATA OBJECTS */
^COMPRESSED_FILE = "H0100_0005_SR3.JP2"
/* IDENTIFICATION DATA ELEMENTS */
DATA_SET_ID = "MEX-M-HRSC-5-REFDR-MAPPROJECTED-V3.0"
DATA_SET_NAME = "MARS EXPRESS HRSC MAP PROJECTED REFDR V3.0"
DETECTOR_ID = MEX_HRSC_SRC
EVENT_TYPE = "MARS-REGIONAL-STEREO-Fl-Pf-Mw"
INSTRUMENT_HOST_ID = MEX
INSTRUMENT_HOST_NAME = "MARS EXPRESS"
INSTRUMENT_ID = HRSC
INSTRUMENT_NAME = "HIGH RESOLUTION STEREO CAMERA"
MISSION_NAME = "MARS EXPRESS"
MISSION_PHASE_NAME = MC_Phase_2
PROCESSING_LEVEL_ID = 3
PRODUCT_CREATION_TIME = 2016-03-02T13:15:10.000Z
PRODUCT_ID = "H0100_0005_SR3.JP2"
RELEASE_ID = 0003
REVISION_ID = 0000
/* QUALITY DATA ELEMENTS */
DATA_QUALITY_ID = 1
DATA_QUALITY_DESC = "Data calculated based on original SPICE kernels"
/* TIME DATA ELEMENTS */
SPACECRAFT_CLOCK_START_COUNT = "1/0024517347.56180"
SPACECRAFT_CLOCK_STOP_COUNT = "1/0024517679.46371"
IMAGE_TIME = 2004-02-10T18:23:31.625Z
START_TIME = 2004-02-10T18:23:31.624Z
STOP_TIME = 2004-02-10T18:23:31.627Z
/* ORBITAL DATA ELEMENTS */
ASCENDING_NODE_LONGITUDE = 226.92
MAXIMUM_RESOLUTION = 2.51
FOOTPRINT_POINT_LATITUDE = (-22.2605,-22.2589,-22.257,-22.2556, -22.2535,-22.2505,-22.2492,-22.2467, -22.2447,-22.2427,-22.2406,-22.2394, -22.2376,-22.2364,-22.2344,-22.233, -22.2318,-22.2303,-22.2279,-22.2258, -22.2236,-22.2224,-22.221,-22.219, -22.219,-22.2191,-22.2191,-22.2191, -22.2191,-22.2191,-22.2191,-22.2192, -22.2192,-22.2192,-22.2192,-22.2192, -22.2192,-22.2192,-22.2192,-22.2193, -22.2193,-22.2193,-22.2193,-22.2193, -22.2193,-22.2193,-22.2194,-22.2194, -22.2194,-22.2194,-22.2219,-22.2249, -22.2264,-22.2277,-22.2297,-22.2322, -22.2334,-22.235,-22.2365,-22.2384, -22.2408,-22.2422,-22.2445,-22.2463, -22.2478,-22.2491,-22.2504,-22.2522, -22.2539,-22.2565,-22.2578,-22.2596, -22.2617,-22.2621,-22.262,-22.262, -22.262,-22.262,-22.262,-22.262,-22.262 ,-22.2619,-22.2619,-22.2619,-22.2619, -22.2619,-22.2619,-22.2619,-22.2618, -22.2618,-22.2618,-22.2618,-22.2618, -22.2618,-22.2618,-22.2618,-22.2617, -22.2617,-22.2617,-22.2605)
FOOTPRINT_POINT_LONGITUDE = (306.297,306.297,306.297,306.297, 306.297,306.297,306.297,306.297,306.297 ,306.297,306.297,306.297,306.297, 306.297,306.298,306.298,306.298,306.298 ,306.298,306.298,306.298,306.298, 306.298,306.298,306.3,306.302,306.304, 306.306,306.308,306.31,306.311,306.313, 306.315,306.316,306.318,306.32,306.321, 306.323,306.325,306.327,306.328,306.33, 306.332,306.333,306.335,306.337,306.338 ,306.34,306.342,306.344,306.344,306.344 ,306.344,306.344,306.344,306.344, 306.344,306.344,306.344,306.344,306.344 ,306.344,306.344,306.344,306.344, 306.344,306.344,306.344,306.344,306.344 ,306.344,306.344,306.344,306.342, 306.341,306.339,306.337,306.336,306.334 ,306.332,306.331,306.329,306.327, 306.325,306.324,306.322,306.32,306.318, 306.316,306.315,306.313,306.312,306.31, 306.309,306.307,306.305,306.303,306.3, 306.298,306.297)
ORBIT_NUMBER = 100
ORBITAL_ECCENTRICITY = 0.608
ORBITAL_INCLINATION = 86.6
ORBITAL_SEMIMAJOR_AXIS = 9336.32
PERIAPSIS_ALTITUDE = 269.01
PERIAPSIS_ARGUMENT_ANGLE = 342.82
PERIAPSIS_TIME = 2004-02-10T18:24:48.000Z
SPACECRAFT_ORIENTATION = (0.0,1.0,0.0)
^MEX_ORIENTATION_DESC = "MEX_ORIENTATION_DESC.TXT"
SPACECRAFT_POINTING_MODE = ACROSSTRACK
^MEX_POINTING_DESC = "MEX_POINTING_DESC.TXT"
RIGHT_ASCENSION = -1e+32
DECLINATION = -1e+32
OFFSET_ANGLE = -1.48
SPACECRAFT_SOLAR_DISTANCE = 2.28482e+08
TARGET_NAME = MARS
/* CAMERA DATA ELEMENTS */
BUFFER_MODE_ID = BUFFER_8
EXPOSURE_DURATION = 3.528
INST_CMPRS_NAME = NONE
INST_CMPRS_RATIO = 1.0
INST_CMPRS_QUALITY = -2147483648
INST_CMPRS_QUANTZ_TBL_ID = -2147483648
INSTRUMENT_TEMPERATURE = 8.18182
MISSING_FRAMES = 0
START_BIT = 0
/* RADIOMETRIC DATA ELEMENTS */
BANDWIDTH = 250.0
CENTER_FILTER_WAVELENGTH = 600.0
RADIANCE_OFFSET = -9.99e+31
RADIANCE_SCALING_FACTOR = -9.99e+31
REFLECTANCE_SCALING_FACTOR = -9.99e+31
MEX:REFLECTANCE_OFFSET = -9.99e+31
/* IMAGE OBJECT DEFINITIONS */
OBJECT = IMAGE
  INTERCHANGE_FORMAT = BINARY
  LINES = 1071
  LINE_SAMPLES = 1084
  SAMPLE_TYPE = UNSIGNED_INTEGER
  SAMPLE_BITS = 8
  BANDS = 1
  BAND_STORAGE_TYPE = BAND_SEQUENTIAL
  MAXIMUM = 4493
  MEAN = 4121.31
  MINIMUM = 3501
  STANDARD_DEVIATION = 75.9964
END_OBJECT = IMAGE
/* MAP OBJECT DEFINITIONS */
OBJECT = IMAGE_MAP_PROJECTION
  ^DATA_SET_MAP_PROJECTION_CATALOG= "DSMAP.CAT"
  A_AXIS_RADIUS = 3396.19
  B_AXIS_RADIUS = 3396.19
  C_AXIS_RADIUS = 3396.19
  CENTER_LATITUDE = 0.0
  CENTER_LONGITUDE = 306.0
  COORDINATE_SYSTEM_NAME = PLANETOGRAPHIC
  COORDINATE_SYSTEM_TYPE = "BODY-FIXED ROTATING"
  EASTERNMOST_LONGITUDE = 306.344
  FIRST_STANDARD_PARALLEL = "N/A"
  LINE_FIRST_PIXEL = 1
  LINE_LAST_PIXEL = 1071
  LINE_PROJECTION_OFFSET = -526628.0
  MAP_PROJECTION_ROTATION = 0.0
  MAP_PROJECTION_TYPE = SINUSOIDAL
  MAP_RESOLUTION = 23709.8786048756
  MAP_SCALE = 0.0025
  MAXIMUM_LATITUDE = -22.219
  MINIMUM_LATITUDE = -22.2621
  POSITIVE_LONGITUDE_DIRECTION = EAST
  REFERENCE_LATITUDE = "N/A"
  REFERENCE_LONGITUDE = "N/A"
  SAMPLE_FIRST_PIXEL = 1
  SAMPLE_LAST_PIXEL = 1084
  SAMPLE_PROJECTION_OFFSET = -6494.0
  SECOND_STANDARD_PARALLEL = "N/A"
  WESTERNMOST_LONGITUDE = 306.297
END_OBJECT = IMAGE_MAP_PROJECTION
/* The JPEG2000 image data file associated with this label. */
OBJECT = COMPRESSED_FILE
  FILE_NAME = "H0100_0005_SR3.JP2"
  RECORD_TYPE = UNDEFINED
  FILE_RECORDS = UNK
  ENCODING_TYPE = "JP2"
  INTERCHANGE_FORMAT = BINARY
  UNCOMPRESSED_FILE_NAME = "H0100_0005_SR3.IMG"
  REQUIRED_STORAGE_BYTES = "1179392"
  ^DESCRIPTION = "JP2INFO.TXT"
END_OBJECT = COMPRESSED_FILE
END
