PDS_VERSION_ID = PDS3
/* FILE DATA ELEMENTS */
RECORD_TYPE = STREAM
/* POINTERS TO DATA OBJECTS */
^COMPRESSED_FILE = "H0100_0009_S23.JP2"
/* IDENTIFICATION DATA ELEMENTS */
DATA_SET_ID = "MEX-M-HRSC-5-REFDR-MAPPROJECTED-V3.0"
DATA_SET_NAME = "MARS EXPRESS HRSC MAP PROJECTED REFDR V3.0"
DETECTOR_ID = MEX_HRSC_S2
EVENT_TYPE = "MARS-REGIONAL-STEREO-Fl-Mw-Ts"
INSTRUMENT_HOST_ID = MEX
INSTRUMENT_HOST_NAME = "MARS EXPRESS"
INSTRUMENT_ID = HRSC
INSTRUMENT_NAME = "HIGH RESOLUTION STEREO CAMERA"
MISSION_NAME = "MARS EXPRESS"
MISSION_PHASE_NAME = MC_Phase_2
PROCESSING_LEVEL_ID = 3
PRODUCT_CREATION_TIME = 2016-03-02T13:15:10.000Z
PRODUCT_ID = "H0100_0009_S23.JP2"
RELEASE_ID = 0003
REVISION_ID = 0000
/* QUALITY DATA ELEMENTS */
DATA_QUALITY_ID = 1
DATA_QUALITY_DESC = "Data calculated based on original SPICE kernels"
/* TIME DATA ELEMENTS */
SPACECRAFT_CLOCK_START_COUNT = "1/0024517974.57147"
SPACECRAFT_CLOCK_STOP_COUNT = "1/0024518456.45479"
START_TIME = 2004-02-10T18:33:03.826Z
STOP_TIME = 2004-02-10T18:37:27.208Z
/* ORBITAL DATA ELEMENTS */
ASCENDING_NODE_LONGITUDE = 226.92
MAXIMUM_RESOLUTION = 42.7
FOOTPRINT_POINT_LATITUDE = (18.1068,18.1043,18.1294,18.6447,18.99, 19.5079,19.8497,20.1915,20.5313,20.8723 ,21.2115,21.5517,21.8906,22.2293, 22.5674,22.9049,23.2419,23.5784,23.9141 ,24.2486,24.7496,25.089,25.4234,25.9262 ,26.4194,26.7552,27.084,27.5761,27.9051 ,28.396,28.8896,29.3776,29.7036,30.0252 ,30.3476,30.6712,30.9937,31.316,31.6381 ,32.1113,32.43,32.748,33.2254,33.5426, 33.8571,34.1745,34.6572,34.6579,34.6698 ,34.6683,34.6687,34.6666,34.5069, 34.1916,33.874,33.5582,33.2404,32.9217, 32.445,32.126,31.8061,31.4843,31.1637, 30.8417,30.518,29.87,29.3855,29.058, 28.7323,28.4045,28.0796,27.7525,27.4239 ,27.0948,26.7647,26.2674,25.9336, 25.6015,25.2679,24.9383,24.6001,24.2665 ,23.9288,23.4243,22.9195,22.5823, 22.2443,21.9061,21.5673,21.2277,20.8875 ,20.5466,20.2052,19.8638,19.5221, 19.1789,18.8357,18.4926,18.1471, 18.1068)
FOOTPRINT_POINT_LONGITUDE = (306.592,305.738,305.367,305.35,305.337 ,305.317,305.305,305.292,305.28,305.267 ,305.254,305.241,305.228,305.214, 305.201,305.187,305.173,305.159,305.145 ,305.131,305.11,305.093,305.078,305.055 ,305.033,305.016,305.001,304.979, 304.963,304.939,304.914,304.89,304.873, 304.858,304.841,304.824,304.807,304.79, 304.772,304.749,304.731,304.714,304.686 ,304.668,304.651,304.632,304.764, 305.189,305.906,306.33,306.919,307.64, 307.968,307.946,307.924,307.903,307.882 ,307.862,307.832,307.813,307.794, 307.774,307.756,307.738,307.719,307.684 ,307.659,307.642,307.625,307.609, 307.594,307.579,307.563,307.548,307.533 ,307.511,307.496,307.482,307.468, 307.455,307.441,307.428,307.414,307.395 ,307.376,307.364,307.353,307.341,307.33 ,307.319,307.308,307.297,307.286, 307.276,307.266,307.255,307.246,307.236 ,307.226,306.592)
ORBIT_NUMBER = 100
ORBITAL_ECCENTRICITY = 0.608
ORBITAL_INCLINATION = 86.6
ORBITAL_SEMIMAJOR_AXIS = 9336.32
PERIAPSIS_ALTITUDE = 269.01
PERIAPSIS_ARGUMENT_ANGLE = 342.82
PERIAPSIS_TIME = 2004-02-10T18:24:48.000Z
SPACECRAFT_ORIENTATION = (0.0,1.0,0.0)
^MEX_ORIENTATION_DESC = "MEX_ORIENTATION_DESC.TXT"
SPACECRAFT_POINTING_MODE = ACROSSTRACK
^MEX_POINTING_DESC = "MEX_POINTING_DESC.TXT"
RIGHT_ASCENSION = -1e+32
DECLINATION = -1e+32
OFFSET_ANGLE = -1.48
SPACECRAFT_SOLAR_DISTANCE = 2.28482e+08
TARGET_NAME = MARS
/* CAMERA DATA ELEMENTS */
DETECTOR_TEMPERATURE = 20.8173
FOCAL_PLANE_TEMPERATURE = 8.9911
INST_CMPRS_NAME = "DISCRETE COSINE TRANSFORMATION (DCT)"
INST_CMPRS_RATIO = 9.75487
INST_CMPRS_QUALITY = 0
INST_CMPRS_QUANTZ_TBL_ID = 0
INSTRUMENT_TEMPERATURE = 13.4769
LENS_TEMPERATURE = 9.3989
MACROPIXEL_SIZE = 2
MISSING_FRAMES = 0
PIXEL_SUBSAMPLING_FLAG = N
SIGNAL_CHAIN_ID = 1
/* RADIOMETRIC DATA ELEMENTS */
BANDWIDTH = 178.0
CENTER_FILTER_WAVELENGTH = 679.0
RADIANCE_OFFSET = 4.14334
RADIANCE_SCALING_FACTOR = 0.0258873
REFLECTANCE_SCALING_FACTOR = 0.000715686
MEX:REFLECTANCE_OFFSET = 0.114548
/* IMAGE OBJECT DEFINITIONS */
OBJECT = IMAGE
  INTERCHANGE_FORMAT = BINARY
  LINES = 19529
  LINE_SAMPLES = 3756
  SAMPLE_TYPE = UNSIGNED_INTEGER
  SAMPLE_BITS = 8
  BANDS = 1
  BAND_STORAGE_TYPE = BAND_SEQUENTIAL
  MAXIMUM = 157
  MEAN = 109.836
  MINIMUM = 56
  STANDARD_DEVIATION = 19.0351
END_OBJECT = IMAGE
/* MAP OBJECT DEFINITIONS */
OBJECT = IMAGE_MAP_PROJECTION
  ^DATA_SET_MAP_PROJECTION_CATALOG= "DSMAP.CAT"
  A_AXIS_RADIUS = 3396.0
  B_AXIS_RADIUS = 3396.0
  C_AXIS_RADIUS = 3396.0
  CENTER_LATITUDE = 0.0
  CENTER_LONGITUDE = 306.0
  COORDINATE_SYSTEM_NAME = PLANETOGRAPHIC
  COORDINATE_SYSTEM_TYPE = "BODY-FIXED ROTATING"
  EASTERNMOST_LONGITUDE = 307.968
  FIRST_STANDARD_PARALLEL = "N/A"
  LINE_FIRST_PIXEL = 1
  LINE_LAST_PIXEL = 19529
  LINE_PROJECTION_OFFSET = 40982.75
  MAP_PROJECTION_ROTATION = 0.0
  MAP_PROJECTION_TYPE = SINUSOIDAL
  MAP_RESOLUTION = 1185.42760773333
  MAP_SCALE = 0.05
  MAXIMUM_LATITUDE = 34.6698
  MINIMUM_LATITUDE = 18.1043
  POSITIVE_LONGITUDE_DIRECTION = EAST
  REFERENCE_LATITUDE = "N/A"
  REFERENCE_LONGITUDE = "N/A"
  SAMPLE_FIRST_PIXEL = 1
  SAMPLE_LAST_PIXEL = 3756
  SAMPLE_PROJECTION_OFFSET = 1587.75
  SECOND_STANDARD_PARALLEL = "N/A"
  WESTERNMOST_LONGITUDE = 304.632
END_OBJECT = IMAGE_MAP_PROJECTION
/* The JPEG2000 image data file associated with this label. */
OBJECT = COMPRESSED_FILE
  FILE_NAME = "H0100_0009_S23.JP2"
  RECORD_TYPE = UNDEFINED
  FILE_RECORDS = UNK
  ENCODING_TYPE = "JP2"
  INTERCHANGE_FORMAT = BINARY
  UNCOMPRESSED_FILE_NAME = "H0100_0009_S23.IMG"
  REQUIRED_STORAGE_BYTES = "73373460"
  ^DESCRIPTION = "JP2INFO.TXT"
END_OBJECT = COMPRESSED_FILE
END
