PDS_VERSION_ID = PDS3
/* FILE DATA ELEMENTS */
RECORD_TYPE = STREAM
/* POINTERS TO DATA OBJECTS */
^COMPRESSED_FILE = "H0100_0010_SR3.JP2"
/* IDENTIFICATION DATA ELEMENTS */
DATA_SET_ID = "MEX-M-HRSC-5-REFDR-MAPPROJECTED-V3.0"
DATA_SET_NAME = "MARS EXPRESS HRSC MAP PROJECTED REFDR V3.0"
DETECTOR_ID = MEX_HRSC_SRC
EVENT_TYPE = "MARS-REGIONAL-STEREO-Fl-Mw-Ts"
INSTRUMENT_HOST_ID = MEX
INSTRUMENT_HOST_NAME = "MARS EXPRESS"
INSTRUMENT_ID = HRSC
INSTRUMENT_NAME = "HIGH RESOLUTION STEREO CAMERA"
MISSION_NAME = "MARS EXPRESS"
MISSION_PHASE_NAME = MC_Phase_2
PROCESSING_LEVEL_ID = 3
PRODUCT_CREATION_TIME = 2016-03-02T13:15:10.000Z
PRODUCT_ID = "H0100_0010_SR3.JP2"
RELEASE_ID = 0003
REVISION_ID = 0000
/* QUALITY DATA ELEMENTS */
DATA_QUALITY_ID = 1
DATA_QUALITY_DESC = "Data calculated based on original SPICE kernels"
/* TIME DATA ELEMENTS */
SPACECRAFT_CLOCK_START_COUNT = "1/0024517974.57147"
SPACECRAFT_CLOCK_STOP_COUNT = "1/0024518456.45479"
IMAGE_TIME = 2004-02-10T18:37:28.454Z
START_TIME = 2004-02-10T18:37:28.196Z
STOP_TIME = 2004-02-10T18:37:28.712Z
/* ORBITAL DATA ELEMENTS */
ASCENDING_NODE_LONGITUDE = 226.92
MAXIMUM_RESOLUTION = 7.122
FOOTPRINT_POINT_LATITUDE = (30.004,30.0076,30.0122,30.0186,30.0228 ,30.0298,30.035,30.041,30.0459,30.0504, 30.0538,30.0584,30.0637,30.0689,30.0747 ,30.0782,30.0845,30.0887,30.0942,30.099 ,30.1034,30.1066,30.1104,30.1176, 30.1228,30.1237,30.1237,30.1237,30.1237 ,30.1237,30.1237,30.1237,30.1237, 30.1237,30.1237,30.1237,30.1237,30.1237 ,30.1237,30.1237,30.1237,30.1236, 30.1236,30.1236,30.1236,30.1236,30.1236 ,30.1236,30.1236,30.1236,30.1186, 30.1131,30.1097,30.1036,30.0967,30.0914 ,30.087,30.0806,30.077,30.0718,30.066, 30.0621,30.0589,30.0548,30.0511,30.0455 ,30.0391,30.0339,30.0293,30.0258, 30.0205,30.0147,30.0073,30.0041,30.0023 ,30.0023,30.0023,30.0023,30.0023, 30.0023,30.0023,30.0023,30.0023,30.0024 ,30.0024,30.0024,30.0024,30.0024, 30.0024,30.0024,30.0024,30.0024,30.0024 ,30.0024,30.0024,30.0024,30.0024, 30.0024,30.0024,30.004)
FOOTPRINT_POINT_LONGITUDE = (306.22,306.22,306.22,306.22,306.22, 306.22,306.22,306.22,306.22,306.22, 306.22,306.22,306.22,306.22,306.22, 306.22,306.22,306.22,306.22,306.22, 306.22,306.22,306.22,306.22,306.22, 306.225,306.23,306.236,306.241,306.247, 306.252,306.258,306.264,306.269,306.275 ,306.28,306.286,306.291,306.297,306.303 ,306.308,306.314,306.319,306.325,306.33 ,306.336,306.342,306.347,306.353, 306.362,306.362,306.362,306.362,306.362 ,306.362,306.362,306.362,306.362, 306.362,306.362,306.362,306.362,306.362 ,306.362,306.362,306.362,306.362, 306.362,306.362,306.362,306.362,306.362 ,306.362,306.362,306.357,306.352, 306.346,306.341,306.335,306.329,306.324 ,306.318,306.313,306.307,306.302, 306.296,306.291,306.285,306.279,306.274 ,306.268,306.263,306.257,306.252, 306.247,306.24,306.235,306.229,306.225, 306.22)
ORBIT_NUMBER = 100
ORBITAL_ECCENTRICITY = 0.608
ORBITAL_INCLINATION = 86.6
ORBITAL_SEMIMAJOR_AXIS = 9336.32
PERIAPSIS_ALTITUDE = 269.01
PERIAPSIS_ARGUMENT_ANGLE = 342.82
PERIAPSIS_TIME = 2004-02-10T18:24:48.000Z
SPACECRAFT_ORIENTATION = (0.0,1.0,0.0)
^MEX_ORIENTATION_DESC = "MEX_ORIENTATION_DESC.TXT"
SPACECRAFT_POINTING_MODE = ACROSSTRACK
^MEX_POINTING_DESC = "MEX_POINTING_DESC.TXT"
RIGHT_ASCENSION = -1e+32
DECLINATION = -1e+32
OFFSET_ANGLE = -1.48
SPACECRAFT_SOLAR_DISTANCE = 2.28482e+08
TARGET_NAME = MARS
/* CAMERA DATA ELEMENTS */
BUFFER_MODE_ID = BUFFER_8
EXPOSURE_DURATION = 516.096
INST_CMPRS_NAME = NONE
INST_CMPRS_RATIO = 1.0
INST_CMPRS_QUALITY = -2147483648
INST_CMPRS_QUANTZ_TBL_ID = -2147483648
INSTRUMENT_TEMPERATURE = 17.2727
MISSING_FRAMES = 0
START_BIT = 0
/* RADIOMETRIC DATA ELEMENTS */
BANDWIDTH = 250.0
CENTER_FILTER_WAVELENGTH = 600.0
RADIANCE_OFFSET = -9.99e+31
RADIANCE_SCALING_FACTOR = -9.99e+31
REFLECTANCE_SCALING_FACTOR = -9.99e+31
MEX:REFLECTANCE_OFFSET = -9.99e+31
/* IMAGE OBJECT DEFINITIONS */
OBJECT = IMAGE
  INTERCHANGE_FORMAT = BINARY
  LINES = 1490
  LINE_SAMPLES = 1504
  SAMPLE_TYPE = UNSIGNED_INTEGER
  SAMPLE_BITS = 8
  BANDS = 1
  BAND_STORAGE_TYPE = BAND_SEQUENTIAL
  MAXIMUM = 12774
  MEAN = 2206.07
  MINIMUM = 0
  STANDARD_DEVIATION = 4382.71
END_OBJECT = IMAGE
/* MAP OBJECT DEFINITIONS */
OBJECT = IMAGE_MAP_PROJECTION
  ^DATA_SET_MAP_PROJECTION_CATALOG= "DSMAP.CAT"
  A_AXIS_RADIUS = 3396.19
  B_AXIS_RADIUS = 3396.19
  C_AXIS_RADIUS = 3396.19
  CENTER_LATITUDE = 0.0
  CENTER_LONGITUDE = 306.0
  COORDINATE_SYSTEM_NAME = PLANETOGRAPHIC
  COORDINATE_SYSTEM_TYPE = "BODY-FIXED ROTATING"
  EASTERNMOST_LONGITUDE = 306.362
  FIRST_STANDARD_PARALLEL = "N/A"
  LINE_FIRST_PIXEL = 1
  LINE_LAST_PIXEL = 1490
  LINE_PROJECTION_OFFSET = 356962.0
  MAP_PROJECTION_ROTATION = 0.0
  MAP_PROJECTION_TYPE = SINUSOIDAL
  MAP_RESOLUTION = 11854.9393024378
  MAP_SCALE = 0.005
  MAXIMUM_LATITUDE = 30.1237
  MINIMUM_LATITUDE = 30.0023
  POSITIVE_LONGITUDE_DIRECTION = EAST
  REFERENCE_LATITUDE = "N/A"
  REFERENCE_LONGITUDE = "N/A"
  SAMPLE_FIRST_PIXEL = 1
  SAMPLE_LAST_PIXEL = 1504
  SAMPLE_PROJECTION_OFFSET = -2232.0
  SECOND_STANDARD_PARALLEL = "N/A"
  WESTERNMOST_LONGITUDE = 306.22
END_OBJECT = IMAGE_MAP_PROJECTION
/* The JPEG2000 image data file associated with this label. */
OBJECT = COMPRESSED_FILE
  FILE_NAME = "H0100_0010_SR3.JP2"
  RECORD_TYPE = UNDEFINED
  FILE_RECORDS = UNK
  ENCODING_TYPE = "JP2"
  INTERCHANGE_FORMAT = BINARY
  UNCOMPRESSED_FILE_NAME = "H0100_0010_SR3.IMG"
  REQUIRED_STORAGE_BYTES = "2260512"
  ^DESCRIPTION = "JP2INFO.TXT"
END_OBJECT = COMPRESSED_FILE
END
