PDS_VERSION_ID = PDS3
/* FILE DATA ELEMENTS */
RECORD_TYPE = STREAM
/* POINTERS TO DATA OBJECTS */
^COMPRESSED_FILE = "H0103_0000_BL3.JP2"
/* IDENTIFICATION DATA ELEMENTS */
DATA_SET_ID = "MEX-M-HRSC-5-REFDR-MAPPROJECTED-V3.0"
DATA_SET_NAME = "MARS EXPRESS HRSC MAP PROJECTED REFDR V3.0"
DETECTOR_ID = MEX_HRSC_BLUE
EVENT_TYPE = "MARS-GLOBAL-COLOR-Gl-Pf-La"
INSTRUMENT_HOST_ID = MEX
INSTRUMENT_HOST_NAME = "MARS EXPRESS"
INSTRUMENT_ID = HRSC
INSTRUMENT_NAME = "HIGH RESOLUTION STEREO CAMERA"
MISSION_NAME = "MARS EXPRESS"
MISSION_PHASE_NAME = MC_Phase_2
PROCESSING_LEVEL_ID = 3
PRODUCT_CREATION_TIME = 2016-03-02T19:38:26.000Z
PRODUCT_ID = "H0103_0000_BL3.JP2"
RELEASE_ID = 0004
REVISION_ID = 0000
/* QUALITY DATA ELEMENTS */
DATA_QUALITY_ID = 1
DATA_QUALITY_DESC = "Data calculated based on original SPICE kernels"
/* TIME DATA ELEMENTS */
SPACECRAFT_CLOCK_START_COUNT = "1/0024597477.57307"
SPACECRAFT_CLOCK_STOP_COUNT = "1/0024598387.15100"
START_TIME = 2004-02-11T16:43:56.789Z
STOP_TIME = 2004-02-11T16:50:56.297Z
/* ORBITAL DATA ELEMENTS */
ASCENDING_NODE_LONGITUDE = 226.86
MAXIMUM_RESOLUTION = 47.6
FOOTPRINT_POINT_LATITUDE = (-86.7081,-86.5991,-86.4229,-86.2829, -86.0182,-85.8311,-85.5029,-85.146, -84.7661,-84.3675,-83.9535,-83.526, -83.088,-82.704,-82.8738,-83.0292, -83.1693,-83.2939,-83.4019,-83.4942, -83.5692,-83.6263,-83.6654,-83.6872, -83.6912,-83.6785,-83.649,-83.6029, -83.5409,-83.4637,-83.3725,-83.2662, -83.1491,-83.0201,-82.8806,-82.7308, -82.5719,-82.2299,-81.9547,-81.4662, -80.9481,-80.5189,-80.0783,-79.6291, -79.1722,-78.7112,-78.2453,-77.7778, -77.3089,-76.8392,-76.8106,-77.0062, -77.1167,-77.2681,-77.4325,-77.5177, -77.5847,-77.6499,-77.7251,-77.7586, -78.294,-78.8351,-79.3825,-79.936, -80.4953,-81.061,-81.6328,-82.2108, -82.7958,-83.3865,-83.9849,-84.2874, -84.5906,-84.8961,-85.2023,-85.5103, -85.8198,-86.1309,-86.4436,-86.7575, -87.0724,-87.3889,-87.7058,-88.0227, -88.3391,-88.6529,-88.9594,-89.2479, -89.4831,-89.5621,-89.4139,-89.1477, -88.8408,-88.5166,-88.1835,-87.8446, -87.5014,-87.1541,-86.8033,-86.7081)
FOOTPRINT_POINT_LONGITUDE = (169.621,178.043,185.771,190.182, 196.521,200.05,205.055,209.353,213.049, 216.24,219.011,221.432,223.559,225.43, 227.809,230.288,232.864,235.528,238.277 ,241.089,243.962,246.882,249.833, 252.795,255.755,258.691,261.592,264.445 ,267.233,269.945,272.572,275.111, 277.549,279.887,282.124,284.258,286.289 ,290.056,292.633,296.498,299.87,302.266 ,304.42,306.362,308.116,309.705,311.147 ,312.462,313.661,314.759,316.227, 318.429,319.812,321.927,324.637,326.296 ,327.788,329.488,331.971,333.418, 333.338,333.246,333.142,333.025,332.892 ,332.736,332.562,332.357,332.112, 331.822,331.45,331.224,330.981,330.69, 330.383,330.027,329.618,329.14,328.572, 327.89,327.074,326.028,324.688,322.918, 320.458,316.814,310.982,300.39,278.525, 238.421,203.566,186.379,177.734,172.749 ,169.545,167.33,165.709,164.481,163.526 ,169.621)
ORBIT_NUMBER = 103
ORBITAL_ECCENTRICITY = 0.608
ORBITAL_INCLINATION = 86.6
ORBITAL_SEMIMAJOR_AXIS = 9333.55
PERIAPSIS_ALTITUDE = 269.05
PERIAPSIS_ARGUMENT_ANGLE = 342.26
PERIAPSIS_TIME = 2004-02-11T17:08:37.000Z
SPACECRAFT_ORIENTATION = (0.0,1.0,0.0)
^MEX_ORIENTATION_DESC = "MEX_ORIENTATION_DESC.TXT"
SPACECRAFT_POINTING_MODE = NADIR
^MEX_POINTING_DESC = "MEX_POINTING_DESC.TXT"
RIGHT_ASCENSION = -1e+32
DECLINATION = -1e+32
OFFSET_ANGLE = -1e+32
SPACECRAFT_SOLAR_DISTANCE = 2.28666e+08
TARGET_NAME = MARS
/* CAMERA DATA ELEMENTS */
DETECTOR_TEMPERATURE = 18.1666
FOCAL_PLANE_TEMPERATURE = 9.195
INST_CMPRS_NAME = "DISCRETE COSINE TRANSFORMATION (DCT)"
INST_CMPRS_RATIO = 7.85389
INST_CMPRS_QUALITY = 0
INST_CMPRS_QUANTZ_TBL_ID = 0
INSTRUMENT_TEMPERATURE = 11.234
LENS_TEMPERATURE = 9.3989
MACROPIXEL_SIZE = 1
MISSING_FRAMES = 0
PIXEL_SUBSAMPLING_FLAG = N
SIGNAL_CHAIN_ID = 1
/* RADIOMETRIC DATA ELEMENTS */
BANDWIDTH = 76.0
CENTER_FILTER_WAVELENGTH = 444.0
RADIANCE_OFFSET = 0.118426
RADIANCE_SCALING_FACTOR = 0.00371532
REFLECTANCE_SCALING_FACTOR = 0.00019959
MEX:REFLECTANCE_OFFSET = 0.00636194
/* IMAGE OBJECT DEFINITIONS */
OBJECT = IMAGE
  INTERCHANGE_FORMAT = BINARY
  LINES = 13306
  LINE_SAMPLES = 18975
  SAMPLE_TYPE = UNSIGNED_INTEGER
  SAMPLE_BITS = 8
  BANDS = 1
  BAND_STORAGE_TYPE = BAND_SEQUENTIAL
  MAXIMUM = 142
  MEAN = 59.3698
  MINIMUM = 10
  STANDARD_DEVIATION = 18.355
END_OBJECT = IMAGE
/* MAP OBJECT DEFINITIONS */
OBJECT = IMAGE_MAP_PROJECTION
  ^DATA_SET_MAP_PROJECTION_CATALOG= "DSMAP.CAT"
  A_AXIS_RADIUS = 3396.0
  B_AXIS_RADIUS = 3396.0
  C_AXIS_RADIUS = 3396.0
  CENTER_LATITUDE = 0.0
  CENTER_LONGITUDE = 306.0
  COORDINATE_SYSTEM_NAME = PLANETOGRAPHIC
  COORDINATE_SYSTEM_TYPE = "BODY-FIXED ROTATING"
  EASTERNMOST_LONGITUDE = 333.418
  FIRST_STANDARD_PARALLEL = "N/A"
  LINE_FIRST_PIXEL = 1
  LINE_LAST_PIXEL = 13306
  LINE_PROJECTION_OFFSET = -90966.0
  MAP_PROJECTION_ROTATION = 0.0
  MAP_PROJECTION_TYPE = SINUSOIDAL
  MAP_RESOLUTION = 1185.42760773333
  MAP_SCALE = 0.05
  MAXIMUM_LATITUDE = -76.81059999999999
  MINIMUM_LATITUDE = -89.5621
  POSITIVE_LONGITUDE_DIRECTION = EAST
  REFERENCE_LATITUDE = "N/A"
  REFERENCE_LONGITUDE = "N/A"
  SAMPLE_FIRST_PIXEL = 1
  SAMPLE_LAST_PIXEL = 18975
  SAMPLE_PROJECTION_OFFSET = 12141.0
  SECOND_STANDARD_PARALLEL = "N/A"
  WESTERNMOST_LONGITUDE = 163.526
END_OBJECT = IMAGE_MAP_PROJECTION
/* The JPEG2000 image data file associated with this label. */
OBJECT = COMPRESSED_FILE
  FILE_NAME = "H0103_0000_BL3.JP2"
  RECORD_TYPE = UNDEFINED
  FILE_RECORDS = UNK
  ENCODING_TYPE = "JP2"
  INTERCHANGE_FORMAT = BINARY
  UNCOMPRESSED_FILE_NAME = "H0103_0000_BL3.IMG"
  REQUIRED_STORAGE_BYTES = "252538275"
  ^DESCRIPTION = "JP2INFO.TXT"
END_OBJECT = COMPRESSED_FILE
END
