PDS_VERSION_ID = PDS3
/* FILE DATA ELEMENTS */
RECORD_TYPE = STREAM
/* POINTERS TO DATA OBJECTS */
^COMPRESSED_FILE = "H0103_0012_SR3.JP2"
/* IDENTIFICATION DATA ELEMENTS */
DATA_SET_ID = "MEX-M-HRSC-5-REFDR-MAPPROJECTED-V3.0"
DATA_SET_NAME = "MARS EXPRESS HRSC MAP PROJECTED REFDR V3.0"
DETECTOR_ID = MEX_HRSC_SRC
EVENT_TYPE = "MARS-REGIONAL-MAPPING-Fl-Mw"
INSTRUMENT_HOST_ID = MEX
INSTRUMENT_HOST_NAME = "MARS EXPRESS"
INSTRUMENT_ID = HRSC
INSTRUMENT_NAME = "HIGH RESOLUTION STEREO CAMERA"
MISSION_NAME = "MARS EXPRESS"
MISSION_PHASE_NAME = MC_Phase_2
PROCESSING_LEVEL_ID = 3
PRODUCT_CREATION_TIME = 2016-03-02T19:38:26.000Z
PRODUCT_ID = "H0103_0012_SR3.JP2"
RELEASE_ID = 0004
REVISION_ID = 0000
/* QUALITY DATA ELEMENTS */
DATA_QUALITY_ID = 1
DATA_QUALITY_DESC = "Data calculated based on original SPICE kernels"
/* TIME DATA ELEMENTS */
SPACECRAFT_CLOCK_START_COUNT = "1/0024599406.57157"
SPACECRAFT_CLOCK_STOP_COUNT = "1/0024599857.13084"
IMAGE_TIME = 2004-02-11T17:12:02.401Z
START_TIME = 2004-02-11T17:12:02.399Z
STOP_TIME = 2004-02-11T17:12:02.402Z
/* ORBITAL DATA ELEMENTS */
ASCENDING_NODE_LONGITUDE = 226.86
MAXIMUM_RESOLUTION = 2.847
FOOTPRINT_POINT_LATITUDE = (-3.86301,-3.86099,-3.85854,-3.85686, -3.85556,-3.85344,-3.8507,-3.84902, -3.84647,-3.84454,-3.84286,-3.84142, -3.83969,-3.83723,-3.83468,-3.83242, -3.83011,-3.828,-3.82646,-3.82434, -3.82174,-3.8204,-3.81871,-3.81717, -3.81515,-3.81515,-3.81515,-3.81515, -3.81514,-3.81514,-3.81514,-3.81513, -3.81513,-3.81513,-3.81513,-3.81512, -3.81512,-3.81512,-3.81511,-3.81511, -3.81511,-3.81511,-3.8151,-3.8151, -3.8151,-3.8151,-3.81509,-3.81509, -3.81509,-3.81509,-3.81768,-3.81941, -3.82187,-3.82418,-3.82548,-3.82673, -3.82937,-3.83106,-3.83336,-3.83562, -3.83726,-3.83851,-3.84039,-3.84164, -3.84395,-3.84534,-3.84726,-3.84933, -3.85058,-3.85212,-3.85414,-3.85559, -3.85741,-3.85977,-3.86121,-3.86352, -3.86352,-3.86353,-3.86353,-3.86353, -3.86354,-3.86354,-3.86354,-3.86354, -3.86355,-3.86355,-3.86355,-3.86356, -3.86356,-3.86356,-3.86356,-3.86357, -3.86357,-3.86357,-3.86358,-3.86358, -3.86358,-3.86358,-3.86359,-3.86301)
FOOTPRINT_POINT_LONGITUDE = (333.931,333.931,333.931,333.931, 333.931,333.931,333.931,333.931,333.931 ,333.931,333.931,333.931,333.931, 333.931,333.931,333.931,333.931,333.931 ,333.931,333.931,333.931,333.931, 333.931,333.931,333.931,333.933,333.936 ,333.938,333.939,333.941,333.943, 333.945,333.947,333.949,333.952,333.954 ,333.956,333.957,333.959,333.961, 333.963,333.965,333.967,333.968,333.97, 333.972,333.974,333.976,333.978,333.98, 333.98,333.98,333.98,333.98,333.98, 333.98,333.98,333.98,333.98,333.98, 333.98,333.98,333.98,333.98,333.98, 333.98,333.98,333.98,333.98,333.98, 333.98,333.98,333.98,333.98,333.98, 333.98,333.978,333.976,333.974,333.972, 333.97,333.968,333.966,333.965,333.963, 333.961,333.958,333.956,333.954,333.951 ,333.949,333.947,333.945,333.943, 333.941,333.939,333.937,333.935,333.934 ,333.931)
ORBIT_NUMBER = 103
ORBITAL_ECCENTRICITY = 0.608
ORBITAL_INCLINATION = 86.6
ORBITAL_SEMIMAJOR_AXIS = 9333.55
PERIAPSIS_ALTITUDE = 269.05
PERIAPSIS_ARGUMENT_ANGLE = 342.26
PERIAPSIS_TIME = 2004-02-11T17:08:37.000Z
SPACECRAFT_ORIENTATION = (0.0,1.0,0.0)
^MEX_ORIENTATION_DESC = "MEX_ORIENTATION_DESC.TXT"
SPACECRAFT_POINTING_MODE = NADIR
^MEX_POINTING_DESC = "MEX_POINTING_DESC.TXT"
RIGHT_ASCENSION = -1e+32
DECLINATION = -1e+32
OFFSET_ANGLE = -1e+32
SPACECRAFT_SOLAR_DISTANCE = 2.28666e+08
TARGET_NAME = MARS
/* CAMERA DATA ELEMENTS */
BUFFER_MODE_ID = BUFFER_8
EXPOSURE_DURATION = 3.528
INST_CMPRS_NAME = NONE
INST_CMPRS_RATIO = 1.0
INST_CMPRS_QUALITY = -2147483648
INST_CMPRS_QUANTZ_TBL_ID = -2147483648
INSTRUMENT_TEMPERATURE = 20.2597
MISSING_FRAMES = 0
START_BIT = 0
/* RADIOMETRIC DATA ELEMENTS */
BANDWIDTH = 250.0
CENTER_FILTER_WAVELENGTH = 600.0
RADIANCE_OFFSET = -9.99e+31
RADIANCE_SCALING_FACTOR = -9.99e+31
REFLECTANCE_SCALING_FACTOR = -9.99e+31
MEX:REFLECTANCE_OFFSET = -9.99e+31
/* IMAGE OBJECT DEFINITIONS */
OBJECT = IMAGE
  INTERCHANGE_FORMAT = BINARY
  LINES = 1191
  LINE_SAMPLES = 1202
  SAMPLE_TYPE = UNSIGNED_INTEGER
  SAMPLE_BITS = 8
  BANDS = 1
  BAND_STORAGE_TYPE = BAND_SEQUENTIAL
  MAXIMUM = 5225
  MEAN = 4669.81
  MINIMUM = 3908
  STANDARD_DEVIATION = 116.477
END_OBJECT = IMAGE
/* MAP OBJECT DEFINITIONS */
OBJECT = IMAGE_MAP_PROJECTION
  ^DATA_SET_MAP_PROJECTION_CATALOG= "DSMAP.CAT"
  A_AXIS_RADIUS = 3396.19
  B_AXIS_RADIUS = 3396.19
  C_AXIS_RADIUS = 3396.19
  CENTER_LATITUDE = 0.0
  CENTER_LONGITUDE = 334.0
  COORDINATE_SYSTEM_NAME = PLANETOGRAPHIC
  COORDINATE_SYSTEM_TYPE = "BODY-FIXED ROTATING"
  EASTERNMOST_LONGITUDE = 333.98
  FIRST_STANDARD_PARALLEL = "N/A"
  LINE_FIRST_PIXEL = 1
  LINE_LAST_PIXEL = 1191
  LINE_PROJECTION_OFFSET = -90434.0
  MAP_PROJECTION_ROTATION = 0.0
  MAP_PROJECTION_TYPE = SINUSOIDAL
  MAP_RESOLUTION = 23709.8786048756
  MAP_SCALE = 0.0025
  MAXIMUM_LATITUDE = -3.81509
  MINIMUM_LATITUDE = -3.86359
  POSITIVE_LONGITUDE_DIRECTION = EAST
  REFERENCE_LATITUDE = "N/A"
  REFERENCE_LONGITUDE = "N/A"
  SAMPLE_FIRST_PIXEL = 1
  SAMPLE_LAST_PIXEL = 1202
  SAMPLE_PROJECTION_OFFSET = 1646.0
  SECOND_STANDARD_PARALLEL = "N/A"
  WESTERNMOST_LONGITUDE = 333.931
END_OBJECT = IMAGE_MAP_PROJECTION
/* The JPEG2000 image data file associated with this label. */
OBJECT = COMPRESSED_FILE
  FILE_NAME = "H0103_0012_SR3.JP2"
  RECORD_TYPE = UNDEFINED
  FILE_RECORDS = UNK
  ENCODING_TYPE = "JP2"
  INTERCHANGE_FORMAT = BINARY
  UNCOMPRESSED_FILE_NAME = "H0103_0012_SR3.IMG"
  REQUIRED_STORAGE_BYTES = "1450814"
  ^DESCRIPTION = "JP2INFO.TXT"
END_OBJECT = COMPRESSED_FILE
END
