PDS_VERSION_ID = PDS3
/* FILE DATA ELEMENTS */
RECORD_TYPE = STREAM
/* POINTERS TO DATA OBJECTS */
^COMPRESSED_FILE = "H0143_0017_SR3.JP2"
/* IDENTIFICATION DATA ELEMENTS */
DATA_SET_ID = "MEX-M-HRSC-5-REFDR-MAPPROJECTED-V3.0"
DATA_SET_NAME = "MARS EXPRESS HRSC MAP PROJECTED REFDR V3.0"
DETECTOR_ID = MEX_HRSC_SRC
EVENT_TYPE = "MARS-REGIONAL-STEREO-Vo-Fl-Mw"
INSTRUMENT_HOST_ID = MEX
INSTRUMENT_HOST_NAME = "MARS EXPRESS"
INSTRUMENT_ID = HRSC
INSTRUMENT_NAME = "HIGH RESOLUTION STEREO CAMERA"
MISSION_NAME = "MARS EXPRESS"
MISSION_PHASE_NAME = MC_Phase_3
PROCESSING_LEVEL_ID = 3
PRODUCT_CREATION_TIME = 2016-03-02T19:38:26.000Z
PRODUCT_ID = "H0143_0017_SR3.JP2"
RELEASE_ID = 0004
REVISION_ID = 0000
/* QUALITY DATA ELEMENTS */
DATA_QUALITY_ID = 1
DATA_QUALITY_DESC = "Data calculated based on original SPICE kernels"
/* TIME DATA ELEMENTS */
SPACECRAFT_CLOCK_START_COUNT = "1/0025690708.57964"
SPACECRAFT_CLOCK_STOP_COUNT = "1/0025691357.00363"
IMAGE_TIME = 2004-02-24T08:24:31.814Z
START_TIME = 2004-02-24T08:24:31.813Z
STOP_TIME = 2004-02-24T08:24:31.815Z
/* ORBITAL DATA ELEMENTS */
ASCENDING_NODE_LONGITUDE = 226.03
MAXIMUM_RESOLUTION = 4.196
FOOTPRINT_POINT_LATITUDE = (-1.70929,-1.70703,-1.70186,-1.69879, -1.69467,-1.69209,-1.68887,-1.685, -1.68242,-1.67839,-1.67574,-1.67348, -1.67059,-1.66777,-1.66456,-1.66022, -1.65693,-1.6538,-1.64923,-1.64385, -1.63889,-1.63504,-1.63048,-1.63046, -1.63044,-1.63042,-1.6304,-1.63038, -1.63036,-1.63034,-1.63031,-1.63029, -1.63027,-1.63025,-1.63023,-1.63021, -1.63019,-1.63017,-1.63015,-1.63013, -1.63011,-1.63009,-1.63007,-1.63005, -1.63003,-1.63001,-1.62999,-1.63125, -1.63413,-1.63669,-1.63934,-1.64166, -1.64447,-1.64728,-1.65153,-1.65435, -1.65692,-1.66102,-1.66536,-1.6693, -1.67188,-1.67502,-1.6788,-1.68243, -1.68493,-1.68751,-1.69082,-1.69437, -1.69655,-1.69873,-1.70278,-1.70577, -1.70803,-1.71103,-1.71105,-1.71106, -1.71108,-1.7111,-1.71111,-1.71113, -1.71115,-1.71117,-1.71118,-1.7112, -1.71122,-1.71124,-1.71125,-1.71127, -1.71129,-1.71131,-1.71132,-1.71134, -1.71136,-1.71138,-1.7114,-1.71141, -1.71143,-1.71145,-1.71147,-1.70929)
FOOTPRINT_POINT_LONGITUDE = (221.022,221.021,221.021,221.021, 221.021,221.021,221.021,221.02,221.02, 221.02,221.02,221.02,221.02,221.02, 221.019,221.019,221.019,221.019,221.019 ,221.018,221.018,221.018,221.018, 221.021,221.023,221.026,221.029,221.032 ,221.035,221.038,221.041,221.043, 221.046,221.049,221.052,221.055,221.058 ,221.06,221.063,221.066,221.069,221.072 ,221.075,221.078,221.08,221.083,221.086 ,221.09,221.09,221.09,221.091,221.091, 221.091,221.091,221.091,221.091,221.091 ,221.092,221.092,221.092,221.092, 221.092,221.093,221.093,221.093,221.093 ,221.093,221.093,221.094,221.094, 221.094,221.094,221.094,221.094,221.091 ,221.088,221.085,221.082,221.079, 221.076,221.074,221.071,221.068,221.065 ,221.062,221.059,221.056,221.054, 221.051,221.048,221.045,221.042,221.039 ,221.036,221.033,221.031,221.028, 221.025,221.022,221.022)
ORBIT_NUMBER = 143
ORBITAL_ECCENTRICITY = 0.608
ORBITAL_INCLINATION = 86.59
ORBITAL_SEMIMAJOR_AXIS = 9330.49
PERIAPSIS_ALTITUDE = 266.61
PERIAPSIS_ARGUMENT_ANGLE = 335.39
PERIAPSIS_TIME = 2004-02-24T08:17:56.000Z
SPACECRAFT_ORIENTATION = (0.0,1.0,0.0)
^MEX_ORIENTATION_DESC = "MEX_ORIENTATION_DESC.TXT"
SPACECRAFT_POINTING_MODE = INERT
^MEX_POINTING_DESC = "MEX_POINTING_DESC.TXT"
RIGHT_ASCENSION = 94.81
DECLINATION = 0.0
OFFSET_ANGLE = -1e+32
SPACECRAFT_SOLAR_DISTANCE = 2.31096e+08
TARGET_NAME = MARS
/* CAMERA DATA ELEMENTS */
BUFFER_MODE_ID = DIRECT
EXPOSURE_DURATION = 2.52
INST_CMPRS_NAME = NONE
INST_CMPRS_RATIO = 1.0
INST_CMPRS_QUALITY = -2147483648
INST_CMPRS_QUANTZ_TBL_ID = -2147483648
INSTRUMENT_TEMPERATURE = 14.2424
MISSING_FRAMES = 0
START_BIT = 0
/* RADIOMETRIC DATA ELEMENTS */
BANDWIDTH = 250.0
CENTER_FILTER_WAVELENGTH = 600.0
RADIANCE_OFFSET = -9.99e+31
RADIANCE_SCALING_FACTOR = -9.99e+31
REFLECTANCE_SCALING_FACTOR = -9.99e+31
MEX:REFLECTANCE_OFFSET = -9.99e+31
/* IMAGE OBJECT DEFINITIONS */
OBJECT = IMAGE
  INTERCHANGE_FORMAT = BINARY
  LINES = 1007
  LINE_SAMPLES = 950
  SAMPLE_TYPE = UNSIGNED_INTEGER
  SAMPLE_BITS = 8
  BANDS = 1
  BAND_STORAGE_TYPE = BAND_SEQUENTIAL
  MAXIMUM = 4855
  MEAN = 4482.78
  MINIMUM = 16
  STANDARD_DEVIATION = 155.27
END_OBJECT = IMAGE
/* MAP OBJECT DEFINITIONS */
OBJECT = IMAGE_MAP_PROJECTION
  ^DATA_SET_MAP_PROJECTION_CATALOG= "DSMAP.CAT"
  A_AXIS_RADIUS = 3396.19
  B_AXIS_RADIUS = 3396.19
  C_AXIS_RADIUS = 3396.19
  CENTER_LATITUDE = 0.0
  CENTER_LONGITUDE = 221.0
  COORDINATE_SYSTEM_NAME = PLANETOGRAPHIC
  COORDINATE_SYSTEM_TYPE = "BODY-FIXED ROTATING"
  EASTERNMOST_LONGITUDE = 221.094
  FIRST_STANDARD_PARALLEL = "N/A"
  LINE_FIRST_PIXEL = 1
  LINE_LAST_PIXEL = 1007
  LINE_PROJECTION_OFFSET = -19285.0
  MAP_PROJECTION_ROTATION = 0.0
  MAP_PROJECTION_TYPE = SINUSOIDAL
  MAP_RESOLUTION = 11854.9393024378
  MAP_SCALE = 0.005
  MAXIMUM_LATITUDE = -1.62999
  MINIMUM_LATITUDE = -1.71147
  POSITIVE_LONGITUDE_DIRECTION = EAST
  REFERENCE_LATITUDE = "N/A"
  REFERENCE_LONGITUDE = "N/A"
  SAMPLE_FIRST_PIXEL = 1
  SAMPLE_LAST_PIXEL = 950
  SAMPLE_PROJECTION_OFFSET = -186.0
  SECOND_STANDARD_PARALLEL = "N/A"
  WESTERNMOST_LONGITUDE = 221.018
END_OBJECT = IMAGE_MAP_PROJECTION
/* The JPEG2000 image data file associated with this label. */
OBJECT = COMPRESSED_FILE
  FILE_NAME = "H0143_0017_SR3.JP2"
  RECORD_TYPE = UNDEFINED
  FILE_RECORDS = UNK
  ENCODING_TYPE = "JP2"
  INTERCHANGE_FORMAT = BINARY
  UNCOMPRESSED_FILE_NAME = "H0143_0017_SR3.IMG"
  REQUIRED_STORAGE_BYTES = "974700"
  ^DESCRIPTION = "JP2INFO.TXT"
END_OBJECT = COMPRESSED_FILE
END
