PDS_VERSION_ID = PDS3
/* FILE DATA ELEMENTS */
RECORD_TYPE = STREAM
/* POINTERS TO DATA OBJECTS */
^COMPRESSED_FILE = "H0143_0024_SR3.JP2"
/* IDENTIFICATION DATA ELEMENTS */
DATA_SET_ID = "MEX-M-HRSC-5-REFDR-MAPPROJECTED-V3.0"
DATA_SET_NAME = "MARS EXPRESS HRSC MAP PROJECTED REFDR V3.0"
DETECTOR_ID = MEX_HRSC_SRC
EVENT_TYPE = "MARS-REGIONAL-STEREO-Vo-Fl-Mw"
INSTRUMENT_HOST_ID = MEX
INSTRUMENT_HOST_NAME = "MARS EXPRESS"
INSTRUMENT_ID = HRSC
INSTRUMENT_NAME = "HIGH RESOLUTION STEREO CAMERA"
MISSION_NAME = "MARS EXPRESS"
MISSION_PHASE_NAME = MC_Phase_3
PROCESSING_LEVEL_ID = 3
PRODUCT_CREATION_TIME = 2016-03-02T19:38:26.000Z
PRODUCT_ID = "H0143_0024_SR3.JP2"
RELEASE_ID = 0004
REVISION_ID = 0000
/* QUALITY DATA ELEMENTS */
DATA_QUALITY_ID = 1
DATA_QUALITY_DESC = "Data calculated based on original SPICE kernels"
/* TIME DATA ELEMENTS */
SPACECRAFT_CLOCK_START_COUNT = "1/0025690708.57964"
SPACECRAFT_CLOCK_STOP_COUNT = "1/0025691357.00363"
IMAGE_TIME = 2004-02-24T08:25:37.762Z
START_TIME = 2004-02-24T08:25:37.760Z
STOP_TIME = 2004-02-24T08:25:37.763Z
/* ORBITAL DATA ELEMENTS */
ASCENDING_NODE_LONGITUDE = 226.03
MAXIMUM_RESOLUTION = 4.58
FOOTPRINT_POINT_LATITUDE = (2.62447,2.62821,2.63093,2.635,2.63848, 2.64196,2.64493,2.64773,2.65129,2.654, 2.65714,2.66103,2.66365,2.6689,2.67203, 2.67482,2.67795,2.68167,2.68454,2.6869, 2.68944,2.6934,2.69636,2.70066,2.70386, 2.70858,2.7086,2.70861,2.70862,2.70864, 2.70865,2.70866,2.70868,2.70869,2.7087, 2.70872,2.70873,2.70874,2.70875,2.70877 ,2.70878,2.70879,2.7088,2.70882,2.70883 ,2.70884,2.70885,2.70886,2.70888, 2.70889,2.7089,2.70629,2.70367,2.69987, 2.69464,2.68949,2.68543,2.68213,2.67926 ,2.67672,2.67401,2.66944,2.66486, 2.66215,2.65936,2.65512,2.6524,2.64782, 2.64511,2.64239,2.63848,2.63602,2.6333, 2.63015,2.62743,2.6236,2.62359,2.62358, 2.62357,2.62356,2.62355,2.62355,2.62354 ,2.62353,2.62352,2.62351,2.6235,2.62349 ,2.62348,2.62347,2.62346,2.62345, 2.62344,2.62343,2.62342,2.62341,2.6234, 2.62339,2.62338,2.62447)
FOOTPRINT_POINT_LONGITUDE = (221.089,221.089,221.089,221.089, 221.088,221.088,221.088,221.088,221.088 ,221.088,221.088,221.087,221.087, 221.087,221.087,221.087,221.087,221.087 ,221.086,221.086,221.086,221.086, 221.086,221.086,221.086,221.086,221.089 ,221.092,221.096,221.099,221.102, 221.105,221.108,221.111,221.114,221.117 ,221.12,221.124,221.127,221.13,221.133, 221.136,221.139,221.142,221.145,221.149 ,221.152,221.155,221.158,221.161, 221.164,221.165,221.165,221.165,221.165 ,221.165,221.166,221.166,221.166, 221.166,221.166,221.166,221.167,221.167 ,221.167,221.167,221.167,221.167, 221.168,221.168,221.168,221.168,221.168 ,221.168,221.168,221.168,221.163,221.16 ,221.157,221.154,221.15,221.147,221.144 ,221.141,221.138,221.135,221.132, 221.129,221.125,221.122,221.119,221.116 ,221.113,221.11,221.107,221.104,221.1, 221.097,221.094,221.089)
ORBIT_NUMBER = 143
ORBITAL_ECCENTRICITY = 0.608
ORBITAL_INCLINATION = 86.59
ORBITAL_SEMIMAJOR_AXIS = 9330.49
PERIAPSIS_ALTITUDE = 266.61
PERIAPSIS_ARGUMENT_ANGLE = 335.39
PERIAPSIS_TIME = 2004-02-24T08:17:56.000Z
SPACECRAFT_ORIENTATION = (0.0,1.0,0.0)
^MEX_ORIENTATION_DESC = "MEX_ORIENTATION_DESC.TXT"
SPACECRAFT_POINTING_MODE = INERT
^MEX_POINTING_DESC = "MEX_POINTING_DESC.TXT"
RIGHT_ASCENSION = 94.81
DECLINATION = 0.0
OFFSET_ANGLE = -1e+32
SPACECRAFT_SOLAR_DISTANCE = 2.31096e+08
TARGET_NAME = MARS
/* CAMERA DATA ELEMENTS */
BUFFER_MODE_ID = DIRECT
EXPOSURE_DURATION = 2.52
INST_CMPRS_NAME = NONE
INST_CMPRS_RATIO = 1.0
INST_CMPRS_QUALITY = -2147483648
INST_CMPRS_QUANTZ_TBL_ID = -2147483648
INSTRUMENT_TEMPERATURE = 17.2727
MISSING_FRAMES = 0
START_BIT = 0
/* RADIOMETRIC DATA ELEMENTS */
BANDWIDTH = 250.0
CENTER_FILTER_WAVELENGTH = 600.0
RADIANCE_OFFSET = -9.99e+31
RADIANCE_SCALING_FACTOR = -9.99e+31
REFLECTANCE_SCALING_FACTOR = -9.99e+31
MEX:REFLECTANCE_OFFSET = -9.99e+31
/* IMAGE OBJECT DEFINITIONS */
OBJECT = IMAGE
  INTERCHANGE_FORMAT = BINARY
  LINES = 1055
  LINE_SAMPLES = 1025
  SAMPLE_TYPE = UNSIGNED_INTEGER
  SAMPLE_BITS = 8
  BANDS = 1
  BAND_STORAGE_TYPE = BAND_SEQUENTIAL
  MAXIMUM = 4976
  MEAN = 4582.6
  MINIMUM = 3841
  STANDARD_DEVIATION = 76.7655
END_OBJECT = IMAGE
/* MAP OBJECT DEFINITIONS */
OBJECT = IMAGE_MAP_PROJECTION
  ^DATA_SET_MAP_PROJECTION_CATALOG= "DSMAP.CAT"
  A_AXIS_RADIUS = 3396.19
  B_AXIS_RADIUS = 3396.19
  C_AXIS_RADIUS = 3396.19
  CENTER_LATITUDE = 0.0
  CENTER_LONGITUDE = 221.0
  COORDINATE_SYSTEM_NAME = PLANETOGRAPHIC
  COORDINATE_SYSTEM_TYPE = "BODY-FIXED ROTATING"
  EASTERNMOST_LONGITUDE = 221.168
  FIRST_STANDARD_PARALLEL = "N/A"
  LINE_FIRST_PIXEL = 1
  LINE_LAST_PIXEL = 1055
  LINE_PROJECTION_OFFSET = 32146.0
  MAP_PROJECTION_ROTATION = 0.0
  MAP_PROJECTION_TYPE = SINUSOIDAL
  MAP_RESOLUTION = 11854.9393024378
  MAP_SCALE = 0.005
  MAXIMUM_LATITUDE = 2.7089
  MINIMUM_LATITUDE = 2.62338
  POSITIVE_LONGITUDE_DIRECTION = EAST
  REFERENCE_LATITUDE = "N/A"
  REFERENCE_LONGITUDE = "N/A"
  SAMPLE_FIRST_PIXEL = 1
  SAMPLE_LAST_PIXEL = 1025
  SAMPLE_PROJECTION_OFFSET = -989.0
  SECOND_STANDARD_PARALLEL = "N/A"
  WESTERNMOST_LONGITUDE = 221.086
END_OBJECT = IMAGE_MAP_PROJECTION
/* The JPEG2000 image data file associated with this label. */
OBJECT = COMPRESSED_FILE
  FILE_NAME = "H0143_0024_SR3.JP2"
  RECORD_TYPE = UNDEFINED
  FILE_RECORDS = UNK
  ENCODING_TYPE = "JP2"
  INTERCHANGE_FORMAT = BINARY
  UNCOMPRESSED_FILE_NAME = "H0143_0024_SR3.IMG"
  REQUIRED_STORAGE_BYTES = "1099825"
  ^DESCRIPTION = "JP2INFO.TXT"
END_OBJECT = COMPRESSED_FILE
END
