PDS_VERSION_ID = PDS3
/* FILE DATA ELEMENTS */
RECORD_TYPE = STREAM
/* POINTERS TO DATA OBJECTS */
^COMPRESSED_FILE = "H0143_0039_SR3.JP2"
/* IDENTIFICATION DATA ELEMENTS */
DATA_SET_ID = "MEX-M-HRSC-5-REFDR-MAPPROJECTED-V3.0"
DATA_SET_NAME = "MARS EXPRESS HRSC MAP PROJECTED REFDR V3.0"
DETECTOR_ID = MEX_HRSC_SRC
EVENT_TYPE = "MARS-REGIONAL-STEREO-Vo-Fl-Mw"
INSTRUMENT_HOST_ID = MEX
INSTRUMENT_HOST_NAME = "MARS EXPRESS"
INSTRUMENT_ID = HRSC
INSTRUMENT_NAME = "HIGH RESOLUTION STEREO CAMERA"
MISSION_NAME = "MARS EXPRESS"
MISSION_PHASE_NAME = MC_Phase_3
PROCESSING_LEVEL_ID = 3
PRODUCT_CREATION_TIME = 2016-03-02T19:38:26.000Z
PRODUCT_ID = "H0143_0039_SR3.JP2"
RELEASE_ID = 0004
REVISION_ID = 0000
/* QUALITY DATA ELEMENTS */
DATA_QUALITY_ID = 1
DATA_QUALITY_DESC = "Data calculated based on original SPICE kernels"
/* TIME DATA ELEMENTS */
SPACECRAFT_CLOCK_START_COUNT = "1/0025690708.57964"
SPACECRAFT_CLOCK_STOP_COUNT = "1/0025691357.00363"
IMAGE_TIME = 2004-02-24T08:26:00.653Z
START_TIME = 2004-02-24T08:26:00.651Z
STOP_TIME = 2004-02-24T08:26:00.654Z
/* ORBITAL DATA ELEMENTS */
ASCENDING_NODE_LONGITUDE = 226.03
MAXIMUM_RESOLUTION = 4.722
FOOTPRINT_POINT_LATITUDE = (4.12084,4.12561,4.12916,4.13538, 4.13997,4.14299,4.14619,4.14982,4.15396 ,4.15673,4.16052,4.16372,4.1676,4.17139 ,4.1763,4.17932,4.1825,4.18534,4.18801, 4.19068,4.19395,4.19816,4.20048,4.20409 ,4.20557,4.20558,4.20559,4.2056,4.20561 ,4.20562,4.20563,4.20564,4.20565, 4.20566,4.20567,4.20568,4.20569,4.2057, 4.20571,4.20572,4.20573,4.20574,4.20575 ,4.20576,4.20577,4.20577,4.20578, 4.20579,4.20511,4.20279,4.20012,4.19702 ,4.19306,4.19031,4.18643,4.18307, 4.18048,4.17816,4.17445,4.17091,4.1666, 4.1634,4.15943,4.15597,4.15243,4.14871, 4.14612,4.14378,4.1411,4.13695,4.13106, 4.12629,4.12352,4.11953,4.11883,4.11883 ,4.11882,4.11882,4.11881,4.11881,4.1188 ,4.11879,4.11879,4.11878,4.11878, 4.11877,4.11876,4.11876,4.11875,4.11874 ,4.11874,4.11873,4.11872,4.11872, 4.11871,4.1187,4.1187,4.11869,4.11868, 4.12084)
FOOTPRINT_POINT_LONGITUDE = (221.115,221.115,221.115,221.114, 221.114,221.114,221.114,221.114,221.114 ,221.113,221.113,221.113,221.113, 221.113,221.113,221.113,221.112,221.112 ,221.112,221.112,221.112,221.112, 221.112,221.112,221.116,221.12,221.123, 221.126,221.129,221.133,221.136,221.139 ,221.142,221.145,221.149,221.152, 221.155,221.158,221.161,221.165,221.168 ,221.171,221.174,221.178,221.181, 221.184,221.187,221.19,221.193,221.193, 221.194,221.194,221.194,221.194,221.194 ,221.194,221.194,221.194,221.195, 221.195,221.195,221.195,221.195,221.195 ,221.196,221.196,221.196,221.196, 221.196,221.196,221.197,221.197,221.197 ,221.197,221.194,221.191,221.187, 221.184,221.181,221.178,221.174,221.171 ,221.168,221.165,221.161,221.158, 221.155,221.152,221.149,221.145,221.142 ,221.139,221.136,221.132,221.129, 221.126,221.123,221.12,221.116,221.115)
ORBIT_NUMBER = 143
ORBITAL_ECCENTRICITY = 0.608
ORBITAL_INCLINATION = 86.59
ORBITAL_SEMIMAJOR_AXIS = 9330.49
PERIAPSIS_ALTITUDE = 266.61
PERIAPSIS_ARGUMENT_ANGLE = 335.39
PERIAPSIS_TIME = 2004-02-24T08:17:56.000Z
SPACECRAFT_ORIENTATION = (0.0,1.0,0.0)
^MEX_ORIENTATION_DESC = "MEX_ORIENTATION_DESC.TXT"
SPACECRAFT_POINTING_MODE = INERT
^MEX_POINTING_DESC = "MEX_POINTING_DESC.TXT"
RIGHT_ASCENSION = 94.81
DECLINATION = 0.0
OFFSET_ANGLE = -1e+32
SPACECRAFT_SOLAR_DISTANCE = 2.31096e+08
TARGET_NAME = MARS
/* CAMERA DATA ELEMENTS */
BUFFER_MODE_ID = DIRECT
EXPOSURE_DURATION = 2.52
INST_CMPRS_NAME = NONE
INST_CMPRS_RATIO = 1.0
INST_CMPRS_QUALITY = -2147483648
INST_CMPRS_QUANTZ_TBL_ID = -2147483648
INSTRUMENT_TEMPERATURE = 17.2727
MISSING_FRAMES = 0
START_BIT = 0
/* RADIOMETRIC DATA ELEMENTS */
BANDWIDTH = 250.0
CENTER_FILTER_WAVELENGTH = 600.0
RADIANCE_OFFSET = -9.99e+31
RADIANCE_SCALING_FACTOR = -9.99e+31
REFLECTANCE_SCALING_FACTOR = -9.99e+31
MEX:REFLECTANCE_OFFSET = -9.99e+31
/* IMAGE OBJECT DEFINITIONS */
OBJECT = IMAGE
  INTERCHANGE_FORMAT = BINARY
  LINES = 1073
  LINE_SAMPLES = 1053
  SAMPLE_TYPE = UNSIGNED_INTEGER
  SAMPLE_BITS = 8
  BANDS = 1
  BAND_STORAGE_TYPE = BAND_SEQUENTIAL
  MAXIMUM = 4824
  MEAN = 4306.39
  MINIMUM = 5
  STANDARD_DEVIATION = 192.279
END_OBJECT = IMAGE
/* MAP OBJECT DEFINITIONS */
OBJECT = IMAGE_MAP_PROJECTION
  ^DATA_SET_MAP_PROJECTION_CATALOG= "DSMAP.CAT"
  A_AXIS_RADIUS = 3396.19
  B_AXIS_RADIUS = 3396.19
  C_AXIS_RADIUS = 3396.19
  CENTER_LATITUDE = 0.0
  CENTER_LONGITUDE = 221.0
  COORDINATE_SYSTEM_NAME = PLANETOGRAPHIC
  COORDINATE_SYSTEM_TYPE = "BODY-FIXED ROTATING"
  EASTERNMOST_LONGITUDE = 221.197
  FIRST_STANDARD_PARALLEL = "N/A"
  LINE_FIRST_PIXEL = 1
  LINE_LAST_PIXEL = 1073
  LINE_PROJECTION_OFFSET = 49885.0
  MAP_PROJECTION_ROTATION = 0.0
  MAP_PROJECTION_TYPE = SINUSOIDAL
  MAP_RESOLUTION = 11854.9393024378
  MAP_SCALE = 0.005
  MAXIMUM_LATITUDE = 4.20579
  MINIMUM_LATITUDE = 4.11868
  POSITIVE_LONGITUDE_DIRECTION = EAST
  REFERENCE_LATITUDE = "N/A"
  REFERENCE_LONGITUDE = "N/A"
  SAMPLE_FIRST_PIXEL = 1
  SAMPLE_LAST_PIXEL = 1053
  SAMPLE_PROJECTION_OFFSET = -1297.0
  SECOND_STANDARD_PARALLEL = "N/A"
  WESTERNMOST_LONGITUDE = 221.112
END_OBJECT = IMAGE_MAP_PROJECTION
/* The JPEG2000 image data file associated with this label. */
OBJECT = COMPRESSED_FILE
  FILE_NAME = "H0143_0039_SR3.JP2"
  RECORD_TYPE = UNDEFINED
  FILE_RECORDS = UNK
  ENCODING_TYPE = "JP2"
  INTERCHANGE_FORMAT = BINARY
  UNCOMPRESSED_FILE_NAME = "H0143_0039_SR3.IMG"
  REQUIRED_STORAGE_BYTES = "1147770"
  ^DESCRIPTION = "JP2INFO.TXT"
END_OBJECT = COMPRESSED_FILE
END
