PDS_VERSION_ID = PDS3
/* FILE DATA ELEMENTS */
RECORD_TYPE = STREAM
/* POINTERS TO DATA OBJECTS */
^COMPRESSED_FILE = "H0143_0041_SR3.JP2"
/* IDENTIFICATION DATA ELEMENTS */
DATA_SET_ID = "MEX-M-HRSC-5-REFDR-MAPPROJECTED-V3.0"
DATA_SET_NAME = "MARS EXPRESS HRSC MAP PROJECTED REFDR V3.0"
DETECTOR_ID = MEX_HRSC_SRC
EVENT_TYPE = "MARS-REGIONAL-STEREO-Vo-Fl-Mw"
INSTRUMENT_HOST_ID = MEX
INSTRUMENT_HOST_NAME = "MARS EXPRESS"
INSTRUMENT_ID = HRSC
INSTRUMENT_NAME = "HIGH RESOLUTION STEREO CAMERA"
MISSION_NAME = "MARS EXPRESS"
MISSION_PHASE_NAME = MC_Phase_3
PROCESSING_LEVEL_ID = 3
PRODUCT_CREATION_TIME = 2016-03-02T19:38:26.000Z
PRODUCT_ID = "H0143_0041_SR3.JP2"
RELEASE_ID = 0004
REVISION_ID = 0000
/* QUALITY DATA ELEMENTS */
DATA_QUALITY_ID = 1
DATA_QUALITY_DESC = "Data calculated based on original SPICE kernels"
/* TIME DATA ELEMENTS */
SPACECRAFT_CLOCK_START_COUNT = "1/0025690708.57964"
SPACECRAFT_CLOCK_STOP_COUNT = "1/0025691357.00363"
IMAGE_TIME = 2004-02-24T08:26:02.833Z
START_TIME = 2004-02-24T08:26:02.832Z
STOP_TIME = 2004-02-24T08:26:02.834Z
/* ORBITAL DATA ELEMENTS */
ASCENDING_NODE_LONGITUDE = 226.03
MAXIMUM_RESOLUTION = 4.735
FOOTPRINT_POINT_LATITUDE = (4.26258,4.26735,4.27056,4.2736,4.27767 ,4.28053,4.28486,4.2885,4.29291,4.29646 ,4.29923,4.3039,4.30683,4.31141,4.31495 ,4.31728,4.32048,4.32324,4.32677, 4.33134,4.33565,4.34073,4.34401,4.34848 ,4.34849,4.3485,4.34851,4.34852,4.34853 ,4.34854,4.34855,4.34856,4.34857, 4.34858,4.34859,4.3486,4.34861,4.34862, 4.34863,4.34864,4.34865,4.34866,4.34867 ,4.34868,4.34868,4.34869,4.3487,4.34871 ,4.34872,4.34519,4.34217,4.33803, 4.33527,4.33191,4.32699,4.32423,4.3212, 4.31688,4.31343,4.30988,4.3072,4.30444, 4.30175,4.29769,4.29457,4.29188,4.28668 ,4.28226,4.27949,4.27541,4.27185, 4.26907,4.2663,4.26308,4.26065,4.26064, 4.26064,4.26063,4.26063,4.26062,4.26062 ,4.26061,4.26061,4.2606,4.2606,4.26059, 4.26058,4.26058,4.26057,4.26057,4.26056 ,4.26055,4.26055,4.26054,4.26053, 4.26053,4.26052,4.26051,4.26051, 4.26258)
FOOTPRINT_POINT_LONGITUDE = (221.118,221.117,221.117,221.117, 221.117,221.117,221.117,221.117,221.116 ,221.116,221.116,221.116,221.116, 221.115,221.115,221.115,221.115,221.115 ,221.115,221.115,221.114,221.114, 221.114,221.114,221.117,221.12,221.124, 221.127,221.13,221.133,221.137,221.14, 221.143,221.146,221.149,221.153,221.156 ,221.159,221.162,221.166,221.169, 221.172,221.175,221.178,221.182,221.185 ,221.188,221.191,221.195,221.196, 221.196,221.196,221.197,221.197,221.197 ,221.197,221.197,221.197,221.197, 221.198,221.198,221.198,221.198,221.198 ,221.198,221.199,221.199,221.199, 221.199,221.199,221.199,221.2,221.2, 221.2,221.199,221.196,221.193,221.189, 221.186,221.183,221.18,221.176,221.173, 221.17,221.167,221.163,221.16,221.157, 221.154,221.15,221.147,221.144,221.141, 221.138,221.134,221.131,221.128,221.125 ,221.121,221.118)
ORBIT_NUMBER = 143
ORBITAL_ECCENTRICITY = 0.608
ORBITAL_INCLINATION = 86.59
ORBITAL_SEMIMAJOR_AXIS = 9330.49
PERIAPSIS_ALTITUDE = 266.61
PERIAPSIS_ARGUMENT_ANGLE = 335.39
PERIAPSIS_TIME = 2004-02-24T08:17:56.000Z
SPACECRAFT_ORIENTATION = (0.0,1.0,0.0)
^MEX_ORIENTATION_DESC = "MEX_ORIENTATION_DESC.TXT"
SPACECRAFT_POINTING_MODE = INERT
^MEX_POINTING_DESC = "MEX_POINTING_DESC.TXT"
RIGHT_ASCENSION = 94.81
DECLINATION = 0.0
OFFSET_ANGLE = -1e+32
SPACECRAFT_SOLAR_DISTANCE = 2.31096e+08
TARGET_NAME = MARS
/* CAMERA DATA ELEMENTS */
BUFFER_MODE_ID = DIRECT
EXPOSURE_DURATION = 2.52
INST_CMPRS_NAME = NONE
INST_CMPRS_RATIO = 1.0
INST_CMPRS_QUALITY = -2147483648
INST_CMPRS_QUANTZ_TBL_ID = -2147483648
INSTRUMENT_TEMPERATURE = 17.2727
MISSING_FRAMES = 0
START_BIT = 0
/* RADIOMETRIC DATA ELEMENTS */
BANDWIDTH = 250.0
CENTER_FILTER_WAVELENGTH = 600.0
RADIANCE_OFFSET = -9.99e+31
RADIANCE_SCALING_FACTOR = -9.99e+31
REFLECTANCE_SCALING_FACTOR = -9.99e+31
MEX:REFLECTANCE_OFFSET = -9.99e+31
/* IMAGE OBJECT DEFINITIONS */
OBJECT = IMAGE
  INTERCHANGE_FORMAT = BINARY
  LINES = 1074
  LINE_SAMPLES = 1054
  SAMPLE_TYPE = UNSIGNED_INTEGER
  SAMPLE_BITS = 8
  BANDS = 1
  BAND_STORAGE_TYPE = BAND_SEQUENTIAL
  MAXIMUM = 4842
  MEAN = 4312.48
  MINIMUM = 0
  STANDARD_DEVIATION = 181.654
END_OBJECT = IMAGE
/* MAP OBJECT DEFINITIONS */
OBJECT = IMAGE_MAP_PROJECTION
  ^DATA_SET_MAP_PROJECTION_CATALOG= "DSMAP.CAT"
  A_AXIS_RADIUS = 3396.19
  B_AXIS_RADIUS = 3396.19
  C_AXIS_RADIUS = 3396.19
  CENTER_LATITUDE = 0.0
  CENTER_LONGITUDE = 221.0
  COORDINATE_SYSTEM_NAME = PLANETOGRAPHIC
  COORDINATE_SYSTEM_TYPE = "BODY-FIXED ROTATING"
  EASTERNMOST_LONGITUDE = 221.2
  FIRST_STANDARD_PARALLEL = "N/A"
  LINE_FIRST_PIXEL = 1
  LINE_LAST_PIXEL = 1074
  LINE_PROJECTION_OFFSET = 51578.0
  MAP_PROJECTION_ROTATION = 0.0
  MAP_PROJECTION_TYPE = SINUSOIDAL
  MAP_RESOLUTION = 11854.9393024378
  MAP_SCALE = 0.005
  MAXIMUM_LATITUDE = 4.34872
  MINIMUM_LATITUDE = 4.26051
  POSITIVE_LONGITUDE_DIRECTION = EAST
  REFERENCE_LATITUDE = "N/A"
  REFERENCE_LONGITUDE = "N/A"
  SAMPLE_FIRST_PIXEL = 1
  SAMPLE_LAST_PIXEL = 1054
  SAMPLE_PROJECTION_OFFSET = -1326.0
  SECOND_STANDARD_PARALLEL = "N/A"
  WESTERNMOST_LONGITUDE = 221.114
END_OBJECT = IMAGE_MAP_PROJECTION
/* The JPEG2000 image data file associated with this label. */
OBJECT = COMPRESSED_FILE
  FILE_NAME = "H0143_0041_SR3.JP2"
  RECORD_TYPE = UNDEFINED
  FILE_RECORDS = UNK
  ENCODING_TYPE = "JP2"
  INTERCHANGE_FORMAT = BINARY
  UNCOMPRESSED_FILE_NAME = "H0143_0041_SR3.IMG"
  REQUIRED_STORAGE_BYTES = "1149914"
  ^DESCRIPTION = "JP2INFO.TXT"
END_OBJECT = COMPRESSED_FILE
END
