PDS_VERSION_ID = PDS3
/* FILE DATA ELEMENTS */
RECORD_TYPE = STREAM
/* POINTERS TO DATA OBJECTS */
^COMPRESSED_FILE = "H0155_0002_SR3.JP2"
/* IDENTIFICATION DATA ELEMENTS */
DATA_SET_ID = "MEX-M-HRSC-5-REFDR-MAPPROJECTED-V3.0"
DATA_SET_NAME = "MARS EXPRESS HRSC MAP PROJECTED REFDR V3.0"
DETECTOR_ID = MEX_HRSC_SRC
EVENT_TYPE = "MARS-REGIONAL-STEREO-Vo-Fl-Mw"
INSTRUMENT_HOST_ID = MEX
INSTRUMENT_HOST_NAME = "MARS EXPRESS"
INSTRUMENT_ID = HRSC
INSTRUMENT_NAME = "HIGH RESOLUTION STEREO CAMERA"
MISSION_NAME = "MARS EXPRESS"
MISSION_PHASE_NAME = MC_Phase_3
PROCESSING_LEVEL_ID = 3
PRODUCT_CREATION_TIME = 2016-03-02T19:38:26.000Z
PRODUCT_ID = "H0155_0002_SR3.JP2"
RELEASE_ID = 0004
REVISION_ID = 0000
/* QUALITY DATA ELEMENTS */
DATA_QUALITY_ID = 1
DATA_QUALITY_DESC = "Data calculated based on original SPICE kernels"
/* TIME DATA ELEMENTS */
SPACECRAFT_CLOCK_START_COUNT = "1/0026018063.56191"
SPACECRAFT_CLOCK_STOP_COUNT = "1/0026018553.27696"
IMAGE_TIME = 2004-02-28T03:15:30.885Z
START_TIME = 2004-02-28T03:15:30.627Z
STOP_TIME = 2004-02-28T03:15:31.143Z
/* ORBITAL DATA ELEMENTS */
ASCENDING_NODE_LONGITUDE = 225.78
MAXIMUM_RESOLUTION = 2.458
FOOTPRINT_POINT_LATITUDE = (-23.7309,-23.7292,-23.7273,-23.7258, -23.7231,-23.7205,-23.7185,-23.7172, -23.7156,-23.7132,-23.7116,-23.71, -23.7087,-23.7076,-23.7062,-23.704, -23.7025,-23.7007,-23.6996,-23.6982, -23.697,-23.6954,-23.6934,-23.6919, -23.6899,-23.6899,-23.6899,-23.6899, -23.6899,-23.6899,-23.6899,-23.69, -23.69,-23.69,-23.69,-23.69,-23.69, -23.69,-23.6901,-23.6901,-23.6901, -23.6901,-23.6901,-23.6901,-23.6901, -23.6902,-23.6902,-23.6902,-23.6902, -23.6902,-23.6922,-23.6935,-23.6952, -23.6963,-23.6976,-23.6999,-23.7013, -23.7025,-23.7038,-23.7053,-23.7065, -23.7085,-23.7107,-23.7126,-23.7149, -23.7162,-23.7181,-23.7201,-23.7228, -23.7255,-23.727,-23.7282,-23.7295, -23.731,-23.7322,-23.7321,-23.7321, -23.7321,-23.7321,-23.7321,-23.7321, -23.7321,-23.732,-23.732,-23.732, -23.732,-23.732,-23.732,-23.7319, -23.7319,-23.7319,-23.7319,-23.7319, -23.7319,-23.7319,-23.7318,-23.7318, -23.7318,-23.7318,-23.7309)
FOOTPRINT_POINT_LONGITUDE = (330.481,330.481,330.481,330.481, 330.481,330.481,330.481,330.481,330.481 ,330.48,330.48,330.48,330.48,330.48, 330.48,330.48,330.481,330.481,330.481, 330.481,330.481,330.481,330.481,330.481 ,330.481,330.482,330.484,330.486, 330.488,330.49,330.492,330.493,330.495, 330.497,330.499,330.501,330.502,330.504 ,330.506,330.508,330.51,330.512,330.513 ,330.515,330.517,330.519,330.521, 330.522,330.524,330.526,330.527,330.527 ,330.527,330.527,330.527,330.527, 330.527,330.527,330.527,330.527,330.527 ,330.527,330.527,330.527,330.527, 330.527,330.527,330.527,330.527,330.527 ,330.527,330.527,330.527,330.527, 330.527,330.525,330.523,330.521,330.52, 330.518,330.516,330.514,330.512,330.511 ,330.509,330.507,330.505,330.503, 330.501,330.5,330.498,330.496,330.494, 330.492,330.491,330.489,330.487,330.485 ,330.483,330.481)
ORBIT_NUMBER = 155
ORBITAL_ECCENTRICITY = 0.607
ORBITAL_INCLINATION = 86.6
ORBITAL_SEMIMAJOR_AXIS = 9321.48
PERIAPSIS_ALTITUDE = 266.66
PERIAPSIS_ARGUMENT_ANGLE = 333.37
PERIAPSIS_TIME = 2004-02-28T03:14:48.000Z
SPACECRAFT_ORIENTATION = (0.0,1.0,0.0)
^MEX_ORIENTATION_DESC = "MEX_ORIENTATION_DESC.TXT"
SPACECRAFT_POINTING_MODE = ACROSSTRACK
^MEX_POINTING_DESC = "MEX_POINTING_DESC.TXT"
RIGHT_ASCENSION = -1e+32
DECLINATION = -1e+32
OFFSET_ANGLE = -0.2
SPACECRAFT_SOLAR_DISTANCE = 2.31814e+08
TARGET_NAME = MARS
/* CAMERA DATA ELEMENTS */
BUFFER_MODE_ID = DIRECT
EXPOSURE_DURATION = 516.096
INST_CMPRS_NAME = NONE
INST_CMPRS_RATIO = 1.0
INST_CMPRS_QUALITY = -2147483648
INST_CMPRS_QUANTZ_TBL_ID = -2147483648
INSTRUMENT_TEMPERATURE = 5.15152
MISSING_FRAMES = 0
START_BIT = 0
/* RADIOMETRIC DATA ELEMENTS */
BANDWIDTH = 250.0
CENTER_FILTER_WAVELENGTH = 600.0
RADIANCE_OFFSET = -9.99e+31
RADIANCE_SCALING_FACTOR = -9.99e+31
REFLECTANCE_SCALING_FACTOR = -9.99e+31
MEX:REFLECTANCE_OFFSET = -9.99e+31
/* IMAGE OBJECT DEFINITIONS */
OBJECT = IMAGE
  INTERCHANGE_FORMAT = BINARY
  LINES = 1052
  LINE_SAMPLES = 1060
  SAMPLE_TYPE = UNSIGNED_INTEGER
  SAMPLE_BITS = 8
  BANDS = 1
  BAND_STORAGE_TYPE = BAND_SEQUENTIAL
  MAXIMUM = 12529
  MEAN = 12392.4
  MINIMUM = 12161
  STANDARD_DEVIATION = 200.818
END_OBJECT = IMAGE
/* MAP OBJECT DEFINITIONS */
OBJECT = IMAGE_MAP_PROJECTION
  ^DATA_SET_MAP_PROJECTION_CATALOG= "DSMAP.CAT"
  A_AXIS_RADIUS = 3396.19
  B_AXIS_RADIUS = 3396.19
  C_AXIS_RADIUS = 3396.19
  CENTER_LATITUDE = 0.0
  CENTER_LONGITUDE = 331.0
  COORDINATE_SYSTEM_NAME = PLANETOGRAPHIC
  COORDINATE_SYSTEM_TYPE = "BODY-FIXED ROTATING"
  EASTERNMOST_LONGITUDE = 330.527
  FIRST_STANDARD_PARALLEL = "N/A"
  LINE_FIRST_PIXEL = 1
  LINE_LAST_PIXEL = 1052
  LINE_PROJECTION_OFFSET = -561477.0
  MAP_PROJECTION_ROTATION = 0.0
  MAP_PROJECTION_TYPE = SINUSOIDAL
  MAP_RESOLUTION = 23709.8786048756
  MAP_SCALE = 0.0025
  MAXIMUM_LATITUDE = -23.6899
  MINIMUM_LATITUDE = -23.7322
  POSITIVE_LONGITUDE_DIRECTION = EAST
  REFERENCE_LATITUDE = "N/A"
  REFERENCE_LONGITUDE = "N/A"
  SAMPLE_FIRST_PIXEL = 1
  SAMPLE_LAST_PIXEL = 1060
  SAMPLE_PROJECTION_OFFSET = 11235.0
  SECOND_STANDARD_PARALLEL = "N/A"
  WESTERNMOST_LONGITUDE = 330.48
END_OBJECT = IMAGE_MAP_PROJECTION
/* The JPEG2000 image data file associated with this label. */
OBJECT = COMPRESSED_FILE
  FILE_NAME = "H0155_0002_SR3.JP2"
  RECORD_TYPE = UNDEFINED
  FILE_RECORDS = UNK
  ENCODING_TYPE = "JP2"
  INTERCHANGE_FORMAT = BINARY
  UNCOMPRESSED_FILE_NAME = "H0155_0002_SR3.IMG"
  REQUIRED_STORAGE_BYTES = "1134200"
  ^DESCRIPTION = "JP2INFO.TXT"
END_OBJECT = COMPRESSED_FILE
END
