PDS_VERSION_ID = PDS3
/* FILE DATA ELEMENTS */
RECORD_TYPE = STREAM
/* POINTERS TO DATA OBJECTS */
^COMPRESSED_FILE = "H0155_0015_SR3.JP2"
/* IDENTIFICATION DATA ELEMENTS */
DATA_SET_ID = "MEX-M-HRSC-5-REFDR-MAPPROJECTED-V3.0"
DATA_SET_NAME = "MARS EXPRESS HRSC MAP PROJECTED REFDR V3.0"
DETECTOR_ID = MEX_HRSC_SRC
EVENT_TYPE = "MARS-REGIONAL-STEREO-Vo-Fl-Mw"
INSTRUMENT_HOST_ID = MEX
INSTRUMENT_HOST_NAME = "MARS EXPRESS"
INSTRUMENT_ID = HRSC
INSTRUMENT_NAME = "HIGH RESOLUTION STEREO CAMERA"
MISSION_NAME = "MARS EXPRESS"
MISSION_PHASE_NAME = MC_Phase_3
PROCESSING_LEVEL_ID = 3
PRODUCT_CREATION_TIME = 2016-03-02T19:38:26.000Z
PRODUCT_ID = "H0155_0015_SR3.JP2"
RELEASE_ID = 0004
REVISION_ID = 0000
/* QUALITY DATA ELEMENTS */
DATA_QUALITY_ID = 1
DATA_QUALITY_DESC = "Data calculated based on original SPICE kernels"
/* TIME DATA ELEMENTS */
SPACECRAFT_CLOCK_START_COUNT = "1/0026018063.56191"
SPACECRAFT_CLOCK_STOP_COUNT = "1/0026018553.27696"
IMAGE_TIME = 2004-02-28T03:22:27.826Z
START_TIME = 2004-02-28T03:22:27.825Z
STOP_TIME = 2004-02-28T03:22:27.827Z
/* ORBITAL DATA ELEMENTS */
ASCENDING_NODE_LONGITUDE = 225.78
MAXIMUM_RESOLUTION = 4.235
FOOTPRINT_POINT_LATITUDE = (3.4491,3.45089,3.45504,3.45797,3.45997 ,3.46269,3.46698,3.47027,3.47271, 3.47471,3.47864,3.48158,3.4858,3.4903, 3.49431,3.49688,3.49896,3.5021,3.50489, 3.50933,3.51162,3.51469,3.51791,3.52063 ,3.52065,3.52067,3.52069,3.5207,3.52072 ,3.52074,3.52076,3.52078,3.5208,3.52082 ,3.52084,3.52086,3.52088,3.5209,3.52091 ,3.52093,3.52095,3.52097,3.52099, 3.52101,3.52103,3.52105,3.52107,3.52109 ,3.52033,3.51646,3.51396,3.51052, 3.50852,3.50587,3.50194,3.49986,3.49714 ,3.49514,3.49228,3.48863,3.48627, 3.48319,3.48105,3.47733,3.47482,3.47296 ,3.47046,3.4686,3.46474,3.46187,3.46008 ,3.45794,3.45551,3.45286,3.44906, 3.44904,3.44902,3.449,3.44898,3.44897, 3.44895,3.44893,3.44891,3.44889,3.44887 ,3.44886,3.44884,3.44882,3.4488,3.44878 ,3.44877,3.44875,3.44873,3.44871, 3.44869,3.44867,3.44866,3.44864,3.44862 ,3.4491)
FOOTPRINT_POINT_LONGITUDE = (330.46,330.46,330.46,330.46,330.46, 330.46,330.46,330.46,330.459,330.459, 330.459,330.459,330.459,330.459,330.459 ,330.459,330.459,330.459,330.459, 330.459,330.459,330.459,330.459,330.459 ,330.462,330.465,330.468,330.471, 330.474,330.476,330.479,330.482,330.485 ,330.488,330.491,330.494,330.497, 330.499,330.502,330.505,330.508,330.511 ,330.514,330.517,330.519,330.522, 330.525,330.528,330.532,330.532,330.532 ,330.532,330.532,330.532,330.532, 330.532,330.532,330.532,330.532,330.532 ,330.532,330.532,330.532,330.532, 330.532,330.532,330.532,330.532,330.532 ,330.532,330.533,330.533,330.533, 330.533,330.531,330.528,330.525,330.522 ,330.52,330.517,330.514,330.511,330.508 ,330.505,330.502,330.5,330.497,330.494, 330.491,330.488,330.485,330.482,330.479 ,330.477,330.474,330.471,330.468, 330.465,330.462,330.46)
ORBIT_NUMBER = 155
ORBITAL_ECCENTRICITY = 0.607
ORBITAL_INCLINATION = 86.6
ORBITAL_SEMIMAJOR_AXIS = 9321.48
PERIAPSIS_ALTITUDE = 266.66
PERIAPSIS_ARGUMENT_ANGLE = 333.37
PERIAPSIS_TIME = 2004-02-28T03:14:48.000Z
SPACECRAFT_ORIENTATION = (0.0,1.0,0.0)
^MEX_ORIENTATION_DESC = "MEX_ORIENTATION_DESC.TXT"
SPACECRAFT_POINTING_MODE = ACROSSTRACK
^MEX_POINTING_DESC = "MEX_POINTING_DESC.TXT"
RIGHT_ASCENSION = -1e+32
DECLINATION = -1e+32
OFFSET_ANGLE = -0.2
SPACECRAFT_SOLAR_DISTANCE = 2.31814e+08
TARGET_NAME = MARS
/* CAMERA DATA ELEMENTS */
BUFFER_MODE_ID = DIRECT
EXPOSURE_DURATION = 2.52
INST_CMPRS_NAME = NONE
INST_CMPRS_RATIO = 1.0
INST_CMPRS_QUALITY = -2147483648
INST_CMPRS_QUANTZ_TBL_ID = -2147483648
INSTRUMENT_TEMPERATURE = 14.2424
MISSING_FRAMES = 0
START_BIT = 0
/* RADIOMETRIC DATA ELEMENTS */
BANDWIDTH = 250.0
CENTER_FILTER_WAVELENGTH = 600.0
RADIANCE_OFFSET = -9.99e+31
RADIANCE_SCALING_FACTOR = -9.99e+31
REFLECTANCE_SCALING_FACTOR = -9.99e+31
MEX:REFLECTANCE_OFFSET = -9.99e+31
/* IMAGE OBJECT DEFINITIONS */
OBJECT = IMAGE
  INTERCHANGE_FORMAT = BINARY
  LINES = 900
  LINE_SAMPLES = 910
  SAMPLE_TYPE = UNSIGNED_INTEGER
  SAMPLE_BITS = 8
  BANDS = 1
  BAND_STORAGE_TYPE = BAND_SEQUENTIAL
  MAXIMUM = 4806
  MEAN = 4393.78
  MINIMUM = 0
  STANDARD_DEVIATION = 154.062
END_OBJECT = IMAGE
/* MAP OBJECT DEFINITIONS */
OBJECT = IMAGE_MAP_PROJECTION
  ^DATA_SET_MAP_PROJECTION_CATALOG= "DSMAP.CAT"
  A_AXIS_RADIUS = 3396.19
  B_AXIS_RADIUS = 3396.19
  C_AXIS_RADIUS = 3396.19
  CENTER_LATITUDE = 0.0
  CENTER_LONGITUDE = 330.0
  COORDINATE_SYSTEM_NAME = PLANETOGRAPHIC
  COORDINATE_SYSTEM_TYPE = "BODY-FIXED ROTATING"
  EASTERNMOST_LONGITUDE = 330.533
  FIRST_STANDARD_PARALLEL = "N/A"
  LINE_FIRST_PIXEL = 1
  LINE_LAST_PIXEL = 900
  LINE_PROJECTION_OFFSET = 41761.0
  MAP_PROJECTION_ROTATION = 0.0
  MAP_PROJECTION_TYPE = SINUSOIDAL
  MAP_RESOLUTION = 11854.9393024378
  MAP_SCALE = 0.005
  MAXIMUM_LATITUDE = 3.52109
  MINIMUM_LATITUDE = 3.44862
  POSITIVE_LONGITUDE_DIRECTION = EAST
  REFERENCE_LATITUDE = "N/A"
  REFERENCE_LONGITUDE = "N/A"
  SAMPLE_FIRST_PIXEL = 1
  SAMPLE_LAST_PIXEL = 910
  SAMPLE_PROJECTION_OFFSET = -5413.0
  SECOND_STANDARD_PARALLEL = "N/A"
  WESTERNMOST_LONGITUDE = 330.459
END_OBJECT = IMAGE_MAP_PROJECTION
/* The JPEG2000 image data file associated with this label. */
OBJECT = COMPRESSED_FILE
  FILE_NAME = "H0155_0015_SR3.JP2"
  RECORD_TYPE = UNDEFINED
  FILE_RECORDS = UNK
  ENCODING_TYPE = "JP2"
  INTERCHANGE_FORMAT = BINARY
  UNCOMPRESSED_FILE_NAME = "H0155_0015_SR3.IMG"
  REQUIRED_STORAGE_BYTES = "838110"
  ^DESCRIPTION = "JP2INFO.TXT"
END_OBJECT = COMPRESSED_FILE
END
