PDS_VERSION_ID = PDS3
/* FILE DATA ELEMENTS */
RECORD_TYPE = STREAM
/* POINTERS TO DATA OBJECTS */
^COMPRESSED_FILE = "H0165_0003_SR3.JP2"
/* IDENTIFICATION DATA ELEMENTS */
DATA_SET_ID = "MEX-M-HRSC-5-REFDR-MAPPROJECTED-V3.0"
DATA_SET_NAME = "MARS EXPRESS HRSC MAP PROJECTED REFDR V3.0"
DETECTOR_ID = MEX_HRSC_SRC
EVENT_TYPE = "MARS-REGIONAL-STEREO-Te-Im-Fl"
INSTRUMENT_HOST_ID = MEX
INSTRUMENT_HOST_NAME = "MARS EXPRESS"
INSTRUMENT_ID = HRSC
INSTRUMENT_NAME = "HIGH RESOLUTION STEREO CAMERA"
MISSION_NAME = "MARS EXPRESS"
MISSION_PHASE_NAME = MC_Phase_3
PROCESSING_LEVEL_ID = 3
PRODUCT_CREATION_TIME = 2016-03-02T19:38:26.000Z
PRODUCT_ID = "H0165_0003_SR3.JP2"
RELEASE_ID = 0004
REVISION_ID = 0000
/* QUALITY DATA ELEMENTS */
DATA_QUALITY_ID = 1
DATA_QUALITY_DESC = "Data calculated based on original SPICE kernels"
/* TIME DATA ELEMENTS */
SPACECRAFT_CLOCK_START_COUNT = "1/0026290393.57289"
SPACECRAFT_CLOCK_STOP_COUNT = "1/0026291159.14104"
IMAGE_TIME = 2004-03-02T06:54:45.420Z
START_TIME = 2004-03-02T06:54:45.419Z
STOP_TIME = 2004-03-02T06:54:45.421Z
/* ORBITAL DATA ELEMENTS */
ASCENDING_NODE_LONGITUDE = 225.56
MAXIMUM_RESOLUTION = 4.301
FOOTPRINT_POINT_LATITUDE = (-58.2796,-58.2777,-58.2751,-58.2732, -58.2703,-58.2678,-58.2636,-58.2611, -58.2575,-58.2544,-58.252,-58.2487, -58.2466,-58.2437,-58.2397,-58.2355, -58.2321,-58.2297,-58.2279,-58.2258, -58.2231,-58.2208,-58.2178,-58.2135, -58.2116,-58.2082,-58.2068,-58.207, -58.2073,-58.2075,-58.2077,-58.208, -58.2082,-58.2085,-58.2087,-58.209, -58.2093,-58.2096,-58.2098,-58.21, -58.2103,-58.2105,-58.2108,-58.211, -58.2112,-58.2115,-58.2117,-58.212, -58.2122,-58.2124,-58.2132,-58.2171, -58.2195,-58.2221,-58.2251,-58.2275, -58.2308,-58.2343,-58.2383,-58.2412, -58.2454,-58.2478,-58.2513,-58.255, -58.2574,-58.2594,-58.2639,-58.2666, -58.2685,-58.2713,-58.2749,-58.2774, -58.281,-58.2833,-58.2857,-58.2855, -58.2852,-58.285,-58.2848,-58.2845, -58.2843,-58.284,-58.2838,-58.2836, -58.2833,-58.2831,-58.2828,-58.2826, -58.2823,-58.2821,-58.2818,-58.2816, -58.2814,-58.2811,-58.2809,-58.2806, -58.2804,-58.2802,-58.2799,-58.2796)
FOOTPRINT_POINT_LONGITUDE = (299.57,299.571,299.571,299.571,299.572 ,299.572,299.573,299.573,299.574, 299.574,299.575,299.575,299.576,299.576 ,299.577,299.577,299.578,299.578, 299.579,299.579,299.579,299.58,299.58, 299.581,299.581,299.582,299.588,299.593 ,299.599,299.604,299.61,299.615,299.621 ,299.626,299.632,299.637,299.646, 299.651,299.657,299.662,299.668,299.673 ,299.679,299.684,299.69,299.695,299.701 ,299.706,299.712,299.717,299.722, 299.722,299.721,299.721,299.72,299.72, 299.72,299.719,299.718,299.718,299.717, 299.717,299.716,299.716,299.715,299.715 ,299.714,299.714,299.714,299.713, 299.713,299.712,299.712,299.711,299.711 ,299.705,299.7,299.694,299.689,299.683, 299.678,299.672,299.667,299.661,299.656 ,299.65,299.645,299.638,299.632,299.626 ,299.621,299.615,299.61,299.604,299.599 ,299.593,299.588,299.582,299.577, 299.57)
ORBIT_NUMBER = 165
ORBITAL_ECCENTRICITY = 0.608
ORBITAL_INCLINATION = 86.59
ORBITAL_SEMIMAJOR_AXIS = 9322.44
PERIAPSIS_ALTITUDE = 266.61
PERIAPSIS_ARGUMENT_ANGLE = 331.7
PERIAPSIS_TIME = 2004-03-02T07:02:25.000Z
SPACECRAFT_ORIENTATION = (0.0,1.0,0.0)
^MEX_ORIENTATION_DESC = "MEX_ORIENTATION_DESC.TXT"
SPACECRAFT_POINTING_MODE = ACROSSTRACK
^MEX_POINTING_DESC = "MEX_POINTING_DESC.TXT"
RIGHT_ASCENSION = -1e+32
DECLINATION = -1e+32
OFFSET_ANGLE = 0.15
SPACECRAFT_SOLAR_DISTANCE = 2.32406e+08
TARGET_NAME = MARS
/* CAMERA DATA ELEMENTS */
BUFFER_MODE_ID = DIRECT
EXPOSURE_DURATION = 2.52
INST_CMPRS_NAME = NONE
INST_CMPRS_RATIO = 1.0
INST_CMPRS_QUALITY = -2147483648
INST_CMPRS_QUANTZ_TBL_ID = -2147483648
INSTRUMENT_TEMPERATURE = 6.37035
MISSING_FRAMES = 0
START_BIT = 0
/* RADIOMETRIC DATA ELEMENTS */
BANDWIDTH = 250.0
CENTER_FILTER_WAVELENGTH = 600.0
RADIANCE_OFFSET = -9.99e+31
RADIANCE_SCALING_FACTOR = -9.99e+31
REFLECTANCE_SCALING_FACTOR = -9.99e+31
MEX:REFLECTANCE_OFFSET = -9.99e+31
/* IMAGE OBJECT DEFINITIONS */
OBJECT = IMAGE
  INTERCHANGE_FORMAT = BINARY
  LINES = 1008
  LINE_SAMPLES = 1012
  SAMPLE_TYPE = UNSIGNED_INTEGER
  SAMPLE_BITS = 8
  BANDS = 1
  BAND_STORAGE_TYPE = BAND_SEQUENTIAL
  MAXIMUM = 2005
  MEAN = 1693.81
  MINIMUM = 0
  STANDARD_DEVIATION = 98.491
END_OBJECT = IMAGE
/* MAP OBJECT DEFINITIONS */
OBJECT = IMAGE_MAP_PROJECTION
  ^DATA_SET_MAP_PROJECTION_CATALOG= "DSMAP.CAT"
  A_AXIS_RADIUS = 3396.19
  B_AXIS_RADIUS = 3396.19
  C_AXIS_RADIUS = 3396.19
  CENTER_LATITUDE = 0.0
  CENTER_LONGITUDE = 300.0
  COORDINATE_SYSTEM_NAME = PLANETOGRAPHIC
  COORDINATE_SYSTEM_TYPE = "BODY-FIXED ROTATING"
  EASTERNMOST_LONGITUDE = 299.722
  FIRST_STANDARD_PARALLEL = "N/A"
  LINE_FIRST_PIXEL = 1
  LINE_LAST_PIXEL = 1008
  LINE_PROJECTION_OFFSET = -688866.0
  MAP_PROJECTION_ROTATION = 0.0
  MAP_PROJECTION_TYPE = SINUSOIDAL
  MAP_RESOLUTION = 11854.9393024378
  MAP_SCALE = 0.005
  MAXIMUM_LATITUDE = -58.2068
  MINIMUM_LATITUDE = -58.2857
  POSITIVE_LONGITUDE_DIRECTION = EAST
  REFERENCE_LATITUDE = "N/A"
  REFERENCE_LONGITUDE = "N/A"
  SAMPLE_FIRST_PIXEL = 1
  SAMPLE_LAST_PIXEL = 1012
  SAMPLE_PROJECTION_OFFSET = 2761.0
  SECOND_STANDARD_PARALLEL = "N/A"
  WESTERNMOST_LONGITUDE = 299.57
END_OBJECT = IMAGE_MAP_PROJECTION
/* The JPEG2000 image data file associated with this label. */
OBJECT = COMPRESSED_FILE
  FILE_NAME = "H0165_0003_SR3.JP2"
  RECORD_TYPE = UNDEFINED
  FILE_RECORDS = UNK
  ENCODING_TYPE = "JP2"
  INTERCHANGE_FORMAT = BINARY
  UNCOMPRESSED_FILE_NAME = "H0165_0003_SR3.IMG"
  REQUIRED_STORAGE_BYTES = "1039324"
  ^DESCRIPTION = "JP2INFO.TXT"
END_OBJECT = COMPRESSED_FILE
END
