PDS_VERSION_ID = PDS3
/* FILE DATA ELEMENTS */
RECORD_TYPE = STREAM
/* POINTERS TO DATA OBJECTS */
^COMPRESSED_FILE = "H0165_0021_SR3.JP2"
/* IDENTIFICATION DATA ELEMENTS */
DATA_SET_ID = "MEX-M-HRSC-5-REFDR-MAPPROJECTED-V3.0"
DATA_SET_NAME = "MARS EXPRESS HRSC MAP PROJECTED REFDR V3.0"
DETECTOR_ID = MEX_HRSC_SRC
EVENT_TYPE = "MARS-REGIONAL-STEREO-Te-Im-Fl"
INSTRUMENT_HOST_ID = MEX
INSTRUMENT_HOST_NAME = "MARS EXPRESS"
INSTRUMENT_ID = HRSC
INSTRUMENT_NAME = "HIGH RESOLUTION STEREO CAMERA"
MISSION_NAME = "MARS EXPRESS"
MISSION_PHASE_NAME = MC_Phase_3
PROCESSING_LEVEL_ID = 3
PRODUCT_CREATION_TIME = 2016-03-02T19:38:26.000Z
PRODUCT_ID = "H0165_0021_SR3.JP2"
RELEASE_ID = 0004
REVISION_ID = 0000
/* QUALITY DATA ELEMENTS */
DATA_QUALITY_ID = 1
DATA_QUALITY_DESC = "Data calculated based on original SPICE kernels"
/* TIME DATA ELEMENTS */
SPACECRAFT_CLOCK_START_COUNT = "1/0026290393.57289"
SPACECRAFT_CLOCK_STOP_COUNT = "1/0026291159.14104"
IMAGE_TIME = 2004-03-02T07:01:08.024Z
START_TIME = 2004-03-02T07:01:08.023Z
STOP_TIME = 2004-03-02T07:01:08.026Z
/* ORBITAL DATA ELEMENTS */
ASCENDING_NODE_LONGITUDE = 225.56
MAXIMUM_RESOLUTION = 2.482
FOOTPRINT_POINT_LATITUDE = (-33.465,-33.4628,-33.4606,-33.4593, -33.4569,-33.4549,-33.4538,-33.4526, -33.4512,-33.4493,-33.4478,-33.4464, -33.4443,-33.4426,-33.4411,-33.4389, -33.4375,-33.4356,-33.4339,-33.4315, -33.4292,-33.428,-33.4263,-33.4249, -33.4232,-33.4232,-33.4232,-33.4233, -33.4233,-33.4234,-33.4234,-33.4234, -33.4235,-33.4235,-33.4236,-33.4236, -33.4236,-33.4237,-33.4237,-33.4238, -33.4238,-33.4238,-33.4239,-33.4239, -33.4239,-33.424,-33.424,-33.4241, -33.4241,-33.4241,-33.426,-33.4275, -33.4294,-33.4309,-33.433,-33.4347, -33.4366,-33.4382,-33.4393,-33.4409, -33.4428,-33.4439,-33.4456,-33.4474, -33.4488,-33.4501,-33.4517,-33.4536, -33.4552,-33.4573,-33.4595,-33.4612, -33.463,-33.4641,-33.4663,-33.4663, -33.4663,-33.4662,-33.4662,-33.4662, -33.4661,-33.4661,-33.466,-33.466, -33.466,-33.4659,-33.4659,-33.4659, -33.4658,-33.4658,-33.4657,-33.4657, -33.4657,-33.4656,-33.4656,-33.4655, -33.4655,-33.4655,-33.4654,-33.465)
FOOTPRINT_POINT_LONGITUDE = (301.444,301.444,301.444,301.444, 301.444,301.444,301.444,301.444,301.444 ,301.444,301.444,301.444,301.444, 301.444,301.444,301.444,301.444,301.445 ,301.445,301.445,301.445,301.445, 301.445,301.445,301.445,301.447,301.449 ,301.451,301.453,301.455,301.457,301.46 ,301.462,301.464,301.466,301.468,301.47 ,301.472,301.474,301.476,301.478,301.48 ,301.482,301.484,301.486,301.488,301.49 ,301.492,301.494,301.496,301.496, 301.496,301.496,301.496,301.496,301.496 ,301.496,301.496,301.496,301.496, 301.495,301.495,301.495,301.495,301.495 ,301.495,301.495,301.495,301.495, 301.495,301.495,301.495,301.495,301.495 ,301.495,301.493,301.491,301.489, 301.487,301.485,301.483,301.481,301.479 ,301.477,301.475,301.473,301.471, 301.469,301.467,301.465,301.463,301.461 ,301.459,301.457,301.455,301.453, 301.451,301.449,301.447,301.444)
ORBIT_NUMBER = 165
ORBITAL_ECCENTRICITY = 0.608
ORBITAL_INCLINATION = 86.59
ORBITAL_SEMIMAJOR_AXIS = 9322.44
PERIAPSIS_ALTITUDE = 266.61
PERIAPSIS_ARGUMENT_ANGLE = 331.7
PERIAPSIS_TIME = 2004-03-02T07:02:25.000Z
SPACECRAFT_ORIENTATION = (0.0,1.0,0.0)
^MEX_ORIENTATION_DESC = "MEX_ORIENTATION_DESC.TXT"
SPACECRAFT_POINTING_MODE = ACROSSTRACK
^MEX_POINTING_DESC = "MEX_POINTING_DESC.TXT"
RIGHT_ASCENSION = -1e+32
DECLINATION = -1e+32
OFFSET_ANGLE = 0.15
SPACECRAFT_SOLAR_DISTANCE = 2.32406e+08
TARGET_NAME = MARS
/* CAMERA DATA ELEMENTS */
BUFFER_MODE_ID = DIRECT
EXPOSURE_DURATION = 2.52
INST_CMPRS_NAME = NONE
INST_CMPRS_RATIO = 1.0
INST_CMPRS_QUALITY = -2147483648
INST_CMPRS_QUANTZ_TBL_ID = -2147483648
INSTRUMENT_TEMPERATURE = 14.2424
MISSING_FRAMES = 0
START_BIT = 0
/* RADIOMETRIC DATA ELEMENTS */
BANDWIDTH = 250.0
CENTER_FILTER_WAVELENGTH = 600.0
RADIANCE_OFFSET = -9.99e+31
RADIANCE_SCALING_FACTOR = -9.99e+31
REFLECTANCE_SCALING_FACTOR = -9.99e+31
MEX:REFLECTANCE_OFFSET = -9.99e+31
/* IMAGE OBJECT DEFINITIONS */
OBJECT = IMAGE
  INTERCHANGE_FORMAT = BINARY
  LINES = 1087
  LINE_SAMPLES = 1102
  SAMPLE_TYPE = UNSIGNED_INTEGER
  SAMPLE_BITS = 8
  BANDS = 1
  BAND_STORAGE_TYPE = BAND_SEQUENTIAL
  MAXIMUM = 2937
  MEAN = 2549.63
  MINIMUM = 0
  STANDARD_DEVIATION = 100.252
END_OBJECT = IMAGE
/* MAP OBJECT DEFINITIONS */
OBJECT = IMAGE_MAP_PROJECTION
  ^DATA_SET_MAP_PROJECTION_CATALOG= "DSMAP.CAT"
  A_AXIS_RADIUS = 3396.19
  B_AXIS_RADIUS = 3396.19
  C_AXIS_RADIUS = 3396.19
  CENTER_LATITUDE = 0.0
  CENTER_LONGITUDE = 301.0
  COORDINATE_SYSTEM_NAME = PLANETOGRAPHIC
  COORDINATE_SYSTEM_TYPE = "BODY-FIXED ROTATING"
  EASTERNMOST_LONGITUDE = 301.496
  FIRST_STANDARD_PARALLEL = "N/A"
  LINE_FIRST_PIXEL = 1
  LINE_LAST_PIXEL = 1087
  LINE_PROJECTION_OFFSET = -791940.0
  MAP_PROJECTION_ROTATION = 0.0
  MAP_PROJECTION_TYPE = SINUSOIDAL
  MAP_RESOLUTION = 23709.8786048756
  MAP_SCALE = 0.0025
  MAXIMUM_LATITUDE = -33.4232
  MINIMUM_LATITUDE = -33.4663
  POSITIVE_LONGITUDE_DIRECTION = EAST
  REFERENCE_LATITUDE = "N/A"
  REFERENCE_LONGITUDE = "N/A"
  SAMPLE_FIRST_PIXEL = 1
  SAMPLE_LAST_PIXEL = 1102
  SAMPLE_PROJECTION_OFFSET = -8646.0
  SECOND_STANDARD_PARALLEL = "N/A"
  WESTERNMOST_LONGITUDE = 301.444
END_OBJECT = IMAGE_MAP_PROJECTION
/* The JPEG2000 image data file associated with this label. */
OBJECT = COMPRESSED_FILE
  FILE_NAME = "H0165_0021_SR3.JP2"
  RECORD_TYPE = UNDEFINED
  FILE_RECORDS = UNK
  ENCODING_TYPE = "JP2"
  INTERCHANGE_FORMAT = BINARY
  UNCOMPRESSED_FILE_NAME = "H0165_0021_SR3.IMG"
  REQUIRED_STORAGE_BYTES = "1216608"
  ^DESCRIPTION = "JP2INFO.TXT"
END_OBJECT = COMPRESSED_FILE
END
