PDS_VERSION_ID = PDS3
/* FILE DATA ELEMENTS */
RECORD_TYPE = STREAM
/* POINTERS TO DATA OBJECTS */
^COMPRESSED_FILE = "H0165_0028_SR3.JP2"
/* IDENTIFICATION DATA ELEMENTS */
DATA_SET_ID = "MEX-M-HRSC-5-REFDR-MAPPROJECTED-V3.0"
DATA_SET_NAME = "MARS EXPRESS HRSC MAP PROJECTED REFDR V3.0"
DETECTOR_ID = MEX_HRSC_SRC
EVENT_TYPE = "MARS-REGIONAL-STEREO-Te-Im-Fl"
INSTRUMENT_HOST_ID = MEX
INSTRUMENT_HOST_NAME = "MARS EXPRESS"
INSTRUMENT_ID = HRSC
INSTRUMENT_NAME = "HIGH RESOLUTION STEREO CAMERA"
MISSION_NAME = "MARS EXPRESS"
MISSION_PHASE_NAME = MC_Phase_3
PROCESSING_LEVEL_ID = 3
PRODUCT_CREATION_TIME = 2016-03-02T19:38:26.000Z
PRODUCT_ID = "H0165_0028_SR3.JP2"
RELEASE_ID = 0004
REVISION_ID = 0000
/* QUALITY DATA ELEMENTS */
DATA_QUALITY_ID = 1
DATA_QUALITY_DESC = "Data calculated based on original SPICE kernels"
/* TIME DATA ELEMENTS */
SPACECRAFT_CLOCK_START_COUNT = "1/0026290393.57289"
SPACECRAFT_CLOCK_STOP_COUNT = "1/0026291159.14104"
IMAGE_TIME = 2004-03-02T07:01:11.839Z
START_TIME = 2004-03-02T07:01:11.838Z
STOP_TIME = 2004-03-02T07:01:11.841Z
/* ORBITAL DATA ELEMENTS */
ASCENDING_NODE_LONGITUDE = 225.56
MAXIMUM_RESOLUTION = 2.477
FOOTPRINT_POINT_LATITUDE = (-33.2069,-33.2049,-33.2033,-33.2012, -33.1994,-33.1978,-33.1967,-33.195, -33.1925,-33.1912,-33.1897,-33.1884, -33.1871,-33.1851,-33.1837,-33.1821, -33.181,-33.1793,-33.1782,-33.1766, -33.1745,-33.1729,-33.1716,-33.1697, -33.1677,-33.1655,-33.1656,-33.1656, -33.1657,-33.1657,-33.1657,-33.1658, -33.1658,-33.1658,-33.1659,-33.1659, -33.166,-33.166,-33.166,-33.1661, -33.1661,-33.1662,-33.1662,-33.1662, -33.1663,-33.1663,-33.1663,-33.1664, -33.1664,-33.1665,-33.1671,-33.1692, -33.1705,-33.1722,-33.1746,-33.1761, -33.1782,-33.1805,-33.1818,-33.1835, -33.1858,-33.1869,-33.1881,-33.1891, -33.1902,-33.1918,-33.1929,-33.1952, -33.1968,-33.1988,-33.2011,-33.203, -33.2044,-33.2064,-33.2086,-33.2086, -33.2085,-33.2085,-33.2084,-33.2084, -33.2084,-33.2083,-33.2083,-33.2083, -33.2082,-33.2082,-33.2081,-33.2081, -33.2081,-33.208,-33.208,-33.208, -33.2079,-33.2079,-33.2078,-33.2078, -33.2078,-33.2077,-33.2077,-33.2069)
FOOTPRINT_POINT_LONGITUDE = (301.451,301.451,301.451,301.451, 301.451,301.451,301.451,301.451,301.451 ,301.451,301.451,301.451,301.451, 301.452,301.452,301.452,301.452,301.452 ,301.452,301.452,301.452,301.452, 301.452,301.452,301.452,301.454,301.456 ,301.458,301.46,301.462,301.464,301.466 ,301.468,301.47,301.472,301.474,301.476 ,301.478,301.48,301.482,301.484,301.486 ,301.488,301.49,301.492,301.494,301.496 ,301.498,301.5,301.502,301.503,301.503, 301.503,301.503,301.503,301.503,301.503 ,301.503,301.502,301.502,301.502, 301.502,301.502,301.502,301.502,301.502 ,301.502,301.502,301.502,301.502, 301.502,301.502,301.502,301.502,301.502 ,301.5,301.498,301.496,301.494,301.492, 301.49,301.488,301.486,301.484,301.482, 301.48,301.478,301.476,301.474,301.472, 301.47,301.468,301.466,301.464,301.462, 301.46,301.458,301.456,301.454,301.451)
ORBIT_NUMBER = 165
ORBITAL_ECCENTRICITY = 0.608
ORBITAL_INCLINATION = 86.59
ORBITAL_SEMIMAJOR_AXIS = 9322.44
PERIAPSIS_ALTITUDE = 266.61
PERIAPSIS_ARGUMENT_ANGLE = 331.7
PERIAPSIS_TIME = 2004-03-02T07:02:25.000Z
SPACECRAFT_ORIENTATION = (0.0,1.0,0.0)
^MEX_ORIENTATION_DESC = "MEX_ORIENTATION_DESC.TXT"
SPACECRAFT_POINTING_MODE = ACROSSTRACK
^MEX_POINTING_DESC = "MEX_POINTING_DESC.TXT"
RIGHT_ASCENSION = -1e+32
DECLINATION = -1e+32
OFFSET_ANGLE = 0.15
SPACECRAFT_SOLAR_DISTANCE = 2.32406e+08
TARGET_NAME = MARS
/* CAMERA DATA ELEMENTS */
BUFFER_MODE_ID = DIRECT
EXPOSURE_DURATION = 2.52
INST_CMPRS_NAME = NONE
INST_CMPRS_RATIO = 1.0
INST_CMPRS_QUALITY = -2147483648
INST_CMPRS_QUANTZ_TBL_ID = -2147483648
INSTRUMENT_TEMPERATURE = 14.2424
MISSING_FRAMES = 0
START_BIT = 0
/* RADIOMETRIC DATA ELEMENTS */
BANDWIDTH = 250.0
CENTER_FILTER_WAVELENGTH = 600.0
RADIANCE_OFFSET = -9.99e+31
RADIANCE_SCALING_FACTOR = -9.99e+31
REFLECTANCE_SCALING_FACTOR = -9.99e+31
MEX:REFLECTANCE_OFFSET = -9.99e+31
/* IMAGE OBJECT DEFINITIONS */
OBJECT = IMAGE
  INTERCHANGE_FORMAT = BINARY
  LINES = 1085
  LINE_SAMPLES = 1100
  SAMPLE_TYPE = UNSIGNED_INTEGER
  SAMPLE_BITS = 8
  BANDS = 1
  BAND_STORAGE_TYPE = BAND_SEQUENTIAL
  MAXIMUM = 2855
  MEAN = 2511.57
  MINIMUM = 2081
  STANDARD_DEVIATION = 65.7898
END_OBJECT = IMAGE
/* MAP OBJECT DEFINITIONS */
OBJECT = IMAGE_MAP_PROJECTION
  ^DATA_SET_MAP_PROJECTION_CATALOG= "DSMAP.CAT"
  A_AXIS_RADIUS = 3396.19
  B_AXIS_RADIUS = 3396.19
  C_AXIS_RADIUS = 3396.19
  CENTER_LATITUDE = 0.0
  CENTER_LONGITUDE = 301.0
  COORDINATE_SYSTEM_NAME = PLANETOGRAPHIC
  COORDINATE_SYSTEM_TYPE = "BODY-FIXED ROTATING"
  EASTERNMOST_LONGITUDE = 301.503
  FIRST_STANDARD_PARALLEL = "N/A"
  LINE_FIRST_PIXEL = 1
  LINE_LAST_PIXEL = 1085
  LINE_PROJECTION_OFFSET = -785842.0
  MAP_PROJECTION_ROTATION = 0.0
  MAP_PROJECTION_TYPE = SINUSOIDAL
  MAP_RESOLUTION = 23709.8786048756
  MAP_SCALE = 0.0025
  MAXIMUM_LATITUDE = -33.1655
  MINIMUM_LATITUDE = -33.2086
  POSITIVE_LONGITUDE_DIRECTION = EAST
  REFERENCE_LATITUDE = "N/A"
  REFERENCE_LONGITUDE = "N/A"
  SAMPLE_FIRST_PIXEL = 1
  SAMPLE_LAST_PIXEL = 1100
  SAMPLE_PROJECTION_OFFSET = -8815.0
  SECOND_STANDARD_PARALLEL = "N/A"
  WESTERNMOST_LONGITUDE = 301.451
END_OBJECT = IMAGE_MAP_PROJECTION
/* The JPEG2000 image data file associated with this label. */
OBJECT = COMPRESSED_FILE
  FILE_NAME = "H0165_0028_SR3.JP2"
  RECORD_TYPE = UNDEFINED
  FILE_RECORDS = UNK
  ENCODING_TYPE = "JP2"
  INTERCHANGE_FORMAT = BINARY
  UNCOMPRESSED_FILE_NAME = "H0165_0028_SR3.IMG"
  REQUIRED_STORAGE_BYTES = "1212200"
  ^DESCRIPTION = "JP2INFO.TXT"
END_OBJECT = COMPRESSED_FILE
END
