PDS_VERSION_ID = PDS3
/* FILE DATA ELEMENTS */
RECORD_TYPE = STREAM
/* POINTERS TO DATA OBJECTS */
^COMPRESSED_FILE = "H0165_0053_SR3.JP2"
/* IDENTIFICATION DATA ELEMENTS */
DATA_SET_ID = "MEX-M-HRSC-5-REFDR-MAPPROJECTED-V3.0"
DATA_SET_NAME = "MARS EXPRESS HRSC MAP PROJECTED REFDR V3.0"
DETECTOR_ID = MEX_HRSC_SRC
EVENT_TYPE = "MARS-REGIONAL-STEREO-Te-Im-Fl"
INSTRUMENT_HOST_ID = MEX
INSTRUMENT_HOST_NAME = "MARS EXPRESS"
INSTRUMENT_ID = HRSC
INSTRUMENT_NAME = "HIGH RESOLUTION STEREO CAMERA"
MISSION_NAME = "MARS EXPRESS"
MISSION_PHASE_NAME = MC_Phase_3
PROCESSING_LEVEL_ID = 3
PRODUCT_CREATION_TIME = 2016-03-02T19:38:26.000Z
PRODUCT_ID = "H0165_0053_SR3.JP2"
RELEASE_ID = 0004
REVISION_ID = 0000
/* QUALITY DATA ELEMENTS */
DATA_QUALITY_ID = 1
DATA_QUALITY_DESC = "Data calculated based on original SPICE kernels"
/* TIME DATA ELEMENTS */
SPACECRAFT_CLOCK_START_COUNT = "1/0026290393.57289"
SPACECRAFT_CLOCK_STOP_COUNT = "1/0026291159.14104"
IMAGE_TIME = 2004-03-02T07:05:58.522Z
START_TIME = 2004-03-02T07:05:58.520Z
STOP_TIME = 2004-03-02T07:05:58.523Z
/* ORBITAL DATA ELEMENTS */
ASCENDING_NODE_LONGITUDE = 225.56
MAXIMUM_RESOLUTION = 2.854
FOOTPRINT_POINT_LATITUDE = (-13.8949,-13.8932,-13.8915,-13.8888, -13.8873,-13.8848,-13.8832,-13.8815, -13.88,-13.8773,-13.8759,-13.8742, -13.872,-13.8706,-13.8686,-13.866, -13.8641,-13.8624,-13.8595,-13.8569, -13.8549,-13.8528,-13.8503,-13.8486, -13.8478,-13.8478,-13.8478,-13.8478, -13.8478,-13.8478,-13.8479,-13.8479, -13.8479,-13.8479,-13.8479,-13.8479, -13.8479,-13.8479,-13.8479,-13.8479, -13.8479,-13.8479,-13.8479,-13.8479, -13.8479,-13.8479,-13.8479,-13.8479, -13.8479,-13.8494,-13.8517,-13.8532, -13.8549,-13.8568,-13.8583,-13.8604, -13.8617,-13.8632,-13.8645,-13.8666, -13.8692,-13.8707,-13.8729,-13.8755, -13.8774,-13.8789,-13.8812,-13.8841, -13.886,-13.8889,-13.8907,-13.8927, -13.8941,-13.8961,-13.8965,-13.8965, -13.8965,-13.8965,-13.8965,-13.8965, -13.8965,-13.8965,-13.8965,-13.8965, -13.8965,-13.8965,-13.8965,-13.8965, -13.8965,-13.8965,-13.8964,-13.8964, -13.8964,-13.8964,-13.8964,-13.8964, -13.8964,-13.8964,-13.8964,-13.8949)
FOOTPRINT_POINT_LONGITUDE = (301.703,301.703,301.703,301.703, 301.703,301.703,301.703,301.703,301.703 ,301.703,301.703,301.703,301.703, 301.703,301.703,301.703,301.703,301.703 ,301.703,301.703,301.703,301.703, 301.703,301.703,301.704,301.706,301.708 ,301.71,301.712,301.714,301.716,301.718 ,301.72,301.722,301.724,301.726,301.728 ,301.73,301.732,301.734,301.736,301.738 ,301.74,301.742,301.744,301.746,301.748 ,301.75,301.752,301.753,301.753,301.753 ,301.753,301.753,301.753,301.753, 301.753,301.753,301.753,301.753,301.753 ,301.753,301.753,301.753,301.753, 301.753,301.753,301.753,301.753,301.753 ,301.753,301.753,301.753,301.753, 301.752,301.75,301.748,301.746,301.744, 301.742,301.74,301.738,301.736,301.734, 301.732,301.73,301.728,301.726,301.724, 301.722,301.72,301.718,301.716,301.714, 301.712,301.71,301.708,301.706,301.704, 301.703)
ORBIT_NUMBER = 165
ORBITAL_ECCENTRICITY = 0.608
ORBITAL_INCLINATION = 86.59
ORBITAL_SEMIMAJOR_AXIS = 9322.44
PERIAPSIS_ALTITUDE = 266.61
PERIAPSIS_ARGUMENT_ANGLE = 331.7
PERIAPSIS_TIME = 2004-03-02T07:02:25.000Z
SPACECRAFT_ORIENTATION = (0.0,1.0,0.0)
^MEX_ORIENTATION_DESC = "MEX_ORIENTATION_DESC.TXT"
SPACECRAFT_POINTING_MODE = ACROSSTRACK
^MEX_POINTING_DESC = "MEX_POINTING_DESC.TXT"
RIGHT_ASCENSION = -1e+32
DECLINATION = -1e+32
OFFSET_ANGLE = 0.15
SPACECRAFT_SOLAR_DISTANCE = 2.32406e+08
TARGET_NAME = MARS
/* CAMERA DATA ELEMENTS */
BUFFER_MODE_ID = DIRECT
EXPOSURE_DURATION = 2.52
INST_CMPRS_NAME = NONE
INST_CMPRS_RATIO = 1.0
INST_CMPRS_QUALITY = -2147483648
INST_CMPRS_QUANTZ_TBL_ID = -2147483648
INSTRUMENT_TEMPERATURE = 17.2727
MISSING_FRAMES = 0
START_BIT = 0
/* RADIOMETRIC DATA ELEMENTS */
BANDWIDTH = 250.0
CENTER_FILTER_WAVELENGTH = 600.0
RADIANCE_OFFSET = -9.99e+31
RADIANCE_SCALING_FACTOR = -9.99e+31
REFLECTANCE_SCALING_FACTOR = -9.99e+31
MEX:REFLECTANCE_OFFSET = -9.99e+31
/* IMAGE OBJECT DEFINITIONS */
OBJECT = IMAGE
  INTERCHANGE_FORMAT = BINARY
  LINES = 1200
  LINE_SAMPLES = 1210
  SAMPLE_TYPE = UNSIGNED_INTEGER
  SAMPLE_BITS = 8
  BANDS = 1
  BAND_STORAGE_TYPE = BAND_SEQUENTIAL
  MAXIMUM = 3351
  MEAN = 3036.72
  MINIMUM = 2569
  STANDARD_DEVIATION = 66.9412
END_OBJECT = IMAGE
/* MAP OBJECT DEFINITIONS */
OBJECT = IMAGE_MAP_PROJECTION
  ^DATA_SET_MAP_PROJECTION_CATALOG= "DSMAP.CAT"
  A_AXIS_RADIUS = 3396.19
  B_AXIS_RADIUS = 3396.19
  C_AXIS_RADIUS = 3396.19
  CENTER_LATITUDE = 0.0
  CENTER_LONGITUDE = 302.0
  COORDINATE_SYSTEM_NAME = PLANETOGRAPHIC
  COORDINATE_SYSTEM_TYPE = "BODY-FIXED ROTATING"
  EASTERNMOST_LONGITUDE = 301.753
  FIRST_STANDARD_PARALLEL = "N/A"
  LINE_FIRST_PIXEL = 1
  LINE_LAST_PIXEL = 1200
  LINE_PROJECTION_OFFSET = -328266.0
  MAP_PROJECTION_ROTATION = 0.0
  MAP_PROJECTION_TYPE = SINUSOIDAL
  MAP_RESOLUTION = 23709.8786048756
  MAP_SCALE = 0.0025
  MAXIMUM_LATITUDE = -13.8478
  MINIMUM_LATITUDE = -13.8965
  POSITIVE_LONGITUDE_DIRECTION = EAST
  REFERENCE_LATITUDE = "N/A"
  REFERENCE_LONGITUDE = "N/A"
  SAMPLE_FIRST_PIXEL = 1
  SAMPLE_LAST_PIXEL = 1210
  SAMPLE_PROJECTION_OFFSET = 6874.0
  SECOND_STANDARD_PARALLEL = "N/A"
  WESTERNMOST_LONGITUDE = 301.703
END_OBJECT = IMAGE_MAP_PROJECTION
/* The JPEG2000 image data file associated with this label. */
OBJECT = COMPRESSED_FILE
  FILE_NAME = "H0165_0053_SR3.JP2"
  RECORD_TYPE = UNDEFINED
  FILE_RECORDS = UNK
  ENCODING_TYPE = "JP2"
  INTERCHANGE_FORMAT = BINARY
  UNCOMPRESSED_FILE_NAME = "H0165_0053_SR3.IMG"
  REQUIRED_STORAGE_BYTES = "1471360"
  ^DESCRIPTION = "JP2INFO.TXT"
END_OBJECT = COMPRESSED_FILE
END
