PDS_VERSION_ID = PDS3
/* FILE DATA ELEMENTS */
RECORD_TYPE = STREAM
/* POINTERS TO DATA OBJECTS */
^COMPRESSED_FILE = "H0165_0069_SR3.JP2"
/* IDENTIFICATION DATA ELEMENTS */
DATA_SET_ID = "MEX-M-HRSC-5-REFDR-MAPPROJECTED-V3.0"
DATA_SET_NAME = "MARS EXPRESS HRSC MAP PROJECTED REFDR V3.0"
DETECTOR_ID = MEX_HRSC_SRC
EVENT_TYPE = "MARS-GLOBAL-MAPPING-Fl-Gl-Eo"
INSTRUMENT_HOST_ID = MEX
INSTRUMENT_HOST_NAME = "MARS EXPRESS"
INSTRUMENT_ID = HRSC
INSTRUMENT_NAME = "HIGH RESOLUTION STEREO CAMERA"
MISSION_NAME = "MARS EXPRESS"
MISSION_PHASE_NAME = MC_Phase_3
PROCESSING_LEVEL_ID = 3
PRODUCT_CREATION_TIME = 2016-03-02T19:38:26.000Z
PRODUCT_ID = "H0165_0069_SR3.JP2"
RELEASE_ID = 0004
REVISION_ID = 0000
/* QUALITY DATA ELEMENTS */
DATA_QUALITY_ID = 1
DATA_QUALITY_DESC = "Data calculated based on original SPICE kernels"
/* TIME DATA ELEMENTS */
SPACECRAFT_CLOCK_START_COUNT = "1/0026291547.56198"
SPACECRAFT_CLOCK_STOP_COUNT = "1/0026292214.37500"
IMAGE_TIME = 2004-03-02T07:17:44.495Z
START_TIME = 2004-03-02T07:17:44.237Z
STOP_TIME = 2004-03-02T07:17:44.754Z
/* ORBITAL DATA ELEMENTS */
ASCENDING_NODE_LONGITUDE = 225.56
MAXIMUM_RESOLUTION = 8.929
FOOTPRINT_POINT_LATITUDE = (26.8137,26.8188,26.825,26.8291,26.8333 ,26.8377,26.8428,26.8508,26.8584, 26.8648,26.8701,26.8763,26.8807,26.8879 ,26.8943,26.9,26.9069,26.9125,26.9178, 26.9223,26.9282,26.9338,26.9397,26.9453 ,26.9546,26.9605,26.9645,26.9645, 26.9646,26.9647,26.9647,26.9648,26.9649 ,26.9649,26.965,26.9651,26.9651,26.9652 ,26.9653,26.9653,26.9654,26.9655, 26.9655,26.9656,26.9656,26.9657,26.9658 ,26.9658,26.9659,26.966,26.966,26.9661, 26.9587,26.9536,26.946,26.9404,26.9351, 26.9271,26.9182,26.9124,26.9068,26.8983 ,26.8932,26.8875,26.8816,26.8743,26.868 ,26.858,26.8503,26.8431,26.8377,26.8319 ,26.8277,26.8232,26.8141,26.814,26.814, 26.8139,26.8139,26.8138,26.8137,26.8137 ,26.8136,26.8135,26.8135,26.8134, 26.8133,26.8133,26.8132,26.8132,26.8131 ,26.813,26.813,26.8129,26.8128,26.8128, 26.8127,26.8126,26.8126,26.8137)
FOOTPRINT_POINT_LONGITUDE = (301.35,301.35,301.35,301.35,301.35, 301.35,301.35,301.35,301.35,301.35, 301.35,301.349,301.349,301.349,301.349, 301.349,301.349,301.349,301.349,301.349 ,301.349,301.349,301.349,301.349, 301.349,301.348,301.35,301.357,301.364, 301.371,301.377,301.384,301.391,301.398 ,301.405,301.411,301.418,301.425, 301.432,301.438,301.445,301.452,301.459 ,301.465,301.472,301.479,301.486, 301.493,301.499,301.506,301.513,301.52, 301.521,301.521,301.521,301.521,301.521 ,301.521,301.521,301.521,301.521, 301.521,301.521,301.522,301.522,301.522 ,301.522,301.522,301.522,301.522, 301.522,301.522,301.522,301.522,301.522 ,301.515,301.509,301.502,301.495, 301.488,301.482,301.475,301.468,301.461 ,301.454,301.448,301.441,301.434, 301.427,301.421,301.414,301.407,301.4, 301.394,301.387,301.38,301.373,301.367, 301.36,301.35)
ORBIT_NUMBER = 165
ORBITAL_ECCENTRICITY = 0.608
ORBITAL_INCLINATION = 86.59
ORBITAL_SEMIMAJOR_AXIS = 9322.44
PERIAPSIS_ALTITUDE = 266.61
PERIAPSIS_ARGUMENT_ANGLE = 331.7
PERIAPSIS_TIME = 2004-03-02T07:02:25.000Z
SPACECRAFT_ORIENTATION = (0.0,1.0,0.0)
^MEX_ORIENTATION_DESC = "MEX_ORIENTATION_DESC.TXT"
SPACECRAFT_POINTING_MODE = ACROSSTRACK
^MEX_POINTING_DESC = "MEX_POINTING_DESC.TXT"
RIGHT_ASCENSION = -1e+32
DECLINATION = -1e+32
OFFSET_ANGLE = 0.15
SPACECRAFT_SOLAR_DISTANCE = 2.32406e+08
TARGET_NAME = MARS
/* CAMERA DATA ELEMENTS */
BUFFER_MODE_ID = BUFFER_8
EXPOSURE_DURATION = 516.096
INST_CMPRS_NAME = NONE
INST_CMPRS_RATIO = 1.0
INST_CMPRS_QUALITY = -2147483648
INST_CMPRS_QUANTZ_TBL_ID = -2147483648
INSTRUMENT_TEMPERATURE = 22.8571
MISSING_FRAMES = 0
START_BIT = 0
/* RADIOMETRIC DATA ELEMENTS */
BANDWIDTH = 250.0
CENTER_FILTER_WAVELENGTH = 600.0
RADIANCE_OFFSET = -9.99e+31
RADIANCE_SCALING_FACTOR = -9.99e+31
REFLECTANCE_SCALING_FACTOR = -9.99e+31
MEX:REFLECTANCE_OFFSET = -9.99e+31
/* IMAGE OBJECT DEFINITIONS */
OBJECT = IMAGE
  INTERCHANGE_FORMAT = BINARY
  LINES = 956
  LINE_SAMPLES = 967
  SAMPLE_TYPE = UNSIGNED_INTEGER
  SAMPLE_BITS = 8
  BANDS = 1
  BAND_STORAGE_TYPE = BAND_SEQUENTIAL
  MAXIMUM = 12966
  MEAN = 7922.36
  MINIMUM = 0
  STANDARD_DEVIATION = 5734.11
END_OBJECT = IMAGE
/* MAP OBJECT DEFINITIONS */
OBJECT = IMAGE_MAP_PROJECTION
  ^DATA_SET_MAP_PROJECTION_CATALOG= "DSMAP.CAT"
  A_AXIS_RADIUS = 3396.19
  B_AXIS_RADIUS = 3396.19
  C_AXIS_RADIUS = 3396.19
  CENTER_LATITUDE = 0.0
  CENTER_LONGITUDE = 301.0
  COORDINATE_SYSTEM_NAME = PLANETOGRAPHIC
  COORDINATE_SYSTEM_TYPE = "BODY-FIXED ROTATING"
  EASTERNMOST_LONGITUDE = 301.522
  FIRST_STANDARD_PARALLEL = "N/A"
  LINE_FIRST_PIXEL = 1
  LINE_LAST_PIXEL = 956
  LINE_PROJECTION_OFFSET = 159795.0
  MAP_PROJECTION_ROTATION = 0.0
  MAP_PROJECTION_TYPE = SINUSOIDAL
  MAP_RESOLUTION = 5927.46965121889
  MAP_SCALE = 0.01
  MAXIMUM_LATITUDE = 26.9661
  MINIMUM_LATITUDE = 26.8126
  POSITIVE_LONGITUDE_DIRECTION = EAST
  REFERENCE_LATITUDE = "N/A"
  REFERENCE_LONGITUDE = "N/A"
  SAMPLE_FIRST_PIXEL = 1
  SAMPLE_LAST_PIXEL = 967
  SAMPLE_PROJECTION_OFFSET = -1813.0
  SECOND_STANDARD_PARALLEL = "N/A"
  WESTERNMOST_LONGITUDE = 301.348
END_OBJECT = IMAGE_MAP_PROJECTION
/* The JPEG2000 image data file associated with this label. */
OBJECT = COMPRESSED_FILE
  FILE_NAME = "H0165_0069_SR3.JP2"
  RECORD_TYPE = UNDEFINED
  FILE_RECORDS = UNK
  ENCODING_TYPE = "JP2"
  INTERCHANGE_FORMAT = BINARY
  UNCOMPRESSED_FILE_NAME = "H0165_0069_SR3.IMG"
  REQUIRED_STORAGE_BYTES = "942825"
  ^DESCRIPTION = "JP2INFO.TXT"
END_OBJECT = COMPRESSED_FILE
END
