PDS_VERSION_ID = PDS3
/* FILE DATA ELEMENTS */
RECORD_TYPE = STREAM
/* POINTERS TO DATA OBJECTS */
^COMPRESSED_FILE = "H0231_0000_ND3.JP2"
/* IDENTIFICATION DATA ELEMENTS */
DATA_SET_ID = "MEX-M-HRSC-5-REFDR-MAPPROJECTED-V3.0"
DATA_SET_NAME = "MARS EXPRESS HRSC MAP PROJECTED REFDR V3.0"
DETECTOR_ID = MEX_HRSC_NADIR
EVENT_TYPE = "MARS-GLOBAL-VARIABLE-Gl-At"
INSTRUMENT_HOST_ID = MEX
INSTRUMENT_HOST_NAME = "MARS EXPRESS"
INSTRUMENT_ID = HRSC
INSTRUMENT_NAME = "HIGH RESOLUTION STEREO CAMERA"
MISSION_NAME = "MARS EXPRESS"
MISSION_PHASE_NAME = MC_Phase_4
PROCESSING_LEVEL_ID = 3
PRODUCT_CREATION_TIME = 2016-03-02T22:59:35.000Z
PRODUCT_ID = "H0231_0000_ND3.JP2"
RELEASE_ID = 0005
REVISION_ID = 0000
/* QUALITY DATA ELEMENTS */
DATA_QUALITY_ID = 1
DATA_QUALITY_DESC = "Data calculated based on original SPICE kernels"
/* TIME DATA ELEMENTS */
SPACECRAFT_CLOCK_START_COUNT = "1/0028094270.57157"
SPACECRAFT_CLOCK_STOP_COUNT = "1/0028094615.45809"
START_TIME = 2004-03-23T03:57:59.944Z
STOP_TIME = 2004-03-23T04:03:42.864Z
/* ORBITAL DATA ELEMENTS */
ASCENDING_NODE_LONGITUDE = 224.19
MAXIMUM_RESOLUTION = 146.8
FOOTPRINT_POINT_LATITUDE = (79.8612,80.0902,80.2334,80.2876, 80.2519,80.1273,79.9158,79.6225,79.2522 ,78.81,78.3018,77.7321,77.304,78.2988, 78.8158,79.3438,79.8794,80.5498,81.076, 81.5783,82.0349,82.4168,82.63,82.7884, 82.7464,82.4672,81.9528,81.1575,80.0862 ,79.4448,78.7281,77.9459,77.1002, 76.1759,75.1706,74.0901,72.8847,71.5774 ,70.1384,69.0344,68.4004,67.6933, 66.9108,66.0427,65.0739,63.9915,62.7692 ,61.3588,60.5688,59.6995,58.7327, 57.6323,56.3525,54.7443,53.7582,51.5797 ,52.6415,51.1153,51.7517,52.5684, 50.5054,51.4537,51.8617,51.9537,53.8332 ,57.1661,59.4704,61.2998,62.866,64.2445 ,65.4892,66.6238,67.6654,68.6383, 69.5494,70.4061,71.9823,73.4064,74.7031 ,75.8921,76.9847,77.9917,78.9185, 79.7689,80.5445,81.2433,81.8733,82.4301 ,83.2902,83.8118,83.997,83.8834,83.5358 ,83.0223,82.4035,81.7249,81.0161, 80.2953,79.8612)
FOOTPRINT_POINT_LONGITUDE = (164.931,170.567,176.381,182.296, 188.228,194.074,199.751,205.191,210.348 ,215.197,219.727,223.946,230.056, 236.104,239.408,242.976,246.889,252.375 ,257.349,263.086,269.72,277.371,283.847 ,293.273,303.531,314.006,323.95,333.091 ,341.091,344.639,347.896,350.86,353.552 ,356.002,358.226,0.239818,2.06994, 3.7238,5.21783,8.76066,10.6044,12.3641, 14.0342,15.6084,17.0847,18.4625,19.7349 ,20.8902,21.4218,21.9181,22.3755, 22.7865,23.1419,23.4099,23.5004,23.3283 ,23.3977,24.3075,25.3968,27.5286, 28.2311,30.4222,32.5102,34.526,35.9643, 37.2523,38.24,39.096,39.8943,40.6566, 41.4036,42.1409,42.8721,43.6123,44.3628 ,45.1268,46.712,48.3982,50.2109,52.1828 ,54.3418,56.7271,59.3745,62.3242, 65.6159,69.2692,73.3895,78.0147,88.4932 ,100.389,112.678,124.25,134.175,142.213 ,148.471,153.234,156.816,159.481, 164.931)
ORBIT_NUMBER = 231
ORBITAL_ECCENTRICITY = 0.607
ORBITAL_INCLINATION = 86.6
ORBITAL_SEMIMAJOR_AXIS = 9299.14
PERIAPSIS_ALTITUDE = 265.84
PERIAPSIS_ARGUMENT_ANGLE = 320.46
PERIAPSIS_TIME = 2004-03-23T03:17:53.000Z
SPACECRAFT_ORIENTATION = (0.0,-1.0,0.0)
^MEX_ORIENTATION_DESC = "MEX_ORIENTATION_DESC.TXT"
SPACECRAFT_POINTING_MODE = INERT
^MEX_POINTING_DESC = "MEX_POINTING_DESC.TXT"
RIGHT_ASCENSION = 49.966
DECLINATION = 54.581
OFFSET_ANGLE = -1e+32
SPACECRAFT_SOLAR_DISTANCE = 2.36173e+08
TARGET_NAME = MARS
/* CAMERA DATA ELEMENTS */
DETECTOR_TEMPERATURE = 18.5744
FOCAL_PLANE_TEMPERATURE = 8.1755
INST_CMPRS_NAME = "DISCRETE COSINE TRANSFORMATION (DCT)"
INST_CMPRS_RATIO = 12.8268
INST_CMPRS_QUALITY = 0
INST_CMPRS_QUANTZ_TBL_ID = 0
INSTRUMENT_TEMPERATURE = 11.234
LENS_TEMPERATURE = 8.7872
MACROPIXEL_SIZE = 1
MISSING_FRAMES = 0
PIXEL_SUBSAMPLING_FLAG = N
SIGNAL_CHAIN_ID = 0
/* RADIOMETRIC DATA ELEMENTS */
BANDWIDTH = 177.0
CENTER_FILTER_WAVELENGTH = 677.5
RADIANCE_OFFSET = 0.0
RADIANCE_SCALING_FACTOR = 0.0172575
REFLECTANCE_SCALING_FACTOR = 0.000511376
MEX:REFLECTANCE_OFFSET = 0.0
/* IMAGE OBJECT DEFINITIONS */
OBJECT = IMAGE
  INTERCHANGE_FORMAT = BINARY
  LINES = 26243
  LINE_SAMPLES = 18933
  SAMPLE_TYPE = UNSIGNED_INTEGER
  SAMPLE_BITS = 8
  BANDS = 1
  BAND_STORAGE_TYPE = BAND_SEQUENTIAL
  MAXIMUM = 169
  MEAN = 36.913
  MINIMUM = 0
  STANDARD_DEVIATION = 42.4812
END_OBJECT = IMAGE
/* MAP OBJECT DEFINITIONS */
OBJECT = IMAGE_MAP_PROJECTION
  ^DATA_SET_MAP_PROJECTION_CATALOG= "DSMAP.CAT"
  A_AXIS_RADIUS = 3396.0
  B_AXIS_RADIUS = 3396.0
  C_AXIS_RADIUS = 3396.0
  CENTER_LATITUDE = 90.0
  CENTER_LONGITUDE = 0.0
  COORDINATE_SYSTEM_NAME = PLANETOGRAPHIC
  COORDINATE_SYSTEM_TYPE = "BODY-FIXED ROTATING"
  EASTERNMOST_LONGITUDE = 360.0
  FIRST_STANDARD_PARALLEL = "N/A"
  LINE_FIRST_PIXEL = 1
  LINE_LAST_PIXEL = 26243
  LINE_PROJECTION_OFFSET = 5795.0
  MAP_PROJECTION_ROTATION = 0
  MAP_PROJECTION_TYPE = STEREOGRAPHIC
  MAP_RESOLUTION = 592.713803866667
  MAP_SCALE = 0.1
  MAXIMUM_LATITUDE = 90.0
  MINIMUM_LATITUDE = 50.5054
  POSITIVE_LONGITUDE_DIRECTION = EAST
  REFERENCE_LATITUDE = "N/A"
  REFERENCE_LONGITUDE = "N/A"
  SAMPLE_FIRST_PIXEL = 1
  SAMPLE_LAST_PIXEL = 18933
  SAMPLE_PROJECTION_OFFSET = 5752.0
  SECOND_STANDARD_PARALLEL = "N/A"
  WESTERNMOST_LONGITUDE = 0.0
END_OBJECT = IMAGE_MAP_PROJECTION
/* The JPEG2000 image data file associated with this label. */
OBJECT = COMPRESSED_FILE
  FILE_NAME = "H0231_0000_ND3.JP2"
  RECORD_TYPE = UNDEFINED
  FILE_RECORDS = UNK
  ENCODING_TYPE = "JP2"
  INTERCHANGE_FORMAT = BINARY
  UNCOMPRESSED_FILE_NAME = "H0231_0000_ND3.IMG"
  REQUIRED_STORAGE_BYTES = "496915518"
  ^DESCRIPTION = "JP2INFO.TXT"
END_OBJECT = COMPRESSED_FILE
END
