PDS_VERSION_ID = PDS3
/* FILE DATA ELEMENTS */
RECORD_TYPE = STREAM
/* POINTERS TO DATA OBJECTS */
^COMPRESSED_FILE = "H0231_0004_SR3.JP2"
/* IDENTIFICATION DATA ELEMENTS */
DATA_SET_ID = "MEX-M-HRSC-5-REFDR-MAPPROJECTED-V3.0"
DATA_SET_NAME = "MARS EXPRESS HRSC MAP PROJECTED REFDR V3.0"
DETECTOR_ID = MEX_HRSC_SRC
EVENT_TYPE = "MARS-GLOBAL-VARIABLE-Gl-At"
INSTRUMENT_HOST_ID = MEX
INSTRUMENT_HOST_NAME = "MARS EXPRESS"
INSTRUMENT_ID = HRSC
INSTRUMENT_NAME = "HIGH RESOLUTION STEREO CAMERA"
MISSION_NAME = "MARS EXPRESS"
MISSION_PHASE_NAME = MC_Phase_4
PROCESSING_LEVEL_ID = 3
PRODUCT_CREATION_TIME = 2016-03-02T22:59:35.000Z
PRODUCT_ID = "H0231_0004_SR3.JP2"
RELEASE_ID = 0005
REVISION_ID = 0000
/* QUALITY DATA ELEMENTS */
DATA_QUALITY_ID = 1
DATA_QUALITY_DESC = "Data calculated based on original SPICE kernels"
/* TIME DATA ELEMENTS */
SPACECRAFT_CLOCK_START_COUNT = "1/0028094270.57157"
SPACECRAFT_CLOCK_STOP_COUNT = "1/0028094615.45809"
IMAGE_TIME = 2004-03-23T04:00:39.242Z
START_TIME = 2004-03-23T04:00:39.239Z
STOP_TIME = 2004-03-23T04:00:39.246Z
/* ORBITAL DATA ELEMENTS */
ASCENDING_NODE_LONGITUDE = 224.19
MAXIMUM_RESOLUTION = 38.748
FOOTPRINT_POINT_LATITUDE = (86.9288,86.9613,87.0121,87.0445, 87.0769,87.1092,87.1415,87.1737,87.2059 ,87.238,87.2672,87.2992,87.324,87.3559, 87.3879,87.4198,87.4516,87.4834,87.5152 ,87.542,87.5736,87.6053,87.6369,87.6783 ,87.7098,87.7413,87.7903,87.8217,87.853 ,87.8843,87.9145,87.9101,87.9055, 87.9007,87.8926,87.8823,87.8759,87.8695 ,87.8628,87.8557,87.8482,87.84,87.8322, 87.8235,87.8098,87.7959,87.7787,87.7632 ,87.7438,87.7327,87.7191,87.695,87.657, 87.633,87.6034,87.582,87.5526,87.5112, 87.4681,87.4224,87.3752,87.3449,87.3107 ,87.2874,87.2589,87.2209,87.1901, 87.1663,87.1355,87.1084,87.0775,87.0481 ,87.017,86.9844,86.9565,86.9184,86.887, 86.8494,86.8178,86.7772,86.7388,86.7483 ,86.7555,86.769,86.7778,86.7884,86.8, 86.8136,86.8197,86.8273,86.838,86.8463, 86.8572,86.8645,86.8754,86.883,86.8898, 86.8984,86.9032,86.9288)
FOOTPRINT_POINT_LONGITUDE = (4.08498,4.11395,4.15789,4.18843, 4.21964,4.25153,4.28413,4.31745,4.35152 ,4.38637,4.41862,4.45502,4.48129, 4.51919,4.55799,4.59774,4.63845,4.68017 ,4.72294,4.75986,4.80465,4.85059, 4.89774,4.95988,5.00996,5.0614,5.14464, 5.19984,5.2566,5.31501,5.3912,6.10851, 6.82286,7.53416,8.59447,9.82097,10.5163 ,11.2081,11.8959,12.579,13.2572,13.929, 14.5988,15.2608,16.2434,17.2162,18.3344 ,19.2787,20.36,20.9713,21.7319,22.1437, 21.7985,21.591,21.335,21.1566,20.9153, 20.5825,20.2479,19.9074,19.5699,19.3595 ,19.1285,18.9788,18.7943,18.5536, 18.3647,18.2208,18.0387,17.8823,17.7071 ,17.5449,17.3764,17.2043,17.0634, 16.8699,16.7144,16.5325,16.3833,16.1955 ,16.0104,15.5668,15.233,14.5594,14.1076 ,13.5391,12.8508,12.0427,11.6952, 11.2294,10.526,9.93615,9.10518,8.50823, 7.54754,6.82283,6.09477,5.1194,4.50725, 4.08498)
ORBIT_NUMBER = 231
ORBITAL_ECCENTRICITY = 0.607
ORBITAL_INCLINATION = 86.6
ORBITAL_SEMIMAJOR_AXIS = 9299.14
PERIAPSIS_ALTITUDE = 265.84
PERIAPSIS_ARGUMENT_ANGLE = 320.46
PERIAPSIS_TIME = 2004-03-23T03:17:53.000Z
SPACECRAFT_ORIENTATION = (0.0,-1.0,0.0)
^MEX_ORIENTATION_DESC = "MEX_ORIENTATION_DESC.TXT"
SPACECRAFT_POINTING_MODE = INERT
^MEX_POINTING_DESC = "MEX_POINTING_DESC.TXT"
RIGHT_ASCENSION = 49.966
DECLINATION = 54.581
OFFSET_ANGLE = -1e+32
SPACECRAFT_SOLAR_DISTANCE = 2.36173e+08
TARGET_NAME = MARS
/* CAMERA DATA ELEMENTS */
BUFFER_MODE_ID = DIRECT
EXPOSURE_DURATION = 7.056
INST_CMPRS_NAME = NONE
INST_CMPRS_RATIO = 1.0
INST_CMPRS_QUALITY = -2147483648
INST_CMPRS_QUANTZ_TBL_ID = -2147483648
INSTRUMENT_TEMPERATURE = 8.18182
MISSING_FRAMES = 0
START_BIT = 0
/* RADIOMETRIC DATA ELEMENTS */
BANDWIDTH = 250.0
CENTER_FILTER_WAVELENGTH = 600.0
RADIANCE_OFFSET = -9.99e+31
RADIANCE_SCALING_FACTOR = -9.99e+31
REFLECTANCE_SCALING_FACTOR = -9.99e+31
MEX:REFLECTANCE_OFFSET = -9.99e+31
/* IMAGE OBJECT DEFINITIONS */
OBJECT = IMAGE
  INTERCHANGE_FORMAT = BINARY
  LINES = 1633
  LINE_SAMPLES = 1100
  SAMPLE_TYPE = UNSIGNED_INTEGER
  SAMPLE_BITS = 8
  BANDS = 1
  BAND_STORAGE_TYPE = BAND_SEQUENTIAL
  MAXIMUM = 1161
  MEAN = 826.965
  MINIMUM = 0
  STANDARD_DEVIATION = 101.609
END_OBJECT = IMAGE
/* MAP OBJECT DEFINITIONS */
OBJECT = IMAGE_MAP_PROJECTION
  ^DATA_SET_MAP_PROJECTION_CATALOG= "DSMAP.CAT"
  A_AXIS_RADIUS = 3396.19
  B_AXIS_RADIUS = 3396.19
  C_AXIS_RADIUS = 3396.19
  CENTER_LATITUDE = 90.0
  CENTER_LONGITUDE = 0.0
  COORDINATE_SYSTEM_NAME = PLANETOGRAPHIC
  COORDINATE_SYSTEM_TYPE = "BODY-FIXED ROTATING"
  EASTERNMOST_LONGITUDE = 22.1437
  FIRST_STANDARD_PARALLEL = "N/A"
  LINE_FIRST_PIXEL = 1
  LINE_LAST_PIXEL = 1633
  LINE_PROJECTION_OFFSET = -3610.0
  MAP_PROJECTION_ROTATION = 0.0
  MAP_PROJECTION_TYPE = STEREOGRAPHIC
  MAP_RESOLUTION = 1481.86741280472
  MAP_SCALE = 0.04
  MAXIMUM_LATITUDE = 87.9145
  MINIMUM_LATITUDE = 86.7388
  POSITIVE_LONGITUDE_DIRECTION = EAST
  REFERENCE_LATITUDE = "N/A"
  REFERENCE_LONGITUDE = "N/A"
  SAMPLE_FIRST_PIXEL = 1
  SAMPLE_LAST_PIXEL = 1100
  SAMPLE_PROJECTION_OFFSET = -320.0
  SECOND_STANDARD_PARALLEL = "N/A"
  WESTERNMOST_LONGITUDE = 4.08498
END_OBJECT = IMAGE_MAP_PROJECTION
/* The JPEG2000 image data file associated with this label. */
OBJECT = COMPRESSED_FILE
  FILE_NAME = "H0231_0004_SR3.JP2"
  RECORD_TYPE = UNDEFINED
  FILE_RECORDS = UNK
  ENCODING_TYPE = "JP2"
  INTERCHANGE_FORMAT = BINARY
  UNCOMPRESSED_FILE_NAME = "H0231_0004_SR3.IMG"
  REQUIRED_STORAGE_BYTES = "1816100"
  ^DESCRIPTION = "JP2INFO.TXT"
END_OBJECT = COMPRESSED_FILE
END
