PDS_VERSION_ID = PDS3
/* FILE DATA ELEMENTS */
RECORD_TYPE = STREAM
/* POINTERS TO DATA OBJECTS */
^COMPRESSED_FILE = "H0231_0006_SR3.JP2"
/* IDENTIFICATION DATA ELEMENTS */
DATA_SET_ID = "MEX-M-HRSC-5-REFDR-MAPPROJECTED-V3.0"
DATA_SET_NAME = "MARS EXPRESS HRSC MAP PROJECTED REFDR V3.0"
DETECTOR_ID = MEX_HRSC_SRC
EVENT_TYPE = "MARS-GLOBAL-VARIABLE-Gl-At"
INSTRUMENT_HOST_ID = MEX
INSTRUMENT_HOST_NAME = "MARS EXPRESS"
INSTRUMENT_ID = HRSC
INSTRUMENT_NAME = "HIGH RESOLUTION STEREO CAMERA"
MISSION_NAME = "MARS EXPRESS"
MISSION_PHASE_NAME = MC_Phase_4
PROCESSING_LEVEL_ID = 3
PRODUCT_CREATION_TIME = 2016-03-02T22:59:35.000Z
PRODUCT_ID = "H0231_0006_SR3.JP2"
RELEASE_ID = 0005
REVISION_ID = 0000
/* QUALITY DATA ELEMENTS */
DATA_QUALITY_ID = 1
DATA_QUALITY_DESC = "Data calculated based on original SPICE kernels"
/* TIME DATA ELEMENTS */
SPACECRAFT_CLOCK_START_COUNT = "1/0028094270.57157"
SPACECRAFT_CLOCK_STOP_COUNT = "1/0028094615.45809"
IMAGE_TIME = 2004-03-23T04:01:04.858Z
START_TIME = 2004-03-23T04:01:04.854Z
STOP_TIME = 2004-03-23T04:01:04.862Z
/* ORBITAL DATA ELEMENTS */
ASCENDING_NODE_LONGITUDE = 224.19
MAXIMUM_RESOLUTION = 40
FOOTPRINT_POINT_LATITUDE = (84.1011,84.136,84.1709,84.2219,84.2565 ,84.3131,84.3451,84.3796,84.414,84.4483 ,84.4905,84.5247,84.5588,84.5899, 84.6316,84.6655,84.6994,84.748,84.7817, 84.8153,84.8584,84.8918,84.9252,84.965, 84.9982,85.0314,85.0584,85.0915,85.1245 ,85.1252,85.1135,85.0986,85.0865, 85.0712,85.0587,85.0461,85.0334,85.0205 ,85.0042,84.9778,84.961,84.9476,84.9284 ,84.911,84.8934,84.8756,84.8541,84.8358 ,84.8175,84.7973,84.7655,84.7235, 84.6914,84.6472,84.6005,84.5681,84.5357 ,84.4869,84.4542,84.4021,84.3693, 84.3364,84.3147,84.2816,84.2468,84.2249 ,84.1917,84.1584,84.1311,84.0976, 84.0641,84.0345,84.0009,83.9671,83.9255 ,83.8916,83.8576,83.8307,83.7966, 83.7629,83.7832,83.8031,83.8227,83.842, 83.8577,83.8761,83.8943,83.9065,83.9246 ,83.944,83.9577,83.967,83.9797,83.9923, 84.0143,84.026,84.037,84.0494,84.059, 84.1011)
FOOTPRINT_POINT_LONGITUDE = (14.684,14.7638,14.8445,14.9634,15.0462 ,15.1811,15.2593,15.3454,15.4325, 15.5205,15.6299,15.7201,15.8114,15.8953 ,16.0062,16.1007,16.1963,16.3359, 16.4342,16.5337,16.6631,16.7653,16.8687 ,16.9923,17.0985,17.2059,17.2944, 17.4042,17.5154,17.9456,18.2401,18.6062 ,18.8975,19.2595,19.5474,19.8338, 20.1188,20.4022,20.7546,21.3138,21.6605 ,21.9364,22.273,22.6129,22.9505,23.2858 ,23.6851,24.0153,24.3432,24.6287, 24.4825,24.2927,24.1501,23.9564,23.7545 ,23.6175,23.4821,23.2816,23.1497, 22.9422,22.8139,22.6868,22.604,22.4791, 22.3499,22.2692,22.1477,22.0274,21.9303 ,21.8122,21.6953,21.5935,21.4788, 21.3652,21.2274,21.1163,21.0062,20.9205 ,20.8123,20.6326,20.2896,19.9444, 19.5969,19.2471,18.9538,18.5994,18.2429 ,18.0045,17.6452,17.2212,16.9169, 16.6699,16.3621,16.1188,15.6909,15.4442 ,15.1956,14.8822,14.6303,14.684)
ORBIT_NUMBER = 231
ORBITAL_ECCENTRICITY = 0.607
ORBITAL_INCLINATION = 86.6
ORBITAL_SEMIMAJOR_AXIS = 9299.14
PERIAPSIS_ALTITUDE = 265.84
PERIAPSIS_ARGUMENT_ANGLE = 320.46
PERIAPSIS_TIME = 2004-03-23T03:17:53.000Z
SPACECRAFT_ORIENTATION = (0.0,-1.0,0.0)
^MEX_ORIENTATION_DESC = "MEX_ORIENTATION_DESC.TXT"
SPACECRAFT_POINTING_MODE = INERT
^MEX_POINTING_DESC = "MEX_POINTING_DESC.TXT"
RIGHT_ASCENSION = 49.966
DECLINATION = 54.581
OFFSET_ANGLE = -1e+32
SPACECRAFT_SOLAR_DISTANCE = 2.36173e+08
TARGET_NAME = MARS
/* CAMERA DATA ELEMENTS */
BUFFER_MODE_ID = DIRECT
EXPOSURE_DURATION = 7.056
INST_CMPRS_NAME = NONE
INST_CMPRS_RATIO = 1.0
INST_CMPRS_QUALITY = -2147483648
INST_CMPRS_QUANTZ_TBL_ID = -2147483648
INSTRUMENT_TEMPERATURE = 11.2121
MISSING_FRAMES = 0
START_BIT = 0
/* RADIOMETRIC DATA ELEMENTS */
BANDWIDTH = 250.0
CENTER_FILTER_WAVELENGTH = 600.0
RADIANCE_OFFSET = -9.99e+31
RADIANCE_SCALING_FACTOR = -9.99e+31
REFLECTANCE_SCALING_FACTOR = -9.99e+31
MEX:REFLECTANCE_OFFSET = -9.99e+31
/* IMAGE OBJECT DEFINITIONS */
OBJECT = IMAGE
  INTERCHANGE_FORMAT = BINARY
  LINES = 2107
  LINE_SAMPLES = 1484
  SAMPLE_TYPE = UNSIGNED_INTEGER
  SAMPLE_BITS = 8
  BANDS = 1
  BAND_STORAGE_TYPE = BAND_SEQUENTIAL
  MAXIMUM = 545
  MEAN = 287.549
  MINIMUM = 0
  STANDARD_DEVIATION = 61.7255
END_OBJECT = IMAGE
/* MAP OBJECT DEFINITIONS */
OBJECT = IMAGE_MAP_PROJECTION
  ^DATA_SET_MAP_PROJECTION_CATALOG= "DSMAP.CAT"
  A_AXIS_RADIUS = 3396.19
  B_AXIS_RADIUS = 3396.19
  C_AXIS_RADIUS = 3396.19
  CENTER_LATITUDE = 0.0
  CENTER_LONGITUDE = 19.0
  COORDINATE_SYSTEM_NAME = PLANETOGRAPHIC
  COORDINATE_SYSTEM_TYPE = "BODY-FIXED ROTATING"
  EASTERNMOST_LONGITUDE = 24.6287
  FIRST_STANDARD_PARALLEL = "N/A"
  LINE_FIRST_PIXEL = 1
  LINE_LAST_PIXEL = 2107
  LINE_PROJECTION_OFFSET = 125231.0
  MAP_PROJECTION_ROTATION = 0.0
  MAP_PROJECTION_TYPE = SINUSOIDAL
  MAP_RESOLUTION = 1481.86741280472
  MAP_SCALE = 0.04
  MAXIMUM_LATITUDE = 85.12520000000001
  MINIMUM_LATITUDE = 83.7629
  POSITIVE_LONGITUDE_DIRECTION = EAST
  REFERENCE_LATITUDE = "N/A"
  REFERENCE_LONGITUDE = "N/A"
  SAMPLE_FIRST_PIXEL = 1
  SAMPLE_LAST_PIXEL = 1484
  SAMPLE_PROJECTION_OFFSET = 824.0
  SECOND_STANDARD_PARALLEL = "N/A"
  WESTERNMOST_LONGITUDE = 14.6303
END_OBJECT = IMAGE_MAP_PROJECTION
/* The JPEG2000 image data file associated with this label. */
OBJECT = COMPRESSED_FILE
  FILE_NAME = "H0231_0006_SR3.JP2"
  RECORD_TYPE = UNDEFINED
  FILE_RECORDS = UNK
  ENCODING_TYPE = "JP2"
  INTERCHANGE_FORMAT = BINARY
  UNCOMPRESSED_FILE_NAME = "H0231_0006_SR3.IMG"
  REQUIRED_STORAGE_BYTES = "3146080"
  ^DESCRIPTION = "JP2INFO.TXT"
END_OBJECT = COMPRESSED_FILE
END
