PDS_VERSION_ID = PDS3
/* FILE DATA ELEMENTS */
RECORD_TYPE = STREAM
/* POINTERS TO DATA OBJECTS */
^COMPRESSED_FILE = "H0241_0000_P13.JP2"
/* IDENTIFICATION DATA ELEMENTS */
DATA_SET_ID = "MEX-M-HRSC-5-REFDR-MAPPROJECTED-V3.0"
DATA_SET_NAME = "MARS EXPRESS HRSC MAP PROJECTED REFDR V3.0"
DETECTOR_ID = MEX_HRSC_P1
EVENT_TYPE = "MARS-LOCAL-MAPPING-Im-Fl"
INSTRUMENT_HOST_ID = MEX
INSTRUMENT_HOST_NAME = "MARS EXPRESS"
INSTRUMENT_ID = HRSC
INSTRUMENT_NAME = "HIGH RESOLUTION STEREO CAMERA"
MISSION_NAME = "MARS EXPRESS"
MISSION_PHASE_NAME = MC_Phase_4
PROCESSING_LEVEL_ID = 3
PRODUCT_CREATION_TIME = 2016-03-02T22:59:35.000Z
PRODUCT_ID = "H0241_0000_P13.JP2"
RELEASE_ID = 0005
REVISION_ID = 0000
/* QUALITY DATA ELEMENTS */
DATA_QUALITY_ID = 1
DATA_QUALITY_DESC = "Data calculated based on original SPICE kernels"
/* TIME DATA ELEMENTS */
SPACECRAFT_CLOCK_START_COUNT = "1/0028364815.56451"
SPACECRAFT_CLOCK_STOP_COUNT = "1/0028364996.38450"
START_TIME = 2004-03-26T07:07:12.720Z
STOP_TIME = 2004-03-26T07:09:23.303Z
/* ORBITAL DATA ELEMENTS */
ASCENDING_NODE_LONGITUDE = 223.98
MAXIMUM_RESOLUTION = 44
FOOTPRINT_POINT_LATITUDE = (-35.0293,-35.0377,-35.0457,-35.0534, -35.0607,-35.052,-34.7888,-34.6123, -34.4355,-34.2582,-34.0804,-33.9012, -33.7205,-33.5431,-33.3663,-33.1915, -33.0138,-32.8363,-32.6584,-32.4811, -32.304,-32.1266,-31.9493,-31.7721, -31.5063,-31.3291,-31.1521,-30.8866, -30.7095,-30.5327,-30.356,-30.1785, -30.0015,-29.8248,-29.648,-29.4708, -29.2058,-29.029,-28.8517,-28.5859, -28.3209,-28.1436,-27.9666,-27.7899, -27.6134,-27.4366,-27.2601,-27.0838, -26.9069,-26.642,-26.3776,-26.2012, -26.16,-26.1557,-26.1458,-26.1395, -26.131,-26.3928,-26.6569,-26.9214, -27.097,-27.2701,-27.4466,-27.6256, -27.8857,-28.0669,-28.2424,-28.4187, -28.5947,-28.8598,-29.1248,-29.3015, -29.4783,-29.6549,-29.8317,-30.0082, -30.2739,-30.4509,-30.6278,-30.8047, -31.07,-31.247,-31.4242,-31.6899, -31.8667,-32.1322,-32.3978,-32.5749, -32.8405,-33.0176,-33.1948,-33.4604, -33.7266,-33.9927,-34.1699,-34.3469, -34.524,-34.7897,-34.9666,-35.0293)
FOOTPRINT_POINT_LONGITUDE = (155.991,156.162,156.332,156.5,156.668, 156.961,156.97,156.976,156.982,156.988, 156.994,157.0,157.006,157.012,157.017, 157.023,157.029,157.034,157.04,157.045, 157.051,157.056,157.061,157.067,157.075 ,157.08,157.085,157.093,157.098,157.103 ,157.108,157.113,157.118,157.122, 157.127,157.132,157.139,157.144,157.149 ,157.156,157.163,157.167,157.172, 157.176,157.181,157.185,157.19,157.194, 157.198,157.205,157.211,157.215,157.0, 156.859,156.551,156.363,156.129,156.033 ,156.029,156.026,156.022,156.016, 156.014,156.013,156.004,156.006,156.002 ,155.998,155.994,155.989,155.983, 155.979,155.976,155.971,155.967,155.963 ,155.957,155.953,155.948,155.944, 155.936,155.932,155.927,155.92,155.914, 155.906,155.898,155.893,155.884,155.878 ,155.873,155.863,155.855,155.846, 155.839,155.833,155.826,155.816,155.809 ,155.991)
ORBIT_NUMBER = 241
ORBITAL_ECCENTRICITY = 0.607
ORBITAL_INCLINATION = 86.57
ORBITAL_SEMIMAJOR_AXIS = 9299.52
PERIAPSIS_ALTITUDE = 266.54
PERIAPSIS_ARGUMENT_ANGLE = 318.78
PERIAPSIS_TIME = 2004-03-26T07:05:57.000Z
SPACECRAFT_ORIENTATION = (0.0,-1.0,0.0)
^MEX_ORIENTATION_DESC = "MEX_ORIENTATION_DESC.TXT"
SPACECRAFT_POINTING_MODE = ACROSSTRACK
^MEX_POINTING_DESC = "MEX_POINTING_DESC.TXT"
RIGHT_ASCENSION = -1e+32
DECLINATION = -1e+32
OFFSET_ANGLE = 0.458
SPACECRAFT_SOLAR_DISTANCE = 2.36717e+08
TARGET_NAME = MARS
/* CAMERA DATA ELEMENTS */
DETECTOR_TEMPERATURE = 18.1666
FOCAL_PLANE_TEMPERATURE = 7.7677
INST_CMPRS_NAME = "DISCRETE COSINE TRANSFORMATION (DCT)"
INST_CMPRS_RATIO = 8.04076
INST_CMPRS_QUALITY = 0
INST_CMPRS_QUANTZ_TBL_ID = 0
INSTRUMENT_TEMPERATURE = 11.4379
LENS_TEMPERATURE = 7.9716
MACROPIXEL_SIZE = 4
MISSING_FRAMES = 0
PIXEL_SUBSAMPLING_FLAG = N
SIGNAL_CHAIN_ID = 2
/* RADIOMETRIC DATA ELEMENTS */
BANDWIDTH = 174.0
CENTER_FILTER_WAVELENGTH = 675.0
RADIANCE_OFFSET = 3.60908
RADIANCE_SCALING_FACTOR = 0.0166881
REFLECTANCE_SCALING_FACTOR = 0.000502982
MEX:REFLECTANCE_OFFSET = 0.108778
/* IMAGE OBJECT DEFINITIONS */
OBJECT = IMAGE
  INTERCHANGE_FORMAT = BINARY
  LINES = 10411
  LINE_SAMPLES = 1477
  SAMPLE_TYPE = UNSIGNED_INTEGER
  SAMPLE_BITS = 8
  BANDS = 1
  BAND_STORAGE_TYPE = BAND_SEQUENTIAL
  MAXIMUM = 155
  MEAN = 98.2934
  MINIMUM = 61
  STANDARD_DEVIATION = 7.76278
END_OBJECT = IMAGE
/* MAP OBJECT DEFINITIONS */
OBJECT = IMAGE_MAP_PROJECTION
  ^DATA_SET_MAP_PROJECTION_CATALOG= "DSMAP.CAT"
  A_AXIS_RADIUS = 3396.0
  B_AXIS_RADIUS = 3396.0
  C_AXIS_RADIUS = 3396.0
  CENTER_LATITUDE = 0.0
  CENTER_LONGITUDE = 157.0
  COORDINATE_SYSTEM_NAME = PLANETOGRAPHIC
  COORDINATE_SYSTEM_TYPE = "BODY-FIXED ROTATING"
  EASTERNMOST_LONGITUDE = 157.215
  FIRST_STANDARD_PARALLEL = "N/A"
  LINE_FIRST_PIXEL = 1
  LINE_LAST_PIXEL = 10411
  LINE_PROJECTION_OFFSET = -31143.75
  MAP_PROJECTION_ROTATION = 0.0
  MAP_PROJECTION_TYPE = SINUSOIDAL
  MAP_RESOLUTION = 1185.42760773333
  MAP_SCALE = 0.05
  MAXIMUM_LATITUDE = -26.131
  MINIMUM_LATITUDE = -35.0607
  POSITIVE_LONGITUDE_DIRECTION = EAST
  REFERENCE_LATITUDE = "N/A"
  REFERENCE_LONGITUDE = "N/A"
  SAMPLE_FIRST_PIXEL = 1
  SAMPLE_LAST_PIXEL = 1477
  SAMPLE_PROJECTION_OFFSET = 1230.75
  SECOND_STANDARD_PARALLEL = "N/A"
  WESTERNMOST_LONGITUDE = 155.809
END_OBJECT = IMAGE_MAP_PROJECTION
/* The JPEG2000 image data file associated with this label. */
OBJECT = COMPRESSED_FILE
  FILE_NAME = "H0241_0000_P13.JP2"
  RECORD_TYPE = UNDEFINED
  FILE_RECORDS = UNK
  ENCODING_TYPE = "JP2"
  INTERCHANGE_FORMAT = BINARY
  UNCOMPRESSED_FILE_NAME = "H0241_0000_P13.IMG"
  REQUIRED_STORAGE_BYTES = "15396248"
  ^DESCRIPTION = "JP2INFO.TXT"
END_OBJECT = COMPRESSED_FILE
END
