PDS_VERSION_ID = PDS3
/* FILE DATA ELEMENTS */
RECORD_TYPE = STREAM
/* POINTERS TO DATA OBJECTS */
^COMPRESSED_FILE = "H0241_0009_P13.JP2"
/* IDENTIFICATION DATA ELEMENTS */
DATA_SET_ID = "MEX-M-HRSC-5-REFDR-MAPPROJECTED-V3.0"
DATA_SET_NAME = "MARS EXPRESS HRSC MAP PROJECTED REFDR V3.0"
DETECTOR_ID = MEX_HRSC_P1
EVENT_TYPE = "MARS-REGIONAL-STEREO-Vo-Te-Tc"
INSTRUMENT_HOST_ID = MEX
INSTRUMENT_HOST_NAME = "MARS EXPRESS"
INSTRUMENT_ID = HRSC
INSTRUMENT_NAME = "HIGH RESOLUTION STEREO CAMERA"
MISSION_NAME = "MARS EXPRESS"
MISSION_PHASE_NAME = MC_Phase_4
PROCESSING_LEVEL_ID = 3
PRODUCT_CREATION_TIME = 2016-03-02T22:59:35.000Z
PRODUCT_ID = "H0241_0009_P13.JP2"
RELEASE_ID = 0005
REVISION_ID = 0000
/* QUALITY DATA ELEMENTS */
DATA_QUALITY_ID = 1
DATA_QUALITY_DESC = "Data calculated based on original SPICE kernels"
/* TIME DATA ELEMENTS */
SPACECRAFT_CLOCK_START_COUNT = "1/0028365543.56185"
SPACECRAFT_CLOCK_STOP_COUNT = "1/0028365840.56763"
START_TIME = 2004-03-26T07:19:36.761Z
STOP_TIME = 2004-03-26T07:20:52.229Z
/* ORBITAL DATA ELEMENTS */
ASCENDING_NODE_LONGITUDE = 223.98
MAXIMUM_RESOLUTION = 69.3
FOOTPRINT_POINT_LATITUDE = (12.182,12.1831,12.1843,12.1855,12.1867 ,12.1879,12.1892,12.1904,12.1916, 12.1928,12.194,12.1953,12.1965,12.1978, 12.199,12.2003,12.2016,12.2029,12.2042, 12.2055,12.2079,12.2096,12.2109,12.2123 ,12.2137,12.2319,12.3981,12.564,12.7296 ,12.895,13.019,13.1841,13.3489,13.5135, 13.6779,13.8419,14.0057,14.1285,14.2919 ,14.455,14.618,14.7807,14.9431,15.1053, 15.2672,15.4288,15.55,15.7516,15.9126, 16.0734,16.2339,16.3335,16.3317,16.3299 ,16.3277,16.3246,16.3227,16.3207, 16.3189,16.317,16.3153,16.3135,16.3103, 16.3085,16.3066,16.3045,16.3022,16.3008 ,16.299,16.2968,16.2947,16.2938,16.2905 ,16.2891,16.2872,16.1255,15.9656, 15.8054,15.6449,15.4843,15.3232,15.2022 ,15.0407,14.8791,14.7172,14.555,14.3926 ,14.1892,13.9449,13.7818,13.6184, 13.4545,13.2903,13.1262,13.0035,12.8382 ,12.6732,12.508,12.3427,12.182)
FOOTPRINT_POINT_LONGITUDE = (154.915,155.032,155.15,155.268,155.385 ,155.502,155.62,155.737,155.854,155.971 ,156.087,156.204,156.321,156.437, 156.553,156.67,156.786,156.902,157.018, 157.134,157.337,157.482,157.598,157.713 ,157.829,157.93,157.934,157.938,157.943 ,157.947,157.95,157.954,157.958,157.962 ,157.966,157.971,157.975,157.978, 157.982,157.987,157.991,157.995,158.0, 158.004,158.009,158.013,158.016,158.022 ,158.027,158.031,158.036,157.974, 157.841,157.709,157.543,157.31,157.178, 157.045,156.913,156.78,156.647,156.514, 156.281,156.148,156.015,155.881,155.714 ,155.614,155.48,155.347,155.213,155.044 ,154.911,154.81,154.675,154.608,154.621 ,154.634,154.647,154.659,154.672, 154.681,154.694,154.707,154.719,154.731 ,154.744,154.759,154.777,154.789, 154.802,154.814,154.826,154.838,154.846 ,154.858,154.87,154.882,154.894, 154.915)
ORBIT_NUMBER = 241
ORBITAL_ECCENTRICITY = 0.607
ORBITAL_INCLINATION = 86.57
ORBITAL_SEMIMAJOR_AXIS = 9299.52
PERIAPSIS_ALTITUDE = 266.54
PERIAPSIS_ARGUMENT_ANGLE = 318.78
PERIAPSIS_TIME = 2004-03-26T07:05:57.000Z
SPACECRAFT_ORIENTATION = (0.0,-1.0,0.0)
^MEX_ORIENTATION_DESC = "MEX_ORIENTATION_DESC.TXT"
SPACECRAFT_POINTING_MODE = ACROSSTRACK
^MEX_POINTING_DESC = "MEX_POINTING_DESC.TXT"
RIGHT_ASCENSION = -1e+32
DECLINATION = -1e+32
OFFSET_ANGLE = 0.458
SPACECRAFT_SOLAR_DISTANCE = 2.36717e+08
TARGET_NAME = MARS
/* CAMERA DATA ELEMENTS */
DETECTOR_TEMPERATURE = 19.39
FOCAL_PLANE_TEMPERATURE = 8.1755
INST_CMPRS_NAME = "DISCRETE COSINE TRANSFORMATION (DCT)"
INST_CMPRS_RATIO = 14.5977
INST_CMPRS_QUALITY = 0
INST_CMPRS_QUANTZ_TBL_ID = 0
INSTRUMENT_TEMPERATURE = 13.6808
LENS_TEMPERATURE = 8.5833
MACROPIXEL_SIZE = 2
MISSING_FRAMES = 0
PIXEL_SUBSAMPLING_FLAG = N
SIGNAL_CHAIN_ID = 3
/* RADIOMETRIC DATA ELEMENTS */
BANDWIDTH = 174.0
CENTER_FILTER_WAVELENGTH = 675.0
RADIANCE_OFFSET = 7.0679
RADIANCE_SCALING_FACTOR = 0.0204233
REFLECTANCE_SCALING_FACTOR = 0.000615566
MEX:REFLECTANCE_OFFSET = 0.21303
/* IMAGE OBJECT DEFINITIONS */
OBJECT = IMAGE
  INTERCHANGE_FORMAT = BINARY
  LINES = 4889
  LINE_SAMPLES = 4338
  SAMPLE_TYPE = UNSIGNED_INTEGER
  SAMPLE_BITS = 8
  BANDS = 1
  BAND_STORAGE_TYPE = BAND_SEQUENTIAL
  MAXIMUM = 168
  MEAN = 149.434
  MINIMUM = 92
  STANDARD_DEVIATION = 11.3974
END_OBJECT = IMAGE
/* MAP OBJECT DEFINITIONS */
OBJECT = IMAGE_MAP_PROJECTION
  ^DATA_SET_MAP_PROJECTION_CATALOG= "DSMAP.CAT"
  A_AXIS_RADIUS = 3396.0
  B_AXIS_RADIUS = 3396.0
  C_AXIS_RADIUS = 3396.0
  CENTER_LATITUDE = 0.0
  CENTER_LONGITUDE = 156.0
  COORDINATE_SYSTEM_NAME = PLANETOGRAPHIC
  COORDINATE_SYSTEM_TYPE = "BODY-FIXED ROTATING"
  EASTERNMOST_LONGITUDE = 158.036
  FIRST_STANDARD_PARALLEL = "N/A"
  LINE_FIRST_PIXEL = 1
  LINE_LAST_PIXEL = 4889
  LINE_PROJECTION_OFFSET = 18558.25
  MAP_PROJECTION_ROTATION = 0.0
  MAP_PROJECTION_TYPE = SINUSOIDAL
  MAP_RESOLUTION = 1185.42760773333
  MAP_SCALE = 0.05
  MAXIMUM_LATITUDE = 16.3335
  MINIMUM_LATITUDE = 12.182
  POSITIVE_LONGITUDE_DIRECTION = EAST
  REFERENCE_LATITUDE = "N/A"
  REFERENCE_LONGITUDE = "N/A"
  SAMPLE_FIRST_PIXEL = 1
  SAMPLE_LAST_PIXEL = 4338
  SAMPLE_PROJECTION_OFFSET = 1794.75
  SECOND_STANDARD_PARALLEL = "N/A"
  WESTERNMOST_LONGITUDE = 154.608
END_OBJECT = IMAGE_MAP_PROJECTION
/* The JPEG2000 image data file associated with this label. */
OBJECT = COMPRESSED_FILE
  FILE_NAME = "H0241_0009_P13.JP2"
  RECORD_TYPE = UNDEFINED
  FILE_RECORDS = UNK
  ENCODING_TYPE = "JP2"
  INTERCHANGE_FORMAT = BINARY
  UNCOMPRESSED_FILE_NAME = "H0241_0009_P13.IMG"
  REQUIRED_STORAGE_BYTES = "21234510"
  ^DESCRIPTION = "JP2INFO.TXT"
END_OBJECT = COMPRESSED_FILE
END
