PDS_VERSION_ID = PDS3
/* FILE DATA ELEMENTS */
RECORD_TYPE = STREAM
/* POINTERS TO DATA OBJECTS */
^COMPRESSED_FILE = "H0248_0000_RE3.JP2"
/* IDENTIFICATION DATA ELEMENTS */
DATA_SET_ID = "MEX-M-HRSC-5-REFDR-MAPPROJECTED-V3.0"
DATA_SET_NAME = "MARS EXPRESS HRSC MAP PROJECTED REFDR V3.0"
DETECTOR_ID = MEX_HRSC_RED
EVENT_TYPE = "MARS-REGIONAL-MAPPING-Fl-Pf-Mw"
INSTRUMENT_HOST_ID = MEX
INSTRUMENT_HOST_NAME = "MARS EXPRESS"
INSTRUMENT_ID = HRSC
INSTRUMENT_NAME = "HIGH RESOLUTION STEREO CAMERA"
MISSION_NAME = "MARS EXPRESS"
MISSION_PHASE_NAME = MC_Phase_4
PROCESSING_LEVEL_ID = 3
PRODUCT_CREATION_TIME = 2016-03-02T22:59:35.000Z
PRODUCT_ID = "H0248_0000_RE3.JP2"
RELEASE_ID = 0005
REVISION_ID = 0000
/* QUALITY DATA ELEMENTS */
DATA_QUALITY_ID = 1
DATA_QUALITY_DESC = "Data calculated based on original SPICE kernels"
/* TIME DATA ELEMENTS */
SPACECRAFT_CLOCK_START_COUNT = "1/0028555754.57168"
SPACECRAFT_CLOCK_STOP_COUNT = "1/0028555886.33368"
START_TIME = 2004-03-28T12:10:07.320Z
STOP_TIME = 2004-03-28T12:11:29.238Z
/* ORBITAL DATA ELEMENTS */
ASCENDING_NODE_LONGITUDE = 223.84
MAXIMUM_RESOLUTION = 45.5
FOOTPRINT_POINT_LATITUDE = (-39.8655,-39.8795,-39.8937,-39.9079, -39.9223,-39.9367,-39.954,-39.8409, -39.4854,-39.3752,-39.2687,-39.1651, -38.9201,-38.7679,-38.6656,-38.5627, -38.4593,-38.3561,-38.2511,-38.1449, -37.9848,-37.8755,-37.7704,-37.5733, -37.3727,-37.2704,-37.1678,-37.065, -36.911,-36.7573,-36.6034,-36.5008, -36.3983,-36.2957,-36.1933,-36.091, -35.9369,-35.8342,-35.7332,-35.6311, -35.5288,-35.4266,-35.3243,-35.2206, -35.1175,-34.9662,-34.8646,-34.7628, -34.6611,-34.5076,-34.4946,-34.4832, -34.4717,-34.4558,-34.4406,-34.4306, -34.6279,-34.772,-34.9736,-35.078, -35.182,-35.3381,-35.4936,-35.5957, -35.6977,-35.8013,-35.9037,-36.0572, -36.1593,-36.3129,-36.4152,-36.5686, -36.6709,-36.7728,-36.8755,-36.9788, -37.0816,-37.1843,-37.287,-37.4411, -37.5439,-37.6463,-37.7498,-37.853, -37.9562,-38.1106,-38.2146,-38.3182, -38.4206,-38.5242,-38.6275,-38.73, -38.8854,-38.9896,-39.0922,-39.1939, -39.2978,-39.403,-39.7539,-39.8655)
FOOTPRINT_POINT_LONGITUDE = (101.981,102.164,102.351,102.542, 102.737,102.935,103.177,103.246,103.24, 103.231,103.227,103.227,103.249,103.254 ,103.256,103.257,103.258,103.258, 103.256,103.252,103.245,103.236,103.234 ,103.247,103.256,103.257,103.258, 103.258,103.259,103.26,103.261,103.261, 103.262,103.262,103.262,103.263,103.263 ,103.263,103.265,103.265,103.265, 103.266,103.266,103.264,103.263,103.265 ,103.266,103.267,103.267,103.167, 102.979,102.818,102.56,102.335,102.126, 101.985,101.981,101.975,101.973,101.974 ,101.974,101.975,101.975,101.974, 101.974,101.974,101.973,101.972,101.971 ,101.969,101.968,101.966,101.965, 101.964,101.963,101.962,101.961,101.96, 101.959,101.957,101.956,101.954,101.953 ,101.952,101.95,101.948,101.947,101.946 ,101.944,101.943,101.941,101.939, 101.937,101.936,101.934,101.931,101.929 ,101.929,101.923,101.981)
ORBIT_NUMBER = 248
ORBITAL_ECCENTRICITY = 0.607
ORBITAL_INCLINATION = 86.58
ORBITAL_SEMIMAJOR_AXIS = 9300.87
PERIAPSIS_ALTITUDE = 264.06
PERIAPSIS_ARGUMENT_ANGLE = 317.52
PERIAPSIS_TIME = 2004-03-28T12:09:10.000Z
SPACECRAFT_ORIENTATION = (0.0,-1.0,0.0)
^MEX_ORIENTATION_DESC = "MEX_ORIENTATION_DESC.TXT"
SPACECRAFT_POINTING_MODE = ACROSSTRACK
^MEX_POINTING_DESC = "MEX_POINTING_DESC.TXT"
RIGHT_ASCENSION = -1e+32
DECLINATION = -1e+32
OFFSET_ANGLE = -1.21
SPACECRAFT_SOLAR_DISTANCE = 2.37093e+08
TARGET_NAME = MARS
/* CAMERA DATA ELEMENTS */
DETECTOR_TEMPERATURE = 18.5744
FOCAL_PLANE_TEMPERATURE = 7.9716
INST_CMPRS_NAME = "DISCRETE COSINE TRANSFORMATION (DCT)"
INST_CMPRS_RATIO = 21.112
INST_CMPRS_QUALITY = 0
INST_CMPRS_QUANTZ_TBL_ID = 0
INSTRUMENT_TEMPERATURE = 11.4379
LENS_TEMPERATURE = 8.3794
MACROPIXEL_SIZE = 4
MISSING_FRAMES = 54
PIXEL_SUBSAMPLING_FLAG = N
SIGNAL_CHAIN_ID = 2
/* RADIOMETRIC DATA ELEMENTS */
BANDWIDTH = 48.0
CENTER_FILTER_WAVELENGTH = 748.0
RADIANCE_OFFSET = 1.22461
RADIANCE_SCALING_FACTOR = 0.00548846
REFLECTANCE_SCALING_FACTOR = 0.000704069
MEX:REFLECTANCE_OFFSET = 0.157095
/* IMAGE OBJECT DEFINITIONS */
OBJECT = IMAGE
  INTERCHANGE_FORMAT = BINARY
  LINES = 6601
  LINE_SAMPLES = 1373
  SAMPLE_TYPE = UNSIGNED_INTEGER
  SAMPLE_BITS = 8
  BANDS = 1
  BAND_STORAGE_TYPE = BAND_SEQUENTIAL
  MAXIMUM = 109
  MEAN = 73.0179
  MINIMUM = 46
  STANDARD_DEVIATION = 5.68388
END_OBJECT = IMAGE
/* MAP OBJECT DEFINITIONS */
OBJECT = IMAGE_MAP_PROJECTION
  ^DATA_SET_MAP_PROJECTION_CATALOG= "DSMAP.CAT"
  A_AXIS_RADIUS = 3396.0
  B_AXIS_RADIUS = 3396.0
  C_AXIS_RADIUS = 3396.0
  CENTER_LATITUDE = 0.0
  CENTER_LONGITUDE = 103.0
  COORDINATE_SYSTEM_NAME = PLANETOGRAPHIC
  COORDINATE_SYSTEM_TYPE = "BODY-FIXED ROTATING"
  EASTERNMOST_LONGITUDE = 103.267
  FIRST_STANDARD_PARALLEL = "N/A"
  LINE_FIRST_PIXEL = 1
  LINE_LAST_PIXEL = 6601
  LINE_PROJECTION_OFFSET = -40742.625
  MAP_PROJECTION_ROTATION = 0.0
  MAP_PROJECTION_TYPE = SINUSOIDAL
  MAP_RESOLUTION = 1185.42760773333
  MAP_SCALE = 0.05
  MAXIMUM_LATITUDE = -34.4306
  MINIMUM_LATITUDE = -39.954
  POSITIVE_LONGITUDE_DIRECTION = EAST
  REFERENCE_LATITUDE = "N/A"
  REFERENCE_LONGITUDE = "N/A"
  SAMPLE_FIRST_PIXEL = 1
  SAMPLE_LAST_PIXEL = 1373
  SAMPLE_PROJECTION_OFFSET = 1015.125
  SECOND_STANDARD_PARALLEL = "N/A"
  WESTERNMOST_LONGITUDE = 101.923
END_OBJECT = IMAGE_MAP_PROJECTION
/* The JPEG2000 image data file associated with this label. */
OBJECT = COMPRESSED_FILE
  FILE_NAME = "H0248_0000_RE3.JP2"
  RECORD_TYPE = UNDEFINED
  FILE_RECORDS = UNK
  ENCODING_TYPE = "JP2"
  INTERCHANGE_FORMAT = BINARY
  UNCOMPRESSED_FILE_NAME = "H0248_0000_RE3.IMG"
  REQUIRED_STORAGE_BYTES = "9082395"
  ^DESCRIPTION = "JP2INFO.TXT"
END_OBJECT = COMPRESSED_FILE
END
