PDS_VERSION_ID = PDS3
/* FILE DATA ELEMENTS */
RECORD_TYPE = STREAM
/* POINTERS TO DATA OBJECTS */
^COMPRESSED_FILE = "H0248_0008_SR3.JP2"
/* IDENTIFICATION DATA ELEMENTS */
DATA_SET_ID = "MEX-M-HRSC-5-REFDR-MAPPROJECTED-V3.0"
DATA_SET_NAME = "MARS EXPRESS HRSC MAP PROJECTED REFDR V3.0"
DETECTOR_ID = MEX_HRSC_SRC
EVENT_TYPE = "MARS-REGIONAL-MAPPING-Fl-Pf-Mw"
INSTRUMENT_HOST_ID = MEX
INSTRUMENT_HOST_NAME = "MARS EXPRESS"
INSTRUMENT_ID = HRSC
INSTRUMENT_NAME = "HIGH RESOLUTION STEREO CAMERA"
MISSION_NAME = "MARS EXPRESS"
MISSION_PHASE_NAME = MC_Phase_4
PROCESSING_LEVEL_ID = 3
PRODUCT_CREATION_TIME = 2016-03-02T22:59:35.000Z
PRODUCT_ID = "H0248_0008_SR3.JP2"
RELEASE_ID = 0005
REVISION_ID = 0000
/* QUALITY DATA ELEMENTS */
DATA_QUALITY_ID = 1
DATA_QUALITY_DESC = "Data calculated based on original SPICE kernels"
/* TIME DATA ELEMENTS */
SPACECRAFT_CLOCK_START_COUNT = "1/0028555754.57168"
SPACECRAFT_CLOCK_STOP_COUNT = "1/0028555886.33368"
IMAGE_TIME = 2004-03-28T12:10:56.196Z
START_TIME = 2004-03-28T12:10:56.195Z
STOP_TIME = 2004-03-28T12:10:56.198Z
/* ORBITAL DATA ELEMENTS */
ASCENDING_NODE_LONGITUDE = 223.84
MAXIMUM_RESOLUTION = 2.564
FOOTPRINT_POINT_LATITUDE = (-35.2473,-35.2494,-35.2513,-35.2529, -35.2542,-35.2559,-35.2572,-35.2584, -35.2601,-35.2627,-35.2643,-35.2662, -35.2688,-35.2703,-35.2725,-35.2751, -35.2771,-35.279,-35.2806,-35.2818, -35.2837,-35.2862,-35.2883,-35.2899, -35.2899,-35.2899,-35.2899,-35.2899, -35.2899,-35.2898,-35.2898,-35.2898, -35.2898,-35.2898,-35.2898,-35.2897, -35.2895,-35.2895,-35.2894,-35.2894, -35.2894,-35.2894,-35.2894,-35.2894, -35.2893,-35.2893,-35.2893,-35.2893, -35.2893,-35.2881,-35.2855,-35.2834, -35.2821,-35.2804,-35.2781,-35.2767, -35.2749,-35.273,-35.2713,-35.27, -35.2678,-35.2665,-35.2652,-35.2634, -35.2617,-35.2593,-35.2573,-35.256, -35.2539,-35.2521,-35.2504,-35.2482, -35.2456,-35.2456,-35.2457,-35.2457, -35.2457,-35.2457,-35.2457,-35.2457, -35.2457,-35.2458,-35.2458,-35.2458, -35.2458,-35.2458,-35.246,-35.246, -35.246,-35.246,-35.246,-35.246, -35.2461,-35.2461,-35.2461,-35.2461, -35.2461,-35.2461,-35.2461,-35.2473)
FOOTPRINT_POINT_LONGITUDE = (102.608,102.608,102.608,102.608, 102.608,102.608,102.608,102.608,102.608 ,102.608,102.608,102.608,102.608, 102.608,102.608,102.608,102.608,102.608 ,102.608,102.608,102.608,102.608, 102.608,102.607,102.605,102.603,102.6, 102.598,102.596,102.594,102.592,102.589 ,102.587,102.585,102.583,102.581, 102.578,102.574,102.572,102.57,102.568, 102.565,102.563,102.561,102.559,102.557 ,102.554,102.552,102.55,102.55,102.55, 102.55,102.55,102.55,102.55,102.55, 102.55,102.55,102.55,102.55,102.55, 102.55,102.55,102.55,102.55,102.55, 102.55,102.55,102.55,102.55,102.55, 102.55,102.55,102.552,102.554,102.556, 102.559,102.561,102.563,102.565,102.567 ,102.57,102.572,102.574,102.576,102.578 ,102.581,102.583,102.585,102.588,102.59 ,102.592,102.594,102.596,102.599, 102.601,102.603,102.605,102.607, 102.608)
ORBIT_NUMBER = 248
ORBITAL_ECCENTRICITY = 0.607
ORBITAL_INCLINATION = 86.58
ORBITAL_SEMIMAJOR_AXIS = 9300.87
PERIAPSIS_ALTITUDE = 264.06
PERIAPSIS_ARGUMENT_ANGLE = 317.52
PERIAPSIS_TIME = 2004-03-28T12:09:10.000Z
SPACECRAFT_ORIENTATION = (0.0,-1.0,0.0)
^MEX_ORIENTATION_DESC = "MEX_ORIENTATION_DESC.TXT"
SPACECRAFT_POINTING_MODE = ACROSSTRACK
^MEX_POINTING_DESC = "MEX_POINTING_DESC.TXT"
RIGHT_ASCENSION = -1e+32
DECLINATION = -1e+32
OFFSET_ANGLE = -1.21
SPACECRAFT_SOLAR_DISTANCE = 2.37093e+08
TARGET_NAME = MARS
/* CAMERA DATA ELEMENTS */
BUFFER_MODE_ID = BUFFER_8
EXPOSURE_DURATION = 3.528
INST_CMPRS_NAME = NONE
INST_CMPRS_RATIO = 1.0
INST_CMPRS_QUALITY = -2147483648
INST_CMPRS_QUANTZ_TBL_ID = -2147483648
INSTRUMENT_TEMPERATURE = 8.18182
MISSING_FRAMES = 0
START_BIT = 0
/* RADIOMETRIC DATA ELEMENTS */
BANDWIDTH = 250.0
CENTER_FILTER_WAVELENGTH = 600.0
RADIANCE_OFFSET = -9.99e+31
RADIANCE_SCALING_FACTOR = -9.99e+31
REFLECTANCE_SCALING_FACTOR = -9.99e+31
MEX:REFLECTANCE_OFFSET = -9.99e+31
/* IMAGE OBJECT DEFINITIONS */
OBJECT = IMAGE
  INTERCHANGE_FORMAT = BINARY
  LINES = 1111
  LINE_SAMPLES = 1160
  SAMPLE_TYPE = UNSIGNED_INTEGER
  SAMPLE_BITS = 8
  BANDS = 1
  BAND_STORAGE_TYPE = BAND_SEQUENTIAL
  MAXIMUM = 3970
  MEAN = 3583.57
  MINIMUM = 3083
  STANDARD_DEVIATION = 80.6292
END_OBJECT = IMAGE
/* MAP OBJECT DEFINITIONS */
OBJECT = IMAGE_MAP_PROJECTION
  ^DATA_SET_MAP_PROJECTION_CATALOG= "DSMAP.CAT"
  A_AXIS_RADIUS = 3396.19
  B_AXIS_RADIUS = 3396.19
  C_AXIS_RADIUS = 3396.19
  CENTER_LATITUDE = 0.0
  CENTER_LONGITUDE = 103.0
  COORDINATE_SYSTEM_NAME = PLANETOGRAPHIC
  COORDINATE_SYSTEM_TYPE = "BODY-FIXED ROTATING"
  EASTERNMOST_LONGITUDE = 102.608
  FIRST_STANDARD_PARALLEL = "N/A"
  LINE_FIRST_PIXEL = 1
  LINE_LAST_PIXEL = 1111
  LINE_PROJECTION_OFFSET = -835134.0
  MAP_PROJECTION_ROTATION = 0.0
  MAP_PROJECTION_TYPE = SINUSOIDAL
  MAP_RESOLUTION = 23709.8786048756
  MAP_SCALE = 0.0025
  MAXIMUM_LATITUDE = -35.2456
  MINIMUM_LATITUDE = -35.2899
  POSITIVE_LONGITUDE_DIRECTION = EAST
  REFERENCE_LATITUDE = "N/A"
  REFERENCE_LONGITUDE = "N/A"
  SAMPLE_FIRST_PIXEL = 1
  SAMPLE_LAST_PIXEL = 1160
  SAMPLE_PROJECTION_OFFSET = 7983.0
  SECOND_STANDARD_PARALLEL = "N/A"
  WESTERNMOST_LONGITUDE = 102.55
END_OBJECT = IMAGE_MAP_PROJECTION
/* The JPEG2000 image data file associated with this label. */
OBJECT = COMPRESSED_FILE
  FILE_NAME = "H0248_0008_SR3.JP2"
  RECORD_TYPE = UNDEFINED
  FILE_RECORDS = UNK
  ENCODING_TYPE = "JP2"
  INTERCHANGE_FORMAT = BINARY
  UNCOMPRESSED_FILE_NAME = "H0248_0008_SR3.IMG"
  REQUIRED_STORAGE_BYTES = "1308480"
  ^DESCRIPTION = "JP2INFO.TXT"
END_OBJECT = COMPRESSED_FILE
END
