PDS_VERSION_ID = PDS3
/* FILE DATA ELEMENTS */
RECORD_TYPE = STREAM
/* POINTERS TO DATA OBJECTS */
^COMPRESSED_FILE = "H0259_0000_GR3.JP2"
/* IDENTIFICATION DATA ELEMENTS */
DATA_SET_ID = "MEX-M-HRSC-5-REFDR-MAPPROJECTED-V3.0"
DATA_SET_NAME = "MARS EXPRESS HRSC MAP PROJECTED REFDR V3.0"
DETECTOR_ID = MEX_HRSC_GREEN
EVENT_TYPE = "MARS-REGIONAL-MAPPING-Te-Fl-Lc"
INSTRUMENT_HOST_ID = MEX
INSTRUMENT_HOST_NAME = "MARS EXPRESS"
INSTRUMENT_ID = HRSC
INSTRUMENT_NAME = "HIGH RESOLUTION STEREO CAMERA"
MISSION_NAME = "MARS EXPRESS"
MISSION_PHASE_NAME = MC_Phase_4
PROCESSING_LEVEL_ID = 3
PRODUCT_CREATION_TIME = 2016-03-02T22:59:35.000Z
PRODUCT_ID = "H0259_0000_GR3.JP2"
RELEASE_ID = 0005
REVISION_ID = 0000
/* QUALITY DATA ELEMENTS */
DATA_QUALITY_ID = 1
DATA_QUALITY_DESC = "Data calculated based on original SPICE kernels"
/* TIME DATA ELEMENTS */
SPACECRAFT_CLOCK_START_COUNT = "1/0028856311.56189"
SPACECRAFT_CLOCK_STOP_COUNT = "1/0028856617.34498"
START_TIME = 2004-03-31T23:40:01.117Z
STOP_TIME = 2004-03-31T23:42:22.610Z
/* ORBITAL DATA ELEMENTS */
ASCENDING_NODE_LONGITUDE = 223.62
MAXIMUM_RESOLUTION = 75.8
FOOTPRINT_POINT_LATITUDE = (-12.2387,-12.2404,-12.2417,-12.2429, -12.2437,-12.2442,-12.2426,-11.863, -11.5564,-11.0903,-10.7796,-10.6225, -10.4643,-10.1486,-9.98902,-9.82842, -9.58666,-9.42561,-9.18064,-8.93505, -8.7715,-8.60543,-8.43926,-8.19017, -8.02189,-7.85276,-7.68392,-7.51439, -7.34253,-7.1707,-6.99963,-6.82623, -6.65222,-6.47853,-6.30346,-6.12838, -5.95037,-5.77403,-5.59389,-5.41486, -5.23494,-4.96473,-4.78284,-4.59869, -4.41382,-4.23013,-4.0441,-3.85688, -3.82874,-3.83032,-3.83219,-3.83326, -3.83431,-3.83583,-3.83708,-3.83846, -3.83935,-4.02827,-4.21444,-4.39829, -4.58244,-4.76567,-4.94704,-5.1287, -5.30979,-5.48882,-5.66775,-5.93429, -6.19836,-6.3748,-6.54836,-6.72213, -6.98283,-7.15286,-7.40746,-7.57765, -7.74548,-7.91388,-8.08284,-8.24962, -8.41524,-8.58351,-8.7505,-8.91383, -9.07499,-9.23862,-9.40108,-9.56055, -9.72134,-9.88141,-10.121,-10.2784, -10.4365,-10.5942,-10.8296,-11.1393, -11.4489,-11.7531,-12.0582,-12.2387)
FOOTPRINT_POINT_LONGITUDE = (320.495,320.751,321.006,321.26,321.512 ,321.762,322.078,322.085,322.092, 322.102,322.107,322.11,322.113,322.119, 322.122,322.125,322.13,322.133,322.138, 322.142,322.146,322.149,322.152,322.156 ,322.159,322.163,322.166,322.169, 322.172,322.176,322.179,322.182,322.185 ,322.188,322.191,322.193,322.197,322.2, 322.204,322.207,322.211,322.214,322.217 ,322.221,322.225,322.228,322.231, 322.235,321.962,321.764,321.507,321.349 ,321.19,320.951,320.751,320.49,320.186, 320.108,320.115,320.123,320.131,320.138 ,320.146,320.153,320.161,320.169, 320.175,320.185,320.193,320.2,320.206, 320.212,320.223,320.226,320.227,320.23, 320.234,320.239,320.245,320.252,320.256 ,320.27,320.277,320.283,320.281,320.287 ,320.289,320.291,320.297,320.299, 320.307,320.31,320.316,320.319,320.328, 320.334,320.343,320.35,320.358,320.495)
ORBIT_NUMBER = 259
ORBITAL_ECCENTRICITY = 0.607
ORBITAL_INCLINATION = 86.59
ORBITAL_SEMIMAJOR_AXIS = 9289.92
PERIAPSIS_ALTITUDE = 264.97
PERIAPSIS_ARGUMENT_ANGLE = 315.69
PERIAPSIS_TIME = 2004-03-31T23:31:58.000Z
SPACECRAFT_ORIENTATION = (0.0,-1.0,0.0)
^MEX_ORIENTATION_DESC = "MEX_ORIENTATION_DESC.TXT"
SPACECRAFT_POINTING_MODE = ACROSSTRACK
^MEX_POINTING_DESC = "MEX_POINTING_DESC.TXT"
RIGHT_ASCENSION = -1e+32
DECLINATION = -1e+32
OFFSET_ANGLE = 0.41
SPACECRAFT_SOLAR_DISTANCE = 2.37676e+08
TARGET_NAME = MARS
/* CAMERA DATA ELEMENTS */
DETECTOR_TEMPERATURE = 17.7588
FOCAL_PLANE_TEMPERATURE = 8.1755
INST_CMPRS_NAME = "DISCRETE COSINE TRANSFORMATION (DCT)"
INST_CMPRS_RATIO = 10.9724
INST_CMPRS_QUALITY = 0
INST_CMPRS_QUANTZ_TBL_ID = 0
INSTRUMENT_TEMPERATURE = 11.0301
LENS_TEMPERATURE = 8.5833
MACROPIXEL_SIZE = 4
MISSING_FRAMES = 0
PIXEL_SUBSAMPLING_FLAG = N
SIGNAL_CHAIN_ID = 2
/* RADIOMETRIC DATA ELEMENTS */
BANDWIDTH = 88.0
CENTER_FILTER_WAVELENGTH = 538.0
RADIANCE_OFFSET = 2.19047
RADIANCE_SCALING_FACTOR = 0.00464805
REFLECTANCE_SCALING_FACTOR = 0.000226065
MEX:REFLECTANCE_OFFSET = 0.106536
/* IMAGE OBJECT DEFINITIONS */
OBJECT = IMAGE
  INTERCHANGE_FORMAT = BINARY
  LINES = 5254
  LINE_SAMPLES = 1338
  SAMPLE_TYPE = UNSIGNED_INTEGER
  SAMPLE_BITS = 8
  BANDS = 1
  BAND_STORAGE_TYPE = BAND_SEQUENTIAL
  MAXIMUM = 232
  MEAN = 179.471
  MINIMUM = 143
  STANDARD_DEVIATION = 10.2519
END_OBJECT = IMAGE
/* MAP OBJECT DEFINITIONS */
OBJECT = IMAGE_MAP_PROJECTION
  ^DATA_SET_MAP_PROJECTION_CATALOG= "DSMAP.CAT"
  A_AXIS_RADIUS = 3396.0
  B_AXIS_RADIUS = 3396.0
  C_AXIS_RADIUS = 3396.0
  CENTER_LATITUDE = 0.0
  CENTER_LONGITUDE = 321.0
  COORDINATE_SYSTEM_NAME = PLANETOGRAPHIC
  COORDINATE_SYSTEM_TYPE = "BODY-FIXED ROTATING"
  EASTERNMOST_LONGITUDE = 322.235
  FIRST_STANDARD_PARALLEL = "N/A"
  LINE_FIRST_PIXEL = 1
  LINE_LAST_PIXEL = 5254
  LINE_PROJECTION_OFFSET = -2282.375
  MAP_PROJECTION_ROTATION = 0.0
  MAP_PROJECTION_TYPE = SINUSOIDAL
  MAP_RESOLUTION = 592.713803866667
  MAP_SCALE = 0.1
  MAXIMUM_LATITUDE = -3.82874
  MINIMUM_LATITUDE = -12.2442
  POSITIVE_LONGITUDE_DIRECTION = EAST
  REFERENCE_LATITUDE = "N/A"
  REFERENCE_LONGITUDE = "N/A"
  SAMPLE_FIRST_PIXEL = 1
  SAMPLE_LAST_PIXEL = 1338
  SAMPLE_PROJECTION_OFFSET = 579.625
  SECOND_STANDARD_PARALLEL = "N/A"
  WESTERNMOST_LONGITUDE = 320.108
END_OBJECT = IMAGE_MAP_PROJECTION
/* The JPEG2000 image data file associated with this label. */
OBJECT = COMPRESSED_FILE
  FILE_NAME = "H0259_0000_GR3.JP2"
  RECORD_TYPE = UNDEFINED
  FILE_RECORDS = UNK
  ENCODING_TYPE = "JP2"
  INTERCHANGE_FORMAT = BINARY
  UNCOMPRESSED_FILE_NAME = "H0259_0000_GR3.IMG"
  REQUIRED_STORAGE_BYTES = "7049922"
  ^DESCRIPTION = "JP2INFO.TXT"
END_OBJECT = COMPRESSED_FILE
END
