PDS_VERSION_ID = PDS3
/* FILE DATA ELEMENTS */
RECORD_TYPE = STREAM
/* POINTERS TO DATA OBJECTS */
^COMPRESSED_FILE = "H0259_0001_SR3.JP2"
/* IDENTIFICATION DATA ELEMENTS */
DATA_SET_ID = "MEX-M-HRSC-5-REFDR-MAPPROJECTED-V3.0"
DATA_SET_NAME = "MARS EXPRESS HRSC MAP PROJECTED REFDR V3.0"
DETECTOR_ID = MEX_HRSC_SRC
EVENT_TYPE = "MARS-REGIONAL-MAPPING-Te-Fl-Lc"
INSTRUMENT_HOST_ID = MEX
INSTRUMENT_HOST_NAME = "MARS EXPRESS"
INSTRUMENT_ID = HRSC
INSTRUMENT_NAME = "HIGH RESOLUTION STEREO CAMERA"
MISSION_NAME = "MARS EXPRESS"
MISSION_PHASE_NAME = MC_Phase_4
PROCESSING_LEVEL_ID = 3
PRODUCT_CREATION_TIME = 2016-03-02T22:59:35.000Z
PRODUCT_ID = "H0259_0001_SR3.JP2"
RELEASE_ID = 0005
REVISION_ID = 0000
/* QUALITY DATA ELEMENTS */
DATA_QUALITY_ID = 1
DATA_QUALITY_DESC = "Data calculated based on original SPICE kernels"
/* TIME DATA ELEMENTS */
SPACECRAFT_CLOCK_START_COUNT = "1/0028856311.56189"
SPACECRAFT_CLOCK_STOP_COUNT = "1/0028856617.34498"
IMAGE_TIME = 2004-03-31T23:39:39.946Z
START_TIME = 2004-03-31T23:39:39.688Z
STOP_TIME = 2004-03-31T23:39:40.204Z
/* ORBITAL DATA ELEMENTS */
ASCENDING_NODE_LONGITUDE = 223.62
MAXIMUM_RESOLUTION = 4.182
FOOTPRINT_POINT_LATITUDE = (-13.9294,-13.9325,-13.9358,-13.9382, -13.9414,-13.9438,-13.946,-13.9483, -13.9526,-13.9551,-13.9571,-13.9601, -13.9636,-13.9657,-13.9683,-13.971, -13.973,-13.9759,-13.9805,-13.984, -13.9865,-13.9885,-13.9918,-13.9945, -13.9985,-13.9985,-13.9985,-13.9985, -13.9985,-13.9985,-13.9985,-13.9985, -13.9985,-13.9985,-13.9985,-13.9985, -13.9985,-13.9986,-13.9986,-13.9985, -13.9985,-13.9985,-13.9985,-13.9985, -13.9985,-13.9985,-13.9985,-13.9985, -13.9985,-13.9986,-13.9961,-13.994, -13.9904,-13.9882,-13.9841,-13.9803, -13.9776,-13.9745,-13.9719,-13.9697, -13.967,-13.9645,-13.9614,-13.959, -13.9568,-13.9536,-13.9503,-13.9466, -13.9433,-13.9413,-13.9386,-13.9352, -13.931,-13.9274,-13.9274,-13.9274, -13.9274,-13.9274,-13.9274,-13.9274, -13.9274,-13.9274,-13.9274,-13.9274, -13.9274,-13.9274,-13.9274,-13.9274, -13.9274,-13.9274,-13.9274,-13.9274, -13.9274,-13.9274,-13.9274,-13.9274, -13.9274,-13.9274,-13.9274,-13.9294)
FOOTPRINT_POINT_LONGITUDE = (321.275,321.275,321.275,321.275, 321.275,321.275,321.275,321.275,321.275 ,321.275,321.275,321.275,321.275, 321.275,321.275,321.275,321.275,321.275 ,321.275,321.275,321.275,321.275, 321.275,321.275,321.275,321.272,321.27, 321.267,321.264,321.261,321.258,321.255 ,321.252,321.249,321.246,321.243,321.24 ,321.237,321.234,321.232,321.229, 321.226,321.223,321.22,321.217,321.214, 321.212,321.209,321.206,321.203,321.202 ,321.202,321.202,321.202,321.202, 321.202,321.202,321.202,321.202,321.202 ,321.202,321.202,321.202,321.202, 321.202,321.202,321.202,321.202,321.202 ,321.202,321.202,321.202,321.202, 321.203,321.206,321.208,321.211,321.214 ,321.217,321.22,321.223,321.226,321.229 ,321.232,321.234,321.237,321.24,321.243 ,321.246,321.249,321.252,321.255, 321.258,321.261,321.264,321.266,321.269 ,321.272,321.275,321.275)
ORBIT_NUMBER = 259
ORBITAL_ECCENTRICITY = 0.607
ORBITAL_INCLINATION = 86.59
ORBITAL_SEMIMAJOR_AXIS = 9289.92
PERIAPSIS_ALTITUDE = 264.97
PERIAPSIS_ARGUMENT_ANGLE = 315.69
PERIAPSIS_TIME = 2004-03-31T23:31:58.000Z
SPACECRAFT_ORIENTATION = (0.0,-1.0,0.0)
^MEX_ORIENTATION_DESC = "MEX_ORIENTATION_DESC.TXT"
SPACECRAFT_POINTING_MODE = ACROSSTRACK
^MEX_POINTING_DESC = "MEX_POINTING_DESC.TXT"
RIGHT_ASCENSION = -1e+32
DECLINATION = -1e+32
OFFSET_ANGLE = 0.41
SPACECRAFT_SOLAR_DISTANCE = 2.37676e+08
TARGET_NAME = MARS
/* CAMERA DATA ELEMENTS */
BUFFER_MODE_ID = BUFFER_8
EXPOSURE_DURATION = 516.096
INST_CMPRS_NAME = NONE
INST_CMPRS_RATIO = 1.0
INST_CMPRS_QUALITY = -2147483648
INST_CMPRS_QUANTZ_TBL_ID = -2147483648
INSTRUMENT_TEMPERATURE = 5.15152
MISSING_FRAMES = 0
START_BIT = 0
/* RADIOMETRIC DATA ELEMENTS */
BANDWIDTH = 250.0
CENTER_FILTER_WAVELENGTH = 600.0
RADIANCE_OFFSET = -9.99e+31
RADIANCE_SCALING_FACTOR = -9.99e+31
REFLECTANCE_SCALING_FACTOR = -9.99e+31
MEX:REFLECTANCE_OFFSET = -9.99e+31
/* IMAGE OBJECT DEFINITIONS */
OBJECT = IMAGE
  INTERCHANGE_FORMAT = BINARY
  LINES = 886
  LINE_SAMPLES = 898
  SAMPLE_TYPE = UNSIGNED_INTEGER
  SAMPLE_BITS = 8
  BANDS = 1
  BAND_STORAGE_TYPE = BAND_SEQUENTIAL
  MAXIMUM = 12594
  MEAN = 12396.8
  MINIMUM = 12200
  STANDARD_DEVIATION = 277.705
END_OBJECT = IMAGE
/* MAP OBJECT DEFINITIONS */
OBJECT = IMAGE_MAP_PROJECTION
  ^DATA_SET_MAP_PROJECTION_CATALOG= "DSMAP.CAT"
  A_AXIS_RADIUS = 3396.19
  B_AXIS_RADIUS = 3396.19
  C_AXIS_RADIUS = 3396.19
  CENTER_LATITUDE = 0.0
  CENTER_LONGITUDE = 321.0
  COORDINATE_SYSTEM_NAME = PLANETOGRAPHIC
  COORDINATE_SYSTEM_TYPE = "BODY-FIXED ROTATING"
  EASTERNMOST_LONGITUDE = 321.275
  FIRST_STANDARD_PARALLEL = "N/A"
  LINE_FIRST_PIXEL = 1
  LINE_LAST_PIXEL = 886
  LINE_PROJECTION_OFFSET = -165070.0
  MAP_PROJECTION_ROTATION = 0.0
  MAP_PROJECTION_TYPE = SINUSOIDAL
  MAP_RESOLUTION = 11854.9393024378
  MAP_SCALE = 0.005
  MAXIMUM_LATITUDE = -13.9274
  MINIMUM_LATITUDE = -13.9986
  POSITIVE_LONGITUDE_DIRECTION = EAST
  REFERENCE_LATITUDE = "N/A"
  REFERENCE_LONGITUDE = "N/A"
  SAMPLE_FIRST_PIXEL = 1
  SAMPLE_LAST_PIXEL = 898
  SAMPLE_PROJECTION_OFFSET = -2278.0
  SECOND_STANDARD_PARALLEL = "N/A"
  WESTERNMOST_LONGITUDE = 321.202
END_OBJECT = IMAGE_MAP_PROJECTION
/* The JPEG2000 image data file associated with this label. */
OBJECT = COMPRESSED_FILE
  FILE_NAME = "H0259_0001_SR3.JP2"
  RECORD_TYPE = UNDEFINED
  FILE_RECORDS = UNK
  ENCODING_TYPE = "JP2"
  INTERCHANGE_FORMAT = BINARY
  UNCOMPRESSED_FILE_NAME = "H0259_0001_SR3.IMG"
  REQUIRED_STORAGE_BYTES = "814486"
  ^DESCRIPTION = "JP2INFO.TXT"
END_OBJECT = COMPRESSED_FILE
END
