PDS_VERSION_ID = PDS3
/* FILE DATA ELEMENTS */
RECORD_TYPE = STREAM
/* POINTERS TO DATA OBJECTS */
^COMPRESSED_FILE = "H0259_0004_SR3.JP2"
/* IDENTIFICATION DATA ELEMENTS */
DATA_SET_ID = "MEX-M-HRSC-5-REFDR-MAPPROJECTED-V3.0"
DATA_SET_NAME = "MARS EXPRESS HRSC MAP PROJECTED REFDR V3.0"
DETECTOR_ID = MEX_HRSC_SRC
EVENT_TYPE = "MARS-REGIONAL-MAPPING-Te-Fl-Lc"
INSTRUMENT_HOST_ID = MEX
INSTRUMENT_HOST_NAME = "MARS EXPRESS"
INSTRUMENT_ID = HRSC
INSTRUMENT_NAME = "HIGH RESOLUTION STEREO CAMERA"
MISSION_NAME = "MARS EXPRESS"
MISSION_PHASE_NAME = MC_Phase_4
PROCESSING_LEVEL_ID = 3
PRODUCT_CREATION_TIME = 2016-03-02T22:59:35.000Z
PRODUCT_ID = "H0259_0004_SR3.JP2"
RELEASE_ID = 0005
REVISION_ID = 0000
/* QUALITY DATA ELEMENTS */
DATA_QUALITY_ID = 1
DATA_QUALITY_DESC = "Data calculated based on original SPICE kernels"
/* TIME DATA ELEMENTS */
SPACECRAFT_CLOCK_START_COUNT = "1/0028856311.56189"
SPACECRAFT_CLOCK_STOP_COUNT = "1/0028856617.34498"
IMAGE_TIME = 2004-03-31T23:39:43.216Z
START_TIME = 2004-03-31T23:39:43.214Z
STOP_TIME = 2004-03-31T23:39:43.218Z
/* ORBITAL DATA ELEMENTS */
ASCENDING_NODE_LONGITUDE = 223.62
MAXIMUM_RESOLUTION = 4.206
FOOTPRINT_POINT_LATITUDE = (-13.728,-13.7309,-13.734,-13.7383, -13.7421,-13.745,-13.7483,-13.7502, -13.7528,-13.7547,-13.7579,-13.7621, -13.7658,-13.7682,-13.7711,-13.7748, -13.7787,-13.7811,-13.7829,-13.7852, -13.7887,-13.7915,-13.7942,-13.797, -13.799,-13.799,-13.799,-13.7991, -13.7991,-13.7991,-13.7991,-13.7991, -13.7991,-13.7991,-13.7991,-13.7991, -13.7991,-13.7991,-13.7991,-13.7991, -13.7991,-13.7991,-13.7991,-13.7991, -13.7991,-13.7991,-13.7991,-13.7991, -13.7991,-13.7991,-13.7971,-13.7953, -13.7929,-13.7902,-13.7884,-13.786, -13.7831,-13.7813,-13.7765,-13.7725, -13.7689,-13.7667,-13.7631,-13.7605, -13.7569,-13.7537,-13.7502,-13.7478, -13.7447,-13.7422,-13.739,-13.7356, -13.7335,-13.7302,-13.7284,-13.7276, -13.7276,-13.7276,-13.7276,-13.7276, -13.7276,-13.7276,-13.7276,-13.7276, -13.7276,-13.7276,-13.7276,-13.7276, -13.7276,-13.7276,-13.7276,-13.7276, -13.7276,-13.7276,-13.7276,-13.7276, -13.7276,-13.7276,-13.7275,-13.728)
FOOTPRINT_POINT_LONGITUDE = (321.276,321.276,321.276,321.276, 321.276,321.276,321.276,321.276,321.276 ,321.276,321.276,321.276,321.276, 321.276,321.276,321.276,321.276,321.276 ,321.276,321.276,321.276,321.276, 321.276,321.276,321.276,321.273,321.27, 321.267,321.264,321.261,321.258,321.255 ,321.252,321.249,321.246,321.243, 321.241,321.238,321.235,321.232,321.229 ,321.226,321.223,321.22,321.217,321.215 ,321.212,321.209,321.206,321.202, 321.202,321.202,321.202,321.202,321.202 ,321.202,321.202,321.202,321.202, 321.202,321.202,321.202,321.202,321.202 ,321.202,321.202,321.202,321.202, 321.202,321.202,321.202,321.202,321.202 ,321.202,321.202,321.204,321.207,321.21 ,321.213,321.216,321.219,321.221, 321.224,321.227,321.23,321.235,321.238, 321.241,321.244,321.247,321.25,321.253, 321.256,321.258,321.261,321.264,321.267 ,321.27,321.273,321.276)
ORBIT_NUMBER = 259
ORBITAL_ECCENTRICITY = 0.607
ORBITAL_INCLINATION = 86.59
ORBITAL_SEMIMAJOR_AXIS = 9289.92
PERIAPSIS_ALTITUDE = 264.97
PERIAPSIS_ARGUMENT_ANGLE = 315.69
PERIAPSIS_TIME = 2004-03-31T23:31:58.000Z
SPACECRAFT_ORIENTATION = (0.0,-1.0,0.0)
^MEX_ORIENTATION_DESC = "MEX_ORIENTATION_DESC.TXT"
SPACECRAFT_POINTING_MODE = ACROSSTRACK
^MEX_POINTING_DESC = "MEX_POINTING_DESC.TXT"
RIGHT_ASCENSION = -1e+32
DECLINATION = -1e+32
OFFSET_ANGLE = 0.41
SPACECRAFT_SOLAR_DISTANCE = 2.37676e+08
TARGET_NAME = MARS
/* CAMERA DATA ELEMENTS */
BUFFER_MODE_ID = BUFFER_8
EXPOSURE_DURATION = 3.528
INST_CMPRS_NAME = NONE
INST_CMPRS_RATIO = 1.0
INST_CMPRS_QUALITY = -2147483648
INST_CMPRS_QUANTZ_TBL_ID = -2147483648
INSTRUMENT_TEMPERATURE = 5.15152
MISSING_FRAMES = 0
START_BIT = 0
/* RADIOMETRIC DATA ELEMENTS */
BANDWIDTH = 250.0
CENTER_FILTER_WAVELENGTH = 600.0
RADIANCE_OFFSET = -9.99e+31
RADIANCE_SCALING_FACTOR = -9.99e+31
REFLECTANCE_SCALING_FACTOR = -9.99e+31
MEX:REFLECTANCE_OFFSET = -9.99e+31
/* IMAGE OBJECT DEFINITIONS */
OBJECT = IMAGE
  INTERCHANGE_FORMAT = BINARY
  LINES = 892
  LINE_SAMPLES = 903
  SAMPLE_TYPE = UNSIGNED_INTEGER
  SAMPLE_BITS = 8
  BANDS = 1
  BAND_STORAGE_TYPE = BAND_SEQUENTIAL
  MAXIMUM = 4570
  MEAN = 4011.44
  MINIMUM = 3246
  STANDARD_DEVIATION = 97.2499
END_OBJECT = IMAGE
/* MAP OBJECT DEFINITIONS */
OBJECT = IMAGE_MAP_PROJECTION
  ^DATA_SET_MAP_PROJECTION_CATALOG= "DSMAP.CAT"
  A_AXIS_RADIUS = 3396.19
  B_AXIS_RADIUS = 3396.19
  C_AXIS_RADIUS = 3396.19
  CENTER_LATITUDE = 0.0
  CENTER_LONGITUDE = 321.0
  COORDINATE_SYSTEM_NAME = PLANETOGRAPHIC
  COORDINATE_SYSTEM_TYPE = "BODY-FIXED ROTATING"
  EASTERNMOST_LONGITUDE = 321.276
  FIRST_STANDARD_PARALLEL = "N/A"
  LINE_FIRST_PIXEL = 1
  LINE_LAST_PIXEL = 892
  LINE_PROJECTION_OFFSET = -162701.0
  MAP_PROJECTION_ROTATION = 0.0
  MAP_PROJECTION_TYPE = SINUSOIDAL
  MAP_RESOLUTION = 11854.9393024378
  MAP_SCALE = 0.005
  MAXIMUM_LATITUDE = -13.7275
  MINIMUM_LATITUDE = -13.7991
  POSITIVE_LONGITUDE_DIRECTION = EAST
  REFERENCE_LATITUDE = "N/A"
  REFERENCE_LONGITUDE = "N/A"
  SAMPLE_FIRST_PIXEL = 1
  SAMPLE_LAST_PIXEL = 903
  SAMPLE_PROJECTION_OFFSET = -2281.0
  SECOND_STANDARD_PARALLEL = "N/A"
  WESTERNMOST_LONGITUDE = 321.202
END_OBJECT = IMAGE_MAP_PROJECTION
/* The JPEG2000 image data file associated with this label. */
OBJECT = COMPRESSED_FILE
  FILE_NAME = "H0259_0004_SR3.JP2"
  RECORD_TYPE = UNDEFINED
  FILE_RECORDS = UNK
  ENCODING_TYPE = "JP2"
  INTERCHANGE_FORMAT = BINARY
  UNCOMPRESSED_FILE_NAME = "H0259_0004_SR3.IMG"
  REQUIRED_STORAGE_BYTES = "824439"
  ^DESCRIPTION = "JP2INFO.TXT"
END_OBJECT = COMPRESSED_FILE
END
