PDS_VERSION_ID = PDS3
/* FILE DATA ELEMENTS */
RECORD_TYPE = STREAM
/* POINTERS TO DATA OBJECTS */
^COMPRESSED_FILE = "H0263_0000_P13.JP2"
/* IDENTIFICATION DATA ELEMENTS */
DATA_SET_ID = "MEX-M-HRSC-5-REFDR-MAPPROJECTED-V3.0"
DATA_SET_NAME = "MARS EXPRESS HRSC MAP PROJECTED REFDR V3.0"
DETECTOR_ID = MEX_HRSC_P1
EVENT_TYPE = "MARS-REGIONAL-MAPPING-Vo-Te"
INSTRUMENT_HOST_ID = MEX
INSTRUMENT_HOST_NAME = "MARS EXPRESS"
INSTRUMENT_ID = HRSC
INSTRUMENT_NAME = "HIGH RESOLUTION STEREO CAMERA"
MISSION_NAME = "MARS EXPRESS"
MISSION_PHASE_NAME = MC_Phase_4
PROCESSING_LEVEL_ID = 3
PRODUCT_CREATION_TIME = 2016-03-02T22:59:35.000Z
PRODUCT_ID = "H0263_0000_P13.JP2"
RELEASE_ID = 0005
REVISION_ID = 0000
/* QUALITY DATA ELEMENTS */
DATA_QUALITY_ID = 1
DATA_QUALITY_DESC = "Data calculated based on original SPICE kernels"
/* TIME DATA ELEMENTS */
SPACECRAFT_CLOCK_START_COUNT = "1/0028965491.56185"
SPACECRAFT_CLOCK_STOP_COUNT = "1/0028965767.59297"
START_TIME = 2004-04-02T05:58:34.580Z
STOP_TIME = 2004-04-02T06:00:58.538Z
/* ORBITAL DATA ELEMENTS */
ASCENDING_NODE_LONGITUDE = 223.54
MAXIMUM_RESOLUTION = 36.1
FOOTPRINT_POINT_LATITUDE = (-13.3151,-13.3093,-13.3029,-13.296, -13.2885,-13.2377,-12.9181,-12.7546, -12.5097,-12.1835,-12.0173,-11.8507, -11.6841,-11.5197,-11.2737,-11.1092, -10.9438,-10.7774,-10.6087,-10.4379, -10.1747,-9.99992,-9.82345,-9.62698, -9.45091,-9.27279,-9.0934,-8.91422, -8.73522,-8.55299,-8.37064,-8.18908, -8.00392,-7.81679,-7.62753,-7.43987, -7.24886,-7.05681,-6.86408,-6.57333, -6.37913,-6.18626,-5.99114,-5.79591, -5.60062,-5.40198,-5.20372,-4.90317, -4.70149,-4.50055,-4.29674,-4.2708, -4.27904,-4.28353,-4.28795,-4.29223, -4.29617,-4.30019,-4.30613,-4.51521, -4.71546,-4.91599,-5.11794,-5.31635, -5.61488,-5.9089,-6.10485,-6.30129, -6.59165,-6.78579,-6.97797,-7.16851, -7.35974,-7.64373,-7.83157,-8.11339, -8.29663,-8.57159,-8.7549,-8.93437, -9.20347,-9.47164,-9.64733,-9.82223, -10.1043,-10.275,-10.5309,-10.7845, -11.0337,-11.2004,-11.3678,-11.536, -11.7024,-11.8686,-12.035,-12.2834, -12.6091,-13.0158,-13.3349,-13.3151)
FOOTPRINT_POINT_LONGITUDE = (238.686,238.935,239.187,239.439, 239.694,240.048,240.051,240.052,240.055 ,240.059,240.06,240.062,240.064,240.064 ,240.061,240.058,240.057,240.056, 240.055,240.055,240.062,240.065,240.068 ,240.07,240.073,240.075,240.078,240.08, 240.083,240.085,240.088,240.09,240.094, 240.098,240.104,240.108,240.113,240.118 ,240.125,240.133,240.138,240.142, 240.145,240.149,240.152,240.156,240.16, 240.166,240.17,240.174,240.178,239.842, 239.546,239.369,239.193,239.017,238.841 ,238.666,238.395,238.164,238.172,238.18 ,238.188,238.196,238.208,238.219, 238.227,238.235,238.246,238.253,238.26, 238.268,238.275,238.285,238.292,238.302 ,238.308,238.317,238.323,238.329, 238.338,238.347,238.352,238.358,238.366 ,238.371,238.379,238.386,238.393, 238.398,238.402,238.407,238.412,238.416 ,238.421,238.428,238.437,238.447, 238.456,238.686)
ORBIT_NUMBER = 263
ORBITAL_ECCENTRICITY = 0.607
ORBITAL_INCLINATION = 86.58
ORBITAL_SEMIMAJOR_AXIS = 9293.92
PERIAPSIS_ALTITUDE = 263.83
PERIAPSIS_ARGUMENT_ANGLE = 314.97
PERIAPSIS_TIME = 2004-04-02T05:50:58.000Z
SPACECRAFT_ORIENTATION = (0.0,-1.0,0.0)
^MEX_ORIENTATION_DESC = "MEX_ORIENTATION_DESC.TXT"
SPACECRAFT_POINTING_MODE = ACROSSTRACK
^MEX_POINTING_DESC = "MEX_POINTING_DESC.TXT"
RIGHT_ASCENSION = -1e+32
DECLINATION = -1e+32
OFFSET_ANGLE = -0.916
SPACECRAFT_SOLAR_DISTANCE = 2.37885e+08
TARGET_NAME = MARS
/* CAMERA DATA ELEMENTS */
DETECTOR_TEMPERATURE = 17.351
FOCAL_PLANE_TEMPERATURE = 7.9716
INST_CMPRS_NAME = "DISCRETE COSINE TRANSFORMATION (DCT)"
INST_CMPRS_RATIO = 11.4844
INST_CMPRS_QUALITY = 0
INST_CMPRS_QUANTZ_TBL_ID = 0
INSTRUMENT_TEMPERATURE = 11.0301
LENS_TEMPERATURE = 8.5833
MACROPIXEL_SIZE = 2
MISSING_FRAMES = 4
PIXEL_SUBSAMPLING_FLAG = N
SIGNAL_CHAIN_ID = 3
/* RADIOMETRIC DATA ELEMENTS */
BANDWIDTH = 174.0
CENTER_FILTER_WAVELENGTH = 675.0
RADIANCE_OFFSET = 6.35015
RADIANCE_SCALING_FACTOR = 0.0249025
REFLECTANCE_SCALING_FACTOR = 0.000757997
MEX:REFLECTANCE_OFFSET = 0.193289
/* IMAGE OBJECT DEFINITIONS */
OBJECT = IMAGE
  INTERCHANGE_FORMAT = BINARY
  LINES = 21476
  LINE_SAMPLES = 5379
  SAMPLE_TYPE = UNSIGNED_INTEGER
  SAMPLE_BITS = 8
  BANDS = 1
  BAND_STORAGE_TYPE = BAND_SEQUENTIAL
  MAXIMUM = 177
  MEAN = 140.423
  MINIMUM = 55
  STANDARD_DEVIATION = 7.0499
END_OBJECT = IMAGE
/* MAP OBJECT DEFINITIONS */
OBJECT = IMAGE_MAP_PROJECTION
  ^DATA_SET_MAP_PROJECTION_CATALOG= "DSMAP.CAT"
  A_AXIS_RADIUS = 3396.0
  B_AXIS_RADIUS = 3396.0
  C_AXIS_RADIUS = 3396.0
  CENTER_LATITUDE = 0.0
  CENTER_LONGITUDE = 239.0
  COORDINATE_SYSTEM_NAME = PLANETOGRAPHIC
  COORDINATE_SYSTEM_TYPE = "BODY-FIXED ROTATING"
  EASTERNMOST_LONGITUDE = 240.178
  FIRST_STANDARD_PARALLEL = "N/A"
  LINE_FIRST_PIXEL = 1
  LINE_LAST_PIXEL = 21476
  LINE_PROJECTION_OFFSET = -10013.75
  MAP_PROJECTION_ROTATION = 0.0
  MAP_PROJECTION_TYPE = SINUSOIDAL
  MAP_RESOLUTION = 2370.85521546667
  MAP_SCALE = 0.025
  MAXIMUM_LATITUDE = -4.2708
  MINIMUM_LATITUDE = -13.3349
  POSITIVE_LONGITUDE_DIRECTION = EAST
  REFERENCE_LATITUDE = "N/A"
  REFERENCE_LONGITUDE = "N/A"
  SAMPLE_FIRST_PIXEL = 1
  SAMPLE_LAST_PIXEL = 5379
  SAMPLE_PROJECTION_OFFSET = 2196.25
  SECOND_STANDARD_PARALLEL = "N/A"
  WESTERNMOST_LONGITUDE = 238.164
END_OBJECT = IMAGE_MAP_PROJECTION
/* The JPEG2000 image data file associated with this label. */
OBJECT = COMPRESSED_FILE
  FILE_NAME = "H0263_0000_P13.JP2"
  RECORD_TYPE = UNDEFINED
  FILE_RECORDS = UNK
  ENCODING_TYPE = "JP2"
  INTERCHANGE_FORMAT = BINARY
  UNCOMPRESSED_FILE_NAME = "H0263_0000_P13.IMG"
  REQUIRED_STORAGE_BYTES = "115546299"
  ^DESCRIPTION = "JP2INFO.TXT"
END_OBJECT = COMPRESSED_FILE
END
