PDS_VERSION_ID = PDS3
/* FILE DATA ELEMENTS */
RECORD_TYPE = STREAM
/* POINTERS TO DATA OBJECTS */
^COMPRESSED_FILE = "H0263_0000_RE3.JP2"
/* IDENTIFICATION DATA ELEMENTS */
DATA_SET_ID = "MEX-M-HRSC-5-REFDR-MAPPROJECTED-V3.0"
DATA_SET_NAME = "MARS EXPRESS HRSC MAP PROJECTED REFDR V3.0"
DETECTOR_ID = MEX_HRSC_RED
EVENT_TYPE = "MARS-REGIONAL-MAPPING-Vo-Te"
INSTRUMENT_HOST_ID = MEX
INSTRUMENT_HOST_NAME = "MARS EXPRESS"
INSTRUMENT_ID = HRSC
INSTRUMENT_NAME = "HIGH RESOLUTION STEREO CAMERA"
MISSION_NAME = "MARS EXPRESS"
MISSION_PHASE_NAME = MC_Phase_4
PROCESSING_LEVEL_ID = 3
PRODUCT_CREATION_TIME = 2016-03-02T22:59:35.000Z
PRODUCT_ID = "H0263_0000_RE3.JP2"
RELEASE_ID = 0005
REVISION_ID = 0000
/* QUALITY DATA ELEMENTS */
DATA_QUALITY_ID = 1
DATA_QUALITY_DESC = "Data calculated based on original SPICE kernels"
/* TIME DATA ELEMENTS */
SPACECRAFT_CLOCK_START_COUNT = "1/0028965491.56185"
SPACECRAFT_CLOCK_STOP_COUNT = "1/0028965767.59297"
START_TIME = 2004-04-02T05:59:45.198Z
STOP_TIME = 2004-04-02T06:02:39.801Z
/* ORBITAL DATA ELEMENTS */
ASCENDING_NODE_LONGITUDE = 223.54
MAXIMUM_RESOLUTION = 84
FOOTPRINT_POINT_LATITUDE = (-13.2403,-13.2449,-13.2496,-13.2546, -13.2597,-13.2651,-13.2116,-12.8871, -12.3963,-12.0666,-11.9003,-11.733, -11.5637,-11.3911,-11.2141,-11.0384, -10.8636,-10.6869,-10.5106,-10.3363, -10.1617,-9.99553,-9.82167,-9.64618, -9.47118,-9.29464,-9.11725,-8.85045, -8.6707,-8.49132,-8.31008,-8.04015, -7.85959,-7.59101,-7.31652,-7.04464, -6.86325,-6.58586,-6.39987,-6.11515, -5.92494,-5.73295,-5.54166,-5.34817, -5.15503,-4.96094,-4.76595,-4.47483, -4.17924,-4.17748,-4.17571,-4.17478, -4.17517,-4.17512,-4.17569,-4.17691, -4.1772,-4.17771,-4.2774,-4.56837, -4.85961,-5.05384,-5.34337,-5.53563, -5.72583,-5.91599,-6.19647,-6.38471, -6.56678,-6.75274,-6.93673,-7.21289, -7.39375,-7.57166,-7.83855,-8.01831, -8.28696,-8.46737,-8.64407,-8.82272, -9.0888,-9.26562,-9.442,-9.61685, -9.79238,-10.0552,-10.2308,-10.4063, -10.5793,-10.7548,-11.0161,-11.1895, -11.3618,-11.5303,-11.8631,-12.1111, -12.5234,-12.8485,-13.1727,-13.2403)
FOOTPRINT_POINT_LONGITUDE = (238.55,238.824,239.099,239.376,239.655 ,239.935,240.167,240.173,240.182, 240.188,240.191,240.195,240.196,240.197 ,240.195,240.194,240.195,240.195, 240.195,240.197,240.201,240.209,240.213 ,240.217,240.221,240.225,240.229, 240.235,240.239,240.243,240.248,240.255 ,240.262,240.272,240.281,240.292, 240.301,240.311,240.318,240.326,240.331 ,240.337,240.343,240.349,240.355, 240.362,240.368,240.377,240.296,240.09, 239.839,239.635,239.297,239.071,238.869 ,238.532,238.331,238.152,237.97,237.986 ,238.001,238.011,238.026,238.036, 238.046,238.056,238.07,238.079,238.089, 238.098,238.107,238.12,238.129,238.138, 238.151,238.16,238.171,238.179,238.187, 238.194,238.205,238.213,238.22,238.227, 238.234,238.243,238.25,238.256,238.262, 238.268,238.277,238.283,238.289,238.295 ,238.307,238.315,238.329,238.34,238.351 ,238.55)
ORBIT_NUMBER = 263
ORBITAL_ECCENTRICITY = 0.607
ORBITAL_INCLINATION = 86.58
ORBITAL_SEMIMAJOR_AXIS = 9293.92
PERIAPSIS_ALTITUDE = 263.83
PERIAPSIS_ARGUMENT_ANGLE = 314.97
PERIAPSIS_TIME = 2004-04-02T05:50:58.000Z
SPACECRAFT_ORIENTATION = (0.0,-1.0,0.0)
^MEX_ORIENTATION_DESC = "MEX_ORIENTATION_DESC.TXT"
SPACECRAFT_POINTING_MODE = ACROSSTRACK
^MEX_POINTING_DESC = "MEX_POINTING_DESC.TXT"
RIGHT_ASCENSION = -1e+32
DECLINATION = -1e+32
OFFSET_ANGLE = -0.916
SPACECRAFT_SOLAR_DISTANCE = 2.37885e+08
TARGET_NAME = MARS
/* CAMERA DATA ELEMENTS */
DETECTOR_TEMPERATURE = 17.351
FOCAL_PLANE_TEMPERATURE = 7.9716
INST_CMPRS_NAME = "DISCRETE COSINE TRANSFORMATION (DCT)"
INST_CMPRS_RATIO = 18.4011
INST_CMPRS_QUALITY = 0
INST_CMPRS_QUANTZ_TBL_ID = 0
INSTRUMENT_TEMPERATURE = 11.0301
LENS_TEMPERATURE = 8.5833
MACROPIXEL_SIZE = 4
MISSING_FRAMES = 0
PIXEL_SUBSAMPLING_FLAG = N
SIGNAL_CHAIN_ID = 2
/* RADIOMETRIC DATA ELEMENTS */
BANDWIDTH = 48.0
CENTER_FILTER_WAVELENGTH = 748.0
RADIANCE_OFFSET = 2.58274
RADIANCE_SCALING_FACTOR = 0.00472658
REFLECTANCE_SCALING_FACTOR = 0.000610396
MEX:REFLECTANCE_OFFSET = 0.333538
/* IMAGE OBJECT DEFINITIONS */
OBJECT = IMAGE
  INTERCHANGE_FORMAT = BINARY
  LINES = 10738
  LINE_SAMPLES = 2690
  SAMPLE_TYPE = UNSIGNED_INTEGER
  SAMPLE_BITS = 8
  BANDS = 1
  BAND_STORAGE_TYPE = BAND_SEQUENTIAL
  MAXIMUM = 169
  MEAN = 134.656
  MINIMUM = 91
  STANDARD_DEVIATION = 4.16648
END_OBJECT = IMAGE
/* MAP OBJECT DEFINITIONS */
OBJECT = IMAGE_MAP_PROJECTION
  ^DATA_SET_MAP_PROJECTION_CATALOG= "DSMAP.CAT"
  A_AXIS_RADIUS = 3396.0
  B_AXIS_RADIUS = 3396.0
  C_AXIS_RADIUS = 3396.0
  CENTER_LATITUDE = 0.0
  CENTER_LONGITUDE = 239.0
  COORDINATE_SYSTEM_NAME = PLANETOGRAPHIC
  COORDINATE_SYSTEM_TYPE = "BODY-FIXED ROTATING"
  EASTERNMOST_LONGITUDE = 240.377
  FIRST_STANDARD_PARALLEL = "N/A"
  LINE_FIRST_PIXEL = 1
  LINE_LAST_PIXEL = 10738
  LINE_PROJECTION_OFFSET = -5007.125
  MAP_PROJECTION_ROTATION = 0.0
  MAP_PROJECTION_TYPE = SINUSOIDAL
  MAP_RESOLUTION = 1185.42760773333
  MAP_SCALE = 0.05
  MAXIMUM_LATITUDE = -4.17478
  MINIMUM_LATITUDE = -13.2651
  POSITIVE_LONGITUDE_DIRECTION = EAST
  REFERENCE_LATITUDE = "N/A"
  REFERENCE_LONGITUDE = "N/A"
  SAMPLE_FIRST_PIXEL = 1
  SAMPLE_LAST_PIXEL = 2690
  SAMPLE_PROJECTION_OFFSET = 1097.875
  SECOND_STANDARD_PARALLEL = "N/A"
  WESTERNMOST_LONGITUDE = 237.97
END_OBJECT = IMAGE_MAP_PROJECTION
/* The JPEG2000 image data file associated with this label. */
OBJECT = COMPRESSED_FILE
  FILE_NAME = "H0263_0000_RE3.JP2"
  RECORD_TYPE = UNDEFINED
  FILE_RECORDS = UNK
  ENCODING_TYPE = "JP2"
  INTERCHANGE_FORMAT = BINARY
  UNCOMPRESSED_FILE_NAME = "H0263_0000_RE3.IMG"
  REQUIRED_STORAGE_BYTES = "28906740"
  ^DESCRIPTION = "JP2INFO.TXT"
END_OBJECT = COMPRESSED_FILE
END
