PDS_VERSION_ID = PDS3
/* FILE DATA ELEMENTS */
RECORD_TYPE = STREAM
/* POINTERS TO DATA OBJECTS */
^COMPRESSED_FILE = "H0266_0007_SR3.JP2"
/* IDENTIFICATION DATA ELEMENTS */
DATA_SET_ID = "MEX-M-HRSC-5-REFDR-MAPPROJECTED-V3.0"
DATA_SET_NAME = "MARS EXPRESS HRSC MAP PROJECTED REFDR V3.0"
DETECTOR_ID = MEX_HRSC_SRC
EVENT_TYPE = "MARS-REGIONAL-STEREO-Vo-Te-Fl"
INSTRUMENT_HOST_ID = MEX
INSTRUMENT_HOST_NAME = "MARS EXPRESS"
INSTRUMENT_ID = HRSC
INSTRUMENT_NAME = "HIGH RESOLUTION STEREO CAMERA"
MISSION_NAME = "MARS EXPRESS"
MISSION_PHASE_NAME = MC_Phase_4
PROCESSING_LEVEL_ID = 3
PRODUCT_CREATION_TIME = 2016-03-02T22:59:35.000Z
PRODUCT_ID = "H0266_0007_SR3.JP2"
RELEASE_ID = 0005
REVISION_ID = 0000
/* QUALITY DATA ELEMENTS */
DATA_QUALITY_ID = 1
DATA_QUALITY_DESC = "Data calculated based on original SPICE kernels"
/* TIME DATA ELEMENTS */
SPACECRAFT_CLOCK_START_COUNT = "1/0029046893.57299"
SPACECRAFT_CLOCK_STOP_COUNT = "1/0029047047.47902"
IMAGE_TIME = 2004-04-03T04:36:43.830Z
START_TIME = 2004-04-03T04:36:43.828Z
STOP_TIME = 2004-04-03T04:36:43.831Z
/* ORBITAL DATA ELEMENTS */
ASCENDING_NODE_LONGITUDE = 223.48
MAXIMUM_RESOLUTION = 2.368
FOOTPRINT_POINT_LATITUDE = (-40.803,-40.8042,-40.8064,-40.808, -40.8098,-40.8119,-40.8135,-40.8154, -40.817,-40.8184,-40.8204,-40.8219, -40.824,-40.8261,-40.8281,-40.8293, -40.8307,-40.8318,-40.8336,-40.8351, -40.8365,-40.8385,-40.8399,-40.8417, -40.8425,-40.8425,-40.8424,-40.8424, -40.8423,-40.8423,-40.8422,-40.8421, -40.8421,-40.8421,-40.842,-40.8419, -40.8419,-40.8418,-40.8418,-40.8417, -40.8417,-40.8416,-40.8416,-40.8415, -40.8415,-40.8414,-40.8413,-40.8413, -40.8412,-40.8396,-40.8377,-40.8359, -40.8345,-40.8329,-40.8313,-40.8299, -40.8287,-40.8274,-40.8254,-40.824, -40.8227,-40.8208,-40.8196,-40.8179, -40.8165,-40.8148,-40.8132,-40.8121, -40.811,-40.8092,-40.8075,-40.8064, -40.8052,-40.8038,-40.8017,-40.801, -40.8011,-40.8011,-40.8012,-40.8013, -40.8013,-40.8013,-40.8014,-40.8015, -40.8015,-40.8016,-40.8016,-40.8017, -40.8017,-40.8018,-40.8019,-40.8019, -40.802,-40.802,-40.8021,-40.8022, -40.8022,-40.8023,-40.8023,-40.803)
FOOTPRINT_POINT_LONGITUDE = (265.509,265.509,265.509,265.509, 265.509,265.509,265.509,265.509,265.509 ,265.509,265.509,265.509,265.509, 265.508,265.508,265.508,265.508,265.508 ,265.508,265.508,265.508,265.508, 265.508,265.508,265.506,265.504,265.501 ,265.499,265.497,265.495,265.493, 265.491,265.489,265.487,265.485,265.483 ,265.481,265.479,265.477,265.474, 265.472,265.47,265.468,265.466,265.464, 265.462,265.459,265.458,265.455,265.454 ,265.454,265.454,265.454,265.454, 265.454,265.455,265.455,265.455,265.455 ,265.455,265.455,265.455,265.455, 265.455,265.455,265.455,265.455,265.455 ,265.455,265.455,265.456,265.456, 265.456,265.456,265.456,265.457,265.459 ,265.461,265.463,265.466,265.468,265.47 ,265.472,265.475,265.477,265.479,265.48 ,265.483,265.485,265.488,265.49,265.493 ,265.494,265.497,265.499,265.502, 265.504,265.506,265.508,265.509)
ORBIT_NUMBER = 266
ORBITAL_ECCENTRICITY = 0.607
ORBITAL_INCLINATION = 86.56
ORBITAL_SEMIMAJOR_AXIS = 9294.73
PERIAPSIS_ALTITUDE = 264.6
PERIAPSIS_ARGUMENT_ANGLE = 314.5
PERIAPSIS_TIME = 2004-04-03T04:35:36.000Z
SPACECRAFT_ORIENTATION = (0.0,-1.0,0.0)
^MEX_ORIENTATION_DESC = "MEX_ORIENTATION_DESC.TXT"
SPACECRAFT_POINTING_MODE = NADIR
^MEX_POINTING_DESC = "MEX_POINTING_DESC.TXT"
RIGHT_ASCENSION = -1e+32
DECLINATION = -1e+32
OFFSET_ANGLE = -1e+32
SPACECRAFT_SOLAR_DISTANCE = 2.38042e+08
TARGET_NAME = MARS
/* CAMERA DATA ELEMENTS */
BUFFER_MODE_ID = BUFFER_8
EXPOSURE_DURATION = 3.528
INST_CMPRS_NAME = NONE
INST_CMPRS_RATIO = 1.0
INST_CMPRS_QUALITY = -2147483648
INST_CMPRS_QUANTZ_TBL_ID = -2147483648
INSTRUMENT_TEMPERATURE = 8.18182
MISSING_FRAMES = 0
START_BIT = 0
/* RADIOMETRIC DATA ELEMENTS */
BANDWIDTH = 250.0
CENTER_FILTER_WAVELENGTH = 600.0
RADIANCE_OFFSET = -9.99e+31
RADIANCE_SCALING_FACTOR = -9.99e+31
REFLECTANCE_SCALING_FACTOR = -9.99e+31
MEX:REFLECTANCE_OFFSET = -9.99e+31
/* IMAGE OBJECT DEFINITIONS */
OBJECT = IMAGE
  INTERCHANGE_FORMAT = BINARY
  LINES = 1059
  LINE_SAMPLES = 1073
  SAMPLE_TYPE = UNSIGNED_INTEGER
  SAMPLE_BITS = 8
  BANDS = 1
  BAND_STORAGE_TYPE = BAND_SEQUENTIAL
  MAXIMUM = 3843
  MEAN = 3040.34
  MINIMUM = 1652
  STANDARD_DEVIATION = 143.537
END_OBJECT = IMAGE
/* MAP OBJECT DEFINITIONS */
OBJECT = IMAGE_MAP_PROJECTION
  ^DATA_SET_MAP_PROJECTION_CATALOG= "DSMAP.CAT"
  A_AXIS_RADIUS = 3396.19
  B_AXIS_RADIUS = 3396.19
  C_AXIS_RADIUS = 3396.19
  CENTER_LATITUDE = 0.0
  CENTER_LONGITUDE = 265.0
  COORDINATE_SYSTEM_NAME = PLANETOGRAPHIC
  COORDINATE_SYSTEM_TYPE = "BODY-FIXED ROTATING"
  EASTERNMOST_LONGITUDE = 265.509
  FIRST_STANDARD_PARALLEL = "N/A"
  LINE_FIRST_PIXEL = 1
  LINE_LAST_PIXEL = 1059
  LINE_PROJECTION_OFFSET = -966520.0
  MAP_PROJECTION_ROTATION = 0.0
  MAP_PROJECTION_TYPE = SINUSOIDAL
  MAP_RESOLUTION = 23709.8786048756
  MAP_SCALE = 0.0025
  MAXIMUM_LATITUDE = -40.801
  MINIMUM_LATITUDE = -40.8425
  POSITIVE_LONGITUDE_DIRECTION = EAST
  REFERENCE_LATITUDE = "N/A"
  REFERENCE_LONGITUDE = "N/A"
  SAMPLE_FIRST_PIXEL = 1
  SAMPLE_LAST_PIXEL = 1073
  SAMPLE_PROJECTION_OFFSET = -8083.0
  SECOND_STANDARD_PARALLEL = "N/A"
  WESTERNMOST_LONGITUDE = 265.454
END_OBJECT = IMAGE_MAP_PROJECTION
/* The JPEG2000 image data file associated with this label. */
OBJECT = COMPRESSED_FILE
  FILE_NAME = "H0266_0007_SR3.JP2"
  RECORD_TYPE = UNDEFINED
  FILE_RECORDS = UNK
  ENCODING_TYPE = "JP2"
  INTERCHANGE_FORMAT = BINARY
  UNCOMPRESSED_FILE_NAME = "H0266_0007_SR3.IMG"
  REQUIRED_STORAGE_BYTES = "1154548"
  ^DESCRIPTION = "JP2INFO.TXT"
END_OBJECT = COMPRESSED_FILE
END
