PDS_VERSION_ID = PDS3
/* FILE DATA ELEMENTS */
RECORD_TYPE = STREAM
/* POINTERS TO DATA OBJECTS */
^COMPRESSED_FILE = "H0277_0000_RE3.JP2"
/* IDENTIFICATION DATA ELEMENTS */
DATA_SET_ID = "MEX-M-HRSC-5-REFDR-MAPPROJECTED-V3.0"
DATA_SET_NAME = "MARS EXPRESS HRSC MAP PROJECTED REFDR V3.0"
DETECTOR_ID = MEX_HRSC_RED
EVENT_TYPE = "MARS-REGIONAL-MAPPING-Im-Fl-Lc"
INSTRUMENT_HOST_ID = MEX
INSTRUMENT_HOST_NAME = "MARS EXPRESS"
INSTRUMENT_ID = HRSC
INSTRUMENT_NAME = "HIGH RESOLUTION STEREO CAMERA"
MISSION_NAME = "MARS EXPRESS"
MISSION_PHASE_NAME = MC_Phase_4
PROCESSING_LEVEL_ID = 3
PRODUCT_CREATION_TIME = 2016-03-02T22:59:35.000Z
PRODUCT_ID = "H0277_0000_RE3.JP2"
RELEASE_ID = 0005
REVISION_ID = 0000
/* QUALITY DATA ELEMENTS */
DATA_QUALITY_ID = 1
DATA_QUALITY_DESC = "Data calculated based on original SPICE kernels"
/* TIME DATA ELEMENTS */
SPACECRAFT_CLOCK_START_COUNT = "1/0029347371.56178"
SPACECRAFT_CLOCK_STOP_COUNT = "1/0029347649.28939"
START_TIME = 2004-04-06T16:04:22.140Z
STOP_TIME = 2004-04-06T16:07:23.787Z
/* ORBITAL DATA ELEMENTS */
ASCENDING_NODE_LONGITUDE = 223.25
MAXIMUM_RESOLUTION = 66.6
FOOTPRINT_POINT_LATITUDE = (-23.6637,-23.6675,-23.672,-23.6765, -23.681,-23.6855,-23.6877,-23.6898, -23.6408,-23.4722,-22.7714,-22.6573, -22.4863,-18.2199,-18.1107,-18.003, -17.8401,-17.7315,-17.6229,-17.4601, -17.2977,-17.1812,-17.0731,-16.9652, -16.8572,-16.645,-16.434,-16.3237, -16.2153,-16.1061,-15.944,-15.6849, -15.5276,-15.4219,-15.3161,-15.2105, -15.1053,-15.0,-14.8943,-14.7363, -14.6311,-14.5261,-14.3691,-14.1614, -13.953,-13.7453,-13.5899,-13.4264, -13.4253,-13.4187,-13.4167,-13.4155, -13.4151,-13.4148,-13.4133,-13.412, -13.4121,-13.4114,-13.411,-13.4101, -13.4626,-13.6697,-13.8246,-13.9792, -14.1351,-14.3948,-14.4998,-14.6049, -14.7617,-14.919,-15.1291,-15.2342, -15.4438,-15.6027,-15.7087,-15.8693, -15.9771,-16.1889,-16.2958,-16.4028, -16.5095,-16.617,-16.7776,-16.8855, -17.0474,-17.2085,-17.3784,-17.4864, -17.5945,-17.7023,-17.813,-17.977, -18.0839,-18.1927,-22.446,-22.6184, -22.7331,-23.4366,-23.6025,-23.6637)
FOOTPRINT_POINT_LONGITUDE = (126.406,126.589,126.814,127.041, 127.268,127.496,127.611,127.726,127.836 ,127.84,127.855,127.857,127.861,127.946 ,127.948,127.951,127.955,127.957, 127.959,127.963,127.966,127.968,127.971 ,127.973,127.975,127.981,127.988, 127.988,127.99,127.991,127.993,128.002, 128.007,128.009,128.012,128.014,128.016 ,128.019,128.021,128.024,128.026, 128.028,128.032,128.037,128.042,128.046 ,128.05,127.961,127.829,127.639,127.471 ,127.322,127.174,127.063,126.896, 126.766,126.637,126.489,126.36,126.158, 126.062,126.069,126.074,126.08,126.085, 126.094,126.098,126.101,126.106,126.111 ,126.118,126.121,126.128,126.133, 126.136,126.141,126.144,126.15,126.153, 126.157,126.16,126.163,126.167,126.17, 126.175,126.179,126.184,126.187,126.189 ,126.192,126.195,126.199,126.202, 126.205,126.29,126.293,126.294,126.304, 126.306,126.406)
ORBIT_NUMBER = 277
ORBITAL_ECCENTRICITY = 0.607
ORBITAL_INCLINATION = 86.56
ORBITAL_SEMIMAJOR_AXIS = 9291.09
PERIAPSIS_ALTITUDE = 264.5
PERIAPSIS_ARGUMENT_ANGLE = 312.63
PERIAPSIS_TIME = 2004-04-06T15:57:56.000Z
SPACECRAFT_ORIENTATION = (0.0,-1.0,0.0)
^MEX_ORIENTATION_DESC = "MEX_ORIENTATION_DESC.TXT"
SPACECRAFT_POINTING_MODE = ACROSSTRACK
^MEX_POINTING_DESC = "MEX_POINTING_DESC.TXT"
RIGHT_ASCENSION = -1e+32
DECLINATION = -1e+32
OFFSET_ANGLE = -0.48
SPACECRAFT_SOLAR_DISTANCE = 2.38607e+08
TARGET_NAME = MARS
/* CAMERA DATA ELEMENTS */
DETECTOR_TEMPERATURE = 18.3705
FOCAL_PLANE_TEMPERATURE = 7.7677
INST_CMPRS_NAME = "DISCRETE COSINE TRANSFORMATION (DCT)"
INST_CMPRS_RATIO = 17.9875
INST_CMPRS_QUALITY = 0
INST_CMPRS_QUANTZ_TBL_ID = 0
INSTRUMENT_TEMPERATURE = 50.9945
LENS_TEMPERATURE = 8.1755
MACROPIXEL_SIZE = 4
MISSING_FRAMES = 585
PIXEL_SUBSAMPLING_FLAG = N
SIGNAL_CHAIN_ID = 2
/* RADIOMETRIC DATA ELEMENTS */
BANDWIDTH = 48.0
CENTER_FILTER_WAVELENGTH = 748.0
RADIANCE_OFFSET = 1.07636
RADIANCE_SCALING_FACTOR = 0.00533599
REFLECTANCE_SCALING_FACTOR = 0.000693282
MEX:REFLECTANCE_OFFSET = 0.139846
/* IMAGE OBJECT DEFINITIONS */
OBJECT = IMAGE
  INTERCHANGE_FORMAT = BINARY
  LINES = 12848
  LINE_SAMPLES = 2169
  SAMPLE_TYPE = UNSIGNED_INTEGER
  SAMPLE_BITS = 8
  BANDS = 1
  BAND_STORAGE_TYPE = BAND_SEQUENTIAL
  MAXIMUM = 128
  MEAN = 72.9375
  MINIMUM = 51
  STANDARD_DEVIATION = 8.04529
END_OBJECT = IMAGE
/* MAP OBJECT DEFINITIONS */
OBJECT = IMAGE_MAP_PROJECTION
  ^DATA_SET_MAP_PROJECTION_CATALOG= "DSMAP.CAT"
  A_AXIS_RADIUS = 3396.0
  B_AXIS_RADIUS = 3396.0
  C_AXIS_RADIUS = 3396.0
  CENTER_LATITUDE = 0.0
  CENTER_LONGITUDE = 127.0
  COORDINATE_SYSTEM_NAME = PLANETOGRAPHIC
  COORDINATE_SYSTEM_TYPE = "BODY-FIXED ROTATING"
  EASTERNMOST_LONGITUDE = 128.05
  FIRST_STANDARD_PARALLEL = "N/A"
  LINE_FIRST_PIXEL = 1
  LINE_LAST_PIXEL = 12848
  LINE_PROJECTION_OFFSET = -16385.125
  MAP_PROJECTION_ROTATION = 0.0
  MAP_PROJECTION_TYPE = SINUSOIDAL
  MAP_RESOLUTION = 1185.42760773333
  MAP_SCALE = 0.05
  MAXIMUM_LATITUDE = -13.4101
  MINIMUM_LATITUDE = -23.6898
  POSITIVE_LONGITUDE_DIRECTION = EAST
  REFERENCE_LATITUDE = "N/A"
  REFERENCE_LONGITUDE = "N/A"
  SAMPLE_FIRST_PIXEL = 1
  SAMPLE_LAST_PIXEL = 2169
  SAMPLE_PROJECTION_OFFSET = 1002.125
  SECOND_STANDARD_PARALLEL = "N/A"
  WESTERNMOST_LONGITUDE = 126.062
END_OBJECT = IMAGE_MAP_PROJECTION
/* The JPEG2000 image data file associated with this label. */
OBJECT = COMPRESSED_FILE
  FILE_NAME = "H0277_0000_RE3.JP2"
  RECORD_TYPE = UNDEFINED
  FILE_RECORDS = UNK
  ENCODING_TYPE = "JP2"
  INTERCHANGE_FORMAT = BINARY
  UNCOMPRESSED_FILE_NAME = "H0277_0000_RE3.IMG"
  REQUIRED_STORAGE_BYTES = "27889002"
  ^DESCRIPTION = "JP2INFO.TXT"
END_OBJECT = COMPRESSED_FILE
END
