PDS_VERSION_ID = PDS3
/* FILE DATA ELEMENTS */
RECORD_TYPE = STREAM
/* POINTERS TO DATA OBJECTS */
^COMPRESSED_FILE = "H0277_0000_S23.JP2"
/* IDENTIFICATION DATA ELEMENTS */
DATA_SET_ID = "MEX-M-HRSC-5-REFDR-MAPPROJECTED-V3.0"
DATA_SET_NAME = "MARS EXPRESS HRSC MAP PROJECTED REFDR V3.0"
DETECTOR_ID = MEX_HRSC_S2
EVENT_TYPE = "MARS-REGIONAL-MAPPING-Im-Fl-Lc"
INSTRUMENT_HOST_ID = MEX
INSTRUMENT_HOST_NAME = "MARS EXPRESS"
INSTRUMENT_ID = HRSC
INSTRUMENT_NAME = "HIGH RESOLUTION STEREO CAMERA"
MISSION_NAME = "MARS EXPRESS"
MISSION_PHASE_NAME = MC_Phase_4
PROCESSING_LEVEL_ID = 3
PRODUCT_CREATION_TIME = 2016-03-02T22:59:35.000Z
PRODUCT_ID = "H0277_0000_S23.JP2"
RELEASE_ID = 0005
REVISION_ID = 0000
/* QUALITY DATA ELEMENTS */
DATA_QUALITY_ID = 1
DATA_QUALITY_DESC = "Data calculated based on original SPICE kernels"
/* TIME DATA ELEMENTS */
SPACECRAFT_CLOCK_START_COUNT = "1/0029347371.56178"
SPACECRAFT_CLOCK_STOP_COUNT = "1/0029347649.28939"
START_TIME = 2004-04-06T16:04:22.914Z
STOP_TIME = 2004-04-06T16:07:36.417Z
/* ORBITAL DATA ELEMENTS */
ASCENDING_NODE_LONGITUDE = 223.25
MAXIMUM_RESOLUTION = 34
FOOTPRINT_POINT_LATITUDE = (-24.0174,-24.023,-24.0286,-24.0342, -24.0399,-24.0455,-24.055,-23.8686, -23.1412,-22.8873,-18.7084,-18.5843, -18.4607,-18.2793,-18.1584,-17.9789, -17.8592,-17.739,-17.5588,-17.4391, -17.3195,-17.1996,-17.0803,-16.9611, -16.7851,-16.6699,-16.4369,-16.2547, -16.1317,-15.953,-15.7823,-15.5525, -15.436,-15.2612,-15.0868,-14.9127, -14.797,-14.68,-14.5644,-14.4488, -14.2772,-14.1055,-13.8769,-13.6489, -13.4213,-13.3347,-13.3316,-13.3272, -13.322,-13.3198,-13.32,-13.3196, -13.3176,-13.3154,-13.3152,-13.3142, -13.3134,-13.3125,-13.4259,-13.6537, -13.9944,-14.2232,-14.4519,-14.5676, -14.7412,-14.9718,-15.0875,-15.2612, -15.4341,-15.5508,-15.726,-15.8432, -15.9637,-16.0799,-16.1971,-16.3151, -16.4921,-16.6107,-16.729,-16.8471, -16.9671,-17.0859,-17.2043,-17.3831, -17.5024,-17.6218,-17.7409,-17.8631, -17.9883,-18.1061,-18.2232,-18.3439, -18.4642,-18.5853,-18.7069,-22.883, -23.0741,-23.8022,-23.9272,-24.0174)
FOOTPRINT_POINT_LONGITUDE = (126.39,126.626,126.863,127.101,127.34, 127.58,127.843,127.849,127.866,127.872, 127.962,127.963,127.965,127.969,127.972 ,127.977,127.98,127.982,127.986,127.989 ,127.992,127.994,127.997,128.0,128.005, 128.009,128.016,128.018,128.018,128.021 ,128.028,128.035,128.038,128.042, 128.046,128.05,128.053,128.055,128.058, 128.061,128.065,128.069,128.075,128.081 ,128.086,128.008,127.827,127.666, 127.465,127.326,127.187,127.048,126.89, 126.751,126.574,126.416,126.259,126.121 ,126.04,126.048,126.06,126.069,126.077, 126.081,126.086,126.094,126.098,126.104 ,126.11,126.114,126.119,126.123,126.126 ,126.13,126.133,126.137,126.142,126.146 ,126.149,126.153,126.156,126.159, 126.163,126.168,126.171,126.175,126.178 ,126.181,126.183,126.187,126.19,126.194 ,126.197,126.2,126.203,126.285,126.288, 126.299,126.3,126.39)
ORBIT_NUMBER = 277
ORBITAL_ECCENTRICITY = 0.607
ORBITAL_INCLINATION = 86.56
ORBITAL_SEMIMAJOR_AXIS = 9291.09
PERIAPSIS_ALTITUDE = 264.5
PERIAPSIS_ARGUMENT_ANGLE = 312.63
PERIAPSIS_TIME = 2004-04-06T15:57:56.000Z
SPACECRAFT_ORIENTATION = (0.0,-1.0,0.0)
^MEX_ORIENTATION_DESC = "MEX_ORIENTATION_DESC.TXT"
SPACECRAFT_POINTING_MODE = ACROSSTRACK
^MEX_POINTING_DESC = "MEX_POINTING_DESC.TXT"
RIGHT_ASCENSION = -1e+32
DECLINATION = -1e+32
OFFSET_ANGLE = -0.48
SPACECRAFT_SOLAR_DISTANCE = 2.38607e+08
TARGET_NAME = MARS
/* CAMERA DATA ELEMENTS */
DETECTOR_TEMPERATURE = 18.3705
FOCAL_PLANE_TEMPERATURE = 7.7677
INST_CMPRS_NAME = "DISCRETE COSINE TRANSFORMATION (DCT)"
INST_CMPRS_RATIO = 12.436
INST_CMPRS_QUALITY = 0
INST_CMPRS_QUANTZ_TBL_ID = 0
INSTRUMENT_TEMPERATURE = 50.9945
LENS_TEMPERATURE = 8.1755
MACROPIXEL_SIZE = 2
MISSING_FRAMES = 1168
PIXEL_SUBSAMPLING_FLAG = N
SIGNAL_CHAIN_ID = 1
/* RADIOMETRIC DATA ELEMENTS */
BANDWIDTH = 178.0
CENTER_FILTER_WAVELENGTH = 679.0
RADIANCE_OFFSET = 4.31389
RADIANCE_SCALING_FACTOR = 0.0194548
REFLECTANCE_SCALING_FACTOR = 0.000586576
MEX:REFLECTANCE_OFFSET = 0.130067
/* IMAGE OBJECT DEFINITIONS */
OBJECT = IMAGE
  INTERCHANGE_FORMAT = BINARY
  LINES = 25695
  LINE_SAMPLES = 4338
  SAMPLE_TYPE = UNSIGNED_INTEGER
  SAMPLE_BITS = 8
  BANDS = 1
  BAND_STORAGE_TYPE = BAND_SEQUENTIAL
  MAXIMUM = 137
  MEAN = 82.8471
  MINIMUM = 58
  STANDARD_DEVIATION = 8.73793
END_OBJECT = IMAGE
/* MAP OBJECT DEFINITIONS */
OBJECT = IMAGE_MAP_PROJECTION
  ^DATA_SET_MAP_PROJECTION_CATALOG= "DSMAP.CAT"
  A_AXIS_RADIUS = 3396.0
  B_AXIS_RADIUS = 3396.0
  C_AXIS_RADIUS = 3396.0
  CENTER_LATITUDE = 0.0
  CENTER_LONGITUDE = 127.0
  COORDINATE_SYSTEM_NAME = PLANETOGRAPHIC
  COORDINATE_SYSTEM_TYPE = "BODY-FIXED ROTATING"
  EASTERNMOST_LONGITUDE = 128.086
  FIRST_STANDARD_PARALLEL = "N/A"
  LINE_FIRST_PIXEL = 1
  LINE_LAST_PIXEL = 25695
  LINE_PROJECTION_OFFSET = -32769.75
  MAP_PROJECTION_ROTATION = 0.0
  MAP_PROJECTION_TYPE = SINUSOIDAL
  MAP_RESOLUTION = 2370.85521546667
  MAP_SCALE = 0.025
  MAXIMUM_LATITUDE = -13.3125
  MINIMUM_LATITUDE = -24.055
  POSITIVE_LONGITUDE_DIRECTION = EAST
  REFERENCE_LATITUDE = "N/A"
  REFERENCE_LONGITUDE = "N/A"
  SAMPLE_FIRST_PIXEL = 1
  SAMPLE_LAST_PIXEL = 4338
  SAMPLE_PROJECTION_OFFSET = 2004.75
  SECOND_STANDARD_PARALLEL = "N/A"
  WESTERNMOST_LONGITUDE = 126.04
END_OBJECT = IMAGE_MAP_PROJECTION
/* The JPEG2000 image data file associated with this label. */
OBJECT = COMPRESSED_FILE
  FILE_NAME = "H0277_0000_S23.JP2"
  RECORD_TYPE = UNDEFINED
  FILE_RECORDS = UNK
  ENCODING_TYPE = "JP2"
  INTERCHANGE_FORMAT = BINARY
  UNCOMPRESSED_FILE_NAME = "H0277_0000_S23.IMG"
  REQUIRED_STORAGE_BYTES = "111490938"
  ^DESCRIPTION = "JP2INFO.TXT"
END_OBJECT = COMPRESSED_FILE
END
