PDS_VERSION_ID = PDS3
/* FILE DATA ELEMENTS */
RECORD_TYPE = STREAM
/* POINTERS TO DATA OBJECTS */
^COMPRESSED_FILE = "H0279_0000_GR3.JP2"
/* IDENTIFICATION DATA ELEMENTS */
DATA_SET_ID = "MEX-M-HRSC-5-REFDR-MAPPROJECTED-V3.0"
DATA_SET_NAME = "MARS EXPRESS HRSC MAP PROJECTED REFDR V3.0"
DETECTOR_ID = MEX_HRSC_GREEN
EVENT_TYPE = "MARS-REGIONAL-STEREO-Vo-Te-Im"
INSTRUMENT_HOST_ID = MEX
INSTRUMENT_HOST_NAME = "MARS EXPRESS"
INSTRUMENT_ID = HRSC
INSTRUMENT_NAME = "HIGH RESOLUTION STEREO CAMERA"
MISSION_NAME = "MARS EXPRESS"
MISSION_PHASE_NAME = MC_Phase_5
PROCESSING_LEVEL_ID = 3
PRODUCT_CREATION_TIME = 2016-03-02T22:59:35.000Z
PRODUCT_ID = "H0279_0000_GR3.JP2"
RELEASE_ID = 0005
REVISION_ID = 0000
/* QUALITY DATA ELEMENTS */
DATA_QUALITY_ID = 1
DATA_QUALITY_DESC = "Data calculated based on original SPICE kernels"
/* TIME DATA ELEMENTS */
SPACECRAFT_CLOCK_START_COUNT = "1/0029401660.57967"
SPACECRAFT_CLOCK_STOP_COUNT = "1/0029401808.32263"
START_TIME = 2004-04-07T07:08:08.573Z
STOP_TIME = 2004-04-07T07:09:46.476Z
/* ORBITAL DATA ELEMENTS */
ASCENDING_NODE_LONGITUDE = 223.21
MAXIMUM_RESOLUTION = 41.7
FOOTPRINT_POINT_LATITUDE = (-45.3891,-45.3978,-45.404,-45.4121, -45.4196,-45.3649,-45.0846,-44.8604, -44.5801,-44.4057,-44.2887,-44.1133, -43.938,-43.7627,-43.6458,-43.5291, -43.3541,-43.2375,-43.1207,-42.9454, -42.7704,-42.5946,-42.4775,-42.3609, -42.1863,-42.0696,-41.9528,-41.8361, -41.6614,-41.4868,-41.3117,-41.195, -41.0787,-40.9043,-40.7879,-40.6714, -40.5548,-40.4382,-40.3212,-40.1293, -39.9958,-39.7821,-39.5183,-39.3882, -39.1687,-38.981,-38.7803,-38.7769, -38.7709,-38.7664,-38.7601,-38.7559, -38.8122,-38.9736,-39.1839,-39.3858, -39.5156,-39.7085,-39.8275,-40.002, -40.1183,-40.3096,-40.4259,-40.6007, -40.7756,-40.8922,-41.0088,-41.1252, -41.2415,-41.4159,-41.5322,-41.6488, -41.7654,-41.882,-41.9987,-42.1156, -42.2322,-42.3489,-42.465,-42.5814, -42.698,-42.8147,-42.9313,-43.0477, -43.1643,-43.2806,-43.3971,-43.5137, -43.6302,-43.7469,-43.8636,-43.9803, -44.097,-44.2138,-44.3888,-44.562, -44.7858,-45.0659,-45.2892,-45.3891)
FOOTPRINT_POINT_LONGITUDE = (263.66,263.906,264.093,264.351,264.609 ,264.867,264.882,264.893,264.908, 264.916,264.922,264.931,264.939,264.947 ,264.952,264.957,264.964,264.969, 264.974,264.982,264.989,264.999,265.005 ,265.009,265.015,265.02,265.025,265.03, 265.036,265.041,265.049,265.053,265.057 ,265.062,265.066,265.071,265.075,265.08 ,265.086,265.095,265.102,265.111, 265.121,265.127,265.136,265.143,265.151 ,264.983,264.713,264.522,264.274, 264.117,263.942,263.935,263.926,263.918 ,263.912,263.904,263.898,263.891, 263.885,263.876,263.871,263.863,263.855 ,263.85,263.844,263.838,263.832,263.822 ,263.815,263.809,263.803,263.797, 263.791,263.785,263.779,263.773,263.764 ,263.757,263.75,263.744,263.736,263.729 ,263.722,263.713,263.706,263.698,263.69 ,263.683,263.675,263.668,263.66,263.653 ,263.641,263.629,263.614,263.596, 263.579,263.66)
ORBIT_NUMBER = 279
ORBITAL_ECCENTRICITY = 0.607
ORBITAL_INCLINATION = 86.56
ORBITAL_SEMIMAJOR_AXIS = 9289.74
PERIAPSIS_ALTITUDE = 264.42
PERIAPSIS_ARGUMENT_ANGLE = 312.3
PERIAPSIS_TIME = 2004-04-07T07:07:39.000Z
SPACECRAFT_ORIENTATION = (0.0,-1.0,0.0)
^MEX_ORIENTATION_DESC = "MEX_ORIENTATION_DESC.TXT"
SPACECRAFT_POINTING_MODE = NADIR
^MEX_POINTING_DESC = "MEX_POINTING_DESC.TXT"
RIGHT_ASCENSION = -1e+32
DECLINATION = -1e+32
OFFSET_ANGLE = -1e+32
SPACECRAFT_SOLAR_DISTANCE = 2.38709e+08
TARGET_NAME = MARS
/* CAMERA DATA ELEMENTS */
DETECTOR_TEMPERATURE = 17.5549
FOCAL_PLANE_TEMPERATURE = 8.1755
INST_CMPRS_NAME = "DISCRETE COSINE TRANSFORMATION (DCT)"
INST_CMPRS_RATIO = 9.95478
INST_CMPRS_QUALITY = 0
INST_CMPRS_QUANTZ_TBL_ID = 0
INSTRUMENT_TEMPERATURE = 11.234
LENS_TEMPERATURE = 8.3794
MACROPIXEL_SIZE = 4
MISSING_FRAMES = 138
PIXEL_SUBSAMPLING_FLAG = N
SIGNAL_CHAIN_ID = 2
/* RADIOMETRIC DATA ELEMENTS */
BANDWIDTH = 88.0
CENTER_FILTER_WAVELENGTH = 538.0
RADIANCE_OFFSET = 0.850705
RADIANCE_SCALING_FACTOR = 0.00496865
REFLECTANCE_SCALING_FACTOR = 0.000243761
MEX:REFLECTANCE_OFFSET = 0.0417354
/* IMAGE OBJECT DEFINITIONS */
OBJECT = IMAGE
  INTERCHANGE_FORMAT = BINARY
  LINES = 7892
  LINE_SAMPLES = 1471
  SAMPLE_TYPE = UNSIGNED_INTEGER
  SAMPLE_BITS = 8
  BANDS = 1
  BAND_STORAGE_TYPE = BAND_SEQUENTIAL
  MAXIMUM = 146
  MEAN = 81.8955
  MINIMUM = 41
  STANDARD_DEVIATION = 9.02403
END_OBJECT = IMAGE
/* MAP OBJECT DEFINITIONS */
OBJECT = IMAGE_MAP_PROJECTION
  ^DATA_SET_MAP_PROJECTION_CATALOG= "DSMAP.CAT"
  A_AXIS_RADIUS = 3396.0
  B_AXIS_RADIUS = 3396.0
  C_AXIS_RADIUS = 3396.0
  CENTER_LATITUDE = 0.0
  CENTER_LONGITUDE = 264.0
  COORDINATE_SYSTEM_NAME = PLANETOGRAPHIC
  COORDINATE_SYSTEM_TYPE = "BODY-FIXED ROTATING"
  EASTERNMOST_LONGITUDE = 265.151
  FIRST_STANDARD_PARALLEL = "N/A"
  LINE_FIRST_PIXEL = 1
  LINE_LAST_PIXEL = 7892
  LINE_PROJECTION_OFFSET = -45941.625
  MAP_PROJECTION_ROTATION = 0.0
  MAP_PROJECTION_TYPE = SINUSOIDAL
  MAP_RESOLUTION = 1185.42760773333
  MAP_SCALE = 0.05
  MAXIMUM_LATITUDE = -38.7559
  MINIMUM_LATITUDE = -45.4196
  POSITIVE_LONGITUDE_DIRECTION = EAST
  REFERENCE_LATITUDE = "N/A"
  REFERENCE_LONGITUDE = "N/A"
  SAMPLE_FIRST_PIXEL = 1
  SAMPLE_LAST_PIXEL = 1471
  SAMPLE_PROJECTION_OFFSET = 367.875
  SECOND_STANDARD_PARALLEL = "N/A"
  WESTERNMOST_LONGITUDE = 263.579
END_OBJECT = IMAGE_MAP_PROJECTION
/* The JPEG2000 image data file associated with this label. */
OBJECT = COMPRESSED_FILE
  FILE_NAME = "H0279_0000_GR3.JP2"
  RECORD_TYPE = UNDEFINED
  FILE_RECORDS = UNK
  ENCODING_TYPE = "JP2"
  INTERCHANGE_FORMAT = BINARY
  UNCOMPRESSED_FILE_NAME = "H0279_0000_GR3.IMG"
  REQUIRED_STORAGE_BYTES = "11628255"
  ^DESCRIPTION = "JP2INFO.TXT"
END_OBJECT = COMPRESSED_FILE
END
