PDS_VERSION_ID = PDS3
/* FILE DATA ELEMENTS */
RECORD_TYPE = STREAM
/* POINTERS TO DATA OBJECTS */
^COMPRESSED_FILE = "H0280_0001_P13.JP2"
/* IDENTIFICATION DATA ELEMENTS */
DATA_SET_ID = "MEX-M-HRSC-5-REFDR-MAPPROJECTED-V3.0"
DATA_SET_NAME = "MARS EXPRESS HRSC MAP PROJECTED REFDR V3.0"
DETECTOR_ID = MEX_HRSC_P1
EVENT_TYPE = "MARS-LOCAL-STEREO-Im-Fl"
INSTRUMENT_HOST_ID = MEX
INSTRUMENT_HOST_NAME = "MARS EXPRESS"
INSTRUMENT_ID = HRSC
INSTRUMENT_NAME = "HIGH RESOLUTION STEREO CAMERA"
MISSION_NAME = "MARS EXPRESS"
MISSION_PHASE_NAME = MC_Phase_5
PROCESSING_LEVEL_ID = 3
PRODUCT_CREATION_TIME = 2016-03-02T22:59:35.000Z
PRODUCT_ID = "H0280_0001_P13.JP2"
RELEASE_ID = 0005
REVISION_ID = 0000
/* QUALITY DATA ELEMENTS */
DATA_QUALITY_ID = 1
DATA_QUALITY_DESC = "Data calculated based on original SPICE kernels"
/* TIME DATA ELEMENTS */
SPACECRAFT_CLOCK_START_COUNT = "1/0029428954.57155"
SPACECRAFT_CLOCK_STOP_COUNT = "1/0029429165.24162"
START_TIME = 2004-04-07T14:42:51.671Z
STOP_TIME = 2004-04-07T14:45:27.421Z
/* ORBITAL DATA ELEMENTS */
ASCENDING_NODE_LONGITUDE = 223.18
MAXIMUM_RESOLUTION = 43.1
FOOTPRINT_POINT_LATITUDE = (-45.2678,-45.278,-45.289,-45.2618, -45.0625,-44.8559,-44.6499,-44.4436, -44.2367,-44.0301,-43.8234,-43.6169, -43.3072,-43.1008,-42.8945,-42.6877, -42.4817,-42.2742,-42.0672,-41.8599, -41.6528,-41.446,-41.1358,-40.8255, -40.6187,-40.3084,-39.9982,-39.7913, -39.5847,-39.2637,-39.0486,-38.8332, -38.6183,-38.4001,-38.1847,-37.9723, -37.6497,-37.4344,-37.2194,-37.004, -36.7886,-36.567,-36.3429,-36.1195, -35.8986,-35.6752,-35.4515,-35.228, -35.0044,-34.7815,-34.6431,-34.6387, -34.6305,-34.6245,-34.9592,-35.182, -35.4052,-35.7361,-36.0743,-36.2973, -36.5181,-36.7365,-36.9514,-37.1702, -37.3852,-37.7073,-37.9222,-38.1368, -38.3521,-38.5673,-38.8897,-39.2116, -39.5335,-39.7398,-39.9466,-40.1534, -40.3602,-40.5667,-40.7731,-41.0833, -41.2903,-41.6008,-41.8073,-42.014, -42.2199,-42.4269,-42.6327,-42.941, -43.1469,-43.3531,-43.5592,-43.7655, -43.9719,-44.1776,-44.3835,-44.5899, -44.7985,-45.0013,-45.2047,-45.2678)
FOOTPRINT_POINT_LONGITUDE = (153.13,153.447,153.834,154.025,154.035 ,154.046,154.056,154.066,154.076, 154.086,154.096,154.105,154.12,154.129, 154.138,154.147,154.156,154.165,154.174 ,154.184,154.193,154.201,154.214, 154.227,154.235,154.247,154.259,154.267 ,154.275,154.287,154.295,154.302,154.31 ,154.32,154.327,154.333,154.344,154.351 ,154.358,154.366,154.373,154.382, 154.389,154.396,154.402,154.409,154.416 ,154.423,154.43,154.436,154.132,153.881 ,153.515,153.214,153.206,153.199, 153.193,153.182,153.174,153.167,153.158 ,153.15,153.143,153.138,153.131,153.119 ,153.111,153.103,153.095,153.087, 153.074,153.06,153.046,153.037,153.028, 153.018,153.009,152.999,152.989,152.974 ,152.964,152.948,152.937,152.926, 152.915,152.903,152.891,152.873,152.86, 152.847,152.835,152.822,152.809,152.795 ,152.781,152.767,152.755,152.739, 152.727,153.13)
ORBIT_NUMBER = 280
ORBITAL_ECCENTRICITY = 0.607
ORBITAL_INCLINATION = 86.57
ORBITAL_SEMIMAJOR_AXIS = 9287.04
PERIAPSIS_ALTITUDE = 265.44
PERIAPSIS_ARGUMENT_ANGLE = 312.16
PERIAPSIS_TIME = 2004-04-07T14:42:29.000Z
SPACECRAFT_ORIENTATION = (0.0,-1.0,0.0)
^MEX_ORIENTATION_DESC = "MEX_ORIENTATION_DESC.TXT"
SPACECRAFT_POINTING_MODE = NADIR
^MEX_POINTING_DESC = "MEX_POINTING_DESC.TXT"
RIGHT_ASCENSION = -1e+32
DECLINATION = -1e+32
OFFSET_ANGLE = -1e+32
SPACECRAFT_SOLAR_DISTANCE = 2.38759e+08
TARGET_NAME = MARS
/* CAMERA DATA ELEMENTS */
DETECTOR_TEMPERATURE = 18.7783
FOCAL_PLANE_TEMPERATURE = 8.3794
INST_CMPRS_NAME = "DISCRETE COSINE TRANSFORMATION (DCT)"
INST_CMPRS_RATIO = 8.94792
INST_CMPRS_QUALITY = 0
INST_CMPRS_QUANTZ_TBL_ID = 0
INSTRUMENT_TEMPERATURE = 13.0691
LENS_TEMPERATURE = 8.7872
MACROPIXEL_SIZE = 4
MISSING_FRAMES = 0
PIXEL_SUBSAMPLING_FLAG = N
SIGNAL_CHAIN_ID = 2
/* RADIOMETRIC DATA ELEMENTS */
BANDWIDTH = 174.0
CENTER_FILTER_WAVELENGTH = 675.0
RADIANCE_OFFSET = 2.78453
RADIANCE_SCALING_FACTOR = 0.0185245
REFLECTANCE_SCALING_FACTOR = 0.000568007
MEX:REFLECTANCE_OFFSET = 0.0853804
/* IMAGE OBJECT DEFINITIONS */
OBJECT = IMAGE
  INTERCHANGE_FORMAT = BINARY
  LINES = 12645
  LINE_SAMPLES = 1555
  SAMPLE_TYPE = UNSIGNED_INTEGER
  SAMPLE_BITS = 8
  BANDS = 1
  BAND_STORAGE_TYPE = BAND_SEQUENTIAL
  MAXIMUM = 158
  MEAN = 99.6415
  MINIMUM = 45
  STANDARD_DEVIATION = 7.332
END_OBJECT = IMAGE
/* MAP OBJECT DEFINITIONS */
OBJECT = IMAGE_MAP_PROJECTION
  ^DATA_SET_MAP_PROJECTION_CATALOG= "DSMAP.CAT"
  A_AXIS_RADIUS = 3396.0
  B_AXIS_RADIUS = 3396.0
  C_AXIS_RADIUS = 3396.0
  CENTER_LATITUDE = 0.0
  CENTER_LONGITUDE = 154.0
  COORDINATE_SYSTEM_NAME = PLANETOGRAPHIC
  COORDINATE_SYSTEM_TYPE = "BODY-FIXED ROTATING"
  EASTERNMOST_LONGITUDE = 154.436
  FIRST_STANDARD_PARALLEL = "N/A"
  LINE_FIRST_PIXEL = 1
  LINE_LAST_PIXEL = 12645
  LINE_PROJECTION_OFFSET = -41001.25
  MAP_PROJECTION_ROTATION = 0.0
  MAP_PROJECTION_TYPE = SINUSOIDAL
  MAP_RESOLUTION = 1185.42760773333
  MAP_SCALE = 0.05
  MAXIMUM_LATITUDE = -34.6245
  MINIMUM_LATITUDE = -45.289
  POSITIVE_LONGITUDE_DIRECTION = EAST
  REFERENCE_LATITUDE = "N/A"
  REFERENCE_LONGITUDE = "N/A"
  SAMPLE_FIRST_PIXEL = 1
  SAMPLE_LAST_PIXEL = 1555
  SAMPLE_PROJECTION_OFFSET = 1086.75
  SECOND_STANDARD_PARALLEL = "N/A"
  WESTERNMOST_LONGITUDE = 152.727
END_OBJECT = IMAGE_MAP_PROJECTION
/* The JPEG2000 image data file associated with this label. */
OBJECT = COMPRESSED_FILE
  FILE_NAME = "H0280_0001_P13.JP2"
  RECORD_TYPE = UNDEFINED
  FILE_RECORDS = UNK
  ENCODING_TYPE = "JP2"
  INTERCHANGE_FORMAT = BINARY
  UNCOMPRESSED_FILE_NAME = "H0280_0001_P13.IMG"
  REQUIRED_STORAGE_BYTES = "19683190"
  ^DESCRIPTION = "JP2INFO.TXT"
END_OBJECT = COMPRESSED_FILE
END
