PDS_VERSION_ID = PDS3
/* FILE DATA ELEMENTS */
RECORD_TYPE = STREAM
/* POINTERS TO DATA OBJECTS */
^COMPRESSED_FILE = "H0280_0006_SR3.JP2"
/* IDENTIFICATION DATA ELEMENTS */
DATA_SET_ID = "MEX-M-HRSC-5-REFDR-MAPPROJECTED-V3.0"
DATA_SET_NAME = "MARS EXPRESS HRSC MAP PROJECTED REFDR V3.0"
DETECTOR_ID = MEX_HRSC_SRC
EVENT_TYPE = "MARS-LOCAL-STEREO-Im-Fl"
INSTRUMENT_HOST_ID = MEX
INSTRUMENT_HOST_NAME = "MARS EXPRESS"
INSTRUMENT_ID = HRSC
INSTRUMENT_NAME = "HIGH RESOLUTION STEREO CAMERA"
MISSION_NAME = "MARS EXPRESS"
MISSION_PHASE_NAME = MC_Phase_5
PROCESSING_LEVEL_ID = 3
PRODUCT_CREATION_TIME = 2016-03-02T22:59:35.000Z
PRODUCT_ID = "H0280_0006_SR3.JP2"
RELEASE_ID = 0005
REVISION_ID = 0000
/* QUALITY DATA ELEMENTS */
DATA_QUALITY_ID = 1
DATA_QUALITY_DESC = "Data calculated based on original SPICE kernels"
/* TIME DATA ELEMENTS */
SPACECRAFT_CLOCK_START_COUNT = "1/0029428954.57155"
SPACECRAFT_CLOCK_STOP_COUNT = "1/0029429165.24162"
IMAGE_TIME = 2004-04-07T14:44:47.806Z
START_TIME = 2004-04-07T14:44:47.804Z
STOP_TIME = 2004-04-07T14:44:47.808Z
/* ORBITAL DATA ELEMENTS */
ASCENDING_NODE_LONGITUDE = 223.18
MAXIMUM_RESOLUTION = 2.556
FOOTPRINT_POINT_LATITUDE = (-38.3577,-38.3591,-38.3615,-38.3629, -38.3653,-38.3668,-38.3684,-38.3709, -38.3726,-38.3755,-38.3776,-38.3788, -38.3805,-38.3817,-38.3843,-38.3864, -38.3877,-38.3894,-38.391,-38.3928, -38.3948,-38.3971,-38.3996,-38.3996, -38.3995,-38.3995,-38.3995,-38.3994, -38.3994,-38.3993,-38.3993,-38.3992, -38.3992,-38.3991,-38.3991,-38.399, -38.399,-38.3989,-38.3989,-38.3988, -38.3988,-38.3988,-38.3987,-38.3987, -38.3986,-38.3986,-38.3985,-38.3985, -38.3984,-38.396,-38.3944,-38.3932, -38.3919,-38.39,-38.3886,-38.3865, -38.3839,-38.3816,-38.3801,-38.3786, -38.3764,-38.375,-38.3737,-38.372, -38.3707,-38.3689,-38.367,-38.3656, -38.3643,-38.3626,-38.3612,-38.3584, -38.3563,-38.3549,-38.355,-38.355, -38.3551,-38.3551,-38.3552,-38.3552, -38.3553,-38.3553,-38.3554,-38.3554, -38.3555,-38.3555,-38.3556,-38.3556, -38.3556,-38.3557,-38.3557,-38.3558, -38.3558,-38.3559,-38.3559,-38.356, -38.356,-38.3561,-38.3561,-38.3577)
FOOTPRINT_POINT_LONGITUDE = (153.734,153.734,153.734,153.734, 153.734,153.734,153.734,153.734,153.734 ,153.734,153.733,153.733,153.733, 153.733,153.733,153.733,153.733,153.733 ,153.733,153.733,153.733,153.733, 153.733,153.73,153.728,153.727,153.724, 153.722,153.72,153.718,153.716,153.713, 153.712,153.709,153.707,153.705,153.703 ,153.701,153.698,153.697,153.695, 153.692,153.69,153.688,153.686,153.684, 153.681,153.679,153.677,153.677,153.677 ,153.677,153.677,153.677,153.677, 153.677,153.677,153.677,153.677,153.677 ,153.677,153.677,153.678,153.678, 153.678,153.678,153.678,153.678,153.678 ,153.678,153.678,153.678,153.678, 153.679,153.681,153.683,153.685,153.687 ,153.69,153.692,153.694,153.697,153.699 ,153.701,153.703,153.705,153.707, 153.709,153.71,153.713,153.715,153.717, 153.718,153.721,153.723,153.726,153.728 ,153.731,153.733,153.734)
ORBIT_NUMBER = 280
ORBITAL_ECCENTRICITY = 0.607
ORBITAL_INCLINATION = 86.57
ORBITAL_SEMIMAJOR_AXIS = 9287.04
PERIAPSIS_ALTITUDE = 265.44
PERIAPSIS_ARGUMENT_ANGLE = 312.16
PERIAPSIS_TIME = 2004-04-07T14:42:29.000Z
SPACECRAFT_ORIENTATION = (0.0,-1.0,0.0)
^MEX_ORIENTATION_DESC = "MEX_ORIENTATION_DESC.TXT"
SPACECRAFT_POINTING_MODE = NADIR
^MEX_POINTING_DESC = "MEX_POINTING_DESC.TXT"
RIGHT_ASCENSION = -1e+32
DECLINATION = -1e+32
OFFSET_ANGLE = -1e+32
SPACECRAFT_SOLAR_DISTANCE = 2.38759e+08
TARGET_NAME = MARS
/* CAMERA DATA ELEMENTS */
BUFFER_MODE_ID = BUFFER_8
EXPOSURE_DURATION = 3.528
INST_CMPRS_NAME = NONE
INST_CMPRS_RATIO = 1.0
INST_CMPRS_QUALITY = -2147483648
INST_CMPRS_QUANTZ_TBL_ID = -2147483648
INSTRUMENT_TEMPERATURE = 2.12121
MISSING_FRAMES = 0
START_BIT = 0
/* RADIOMETRIC DATA ELEMENTS */
BANDWIDTH = 250.0
CENTER_FILTER_WAVELENGTH = 600.0
RADIANCE_OFFSET = -9.99e+31
RADIANCE_SCALING_FACTOR = -9.99e+31
REFLECTANCE_SCALING_FACTOR = -9.99e+31
MEX:REFLECTANCE_OFFSET = -9.99e+31
/* IMAGE OBJECT DEFINITIONS */
OBJECT = IMAGE
  INTERCHANGE_FORMAT = BINARY
  LINES = 1130
  LINE_SAMPLES = 1137
  SAMPLE_TYPE = UNSIGNED_INTEGER
  SAMPLE_BITS = 8
  BANDS = 1
  BAND_STORAGE_TYPE = BAND_SEQUENTIAL
  MAXIMUM = 3328
  MEAN = 2948.95
  MINIMUM = 2434
  STANDARD_DEVIATION = 78.5663
END_OBJECT = IMAGE
/* MAP OBJECT DEFINITIONS */
OBJECT = IMAGE_MAP_PROJECTION
  ^DATA_SET_MAP_PROJECTION_CATALOG= "DSMAP.CAT"
  A_AXIS_RADIUS = 3396.19
  B_AXIS_RADIUS = 3396.19
  C_AXIS_RADIUS = 3396.19
  CENTER_LATITUDE = 0.0
  CENTER_LONGITUDE = 154.0
  COORDINATE_SYSTEM_NAME = PLANETOGRAPHIC
  COORDINATE_SYSTEM_TYPE = "BODY-FIXED ROTATING"
  EASTERNMOST_LONGITUDE = 153.734
  FIRST_STANDARD_PARALLEL = "N/A"
  LINE_FIRST_PIXEL = 1
  LINE_LAST_PIXEL = 1130
  LINE_PROJECTION_OFFSET = -908679.0
  MAP_PROJECTION_ROTATION = 0.0
  MAP_PROJECTION_TYPE = SINUSOIDAL
  MAP_RESOLUTION = 23709.8786048756
  MAP_SCALE = 0.0025
  MAXIMUM_LATITUDE = -38.3549
  MINIMUM_LATITUDE = -38.3996
  POSITIVE_LONGITUDE_DIRECTION = EAST
  REFERENCE_LATITUDE = "N/A"
  REFERENCE_LONGITUDE = "N/A"
  SAMPLE_FIRST_PIXEL = 1
  SAMPLE_LAST_PIXEL = 1137
  SAMPLE_PROJECTION_OFFSET = 6036.0
  SECOND_STANDARD_PARALLEL = "N/A"
  WESTERNMOST_LONGITUDE = 153.677
END_OBJECT = IMAGE_MAP_PROJECTION
/* The JPEG2000 image data file associated with this label. */
OBJECT = COMPRESSED_FILE
  FILE_NAME = "H0280_0006_SR3.JP2"
  RECORD_TYPE = UNDEFINED
  FILE_RECORDS = UNK
  ENCODING_TYPE = "JP2"
  INTERCHANGE_FORMAT = BINARY
  UNCOMPRESSED_FILE_NAME = "H0280_0006_SR3.IMG"
  REQUIRED_STORAGE_BYTES = "1304139"
  ^DESCRIPTION = "JP2INFO.TXT"
END_OBJECT = COMPRESSED_FILE
END
