PDS_VERSION_ID = PDS3
/* FILE DATA ELEMENTS */
RECORD_TYPE = STREAM
/* POINTERS TO DATA OBJECTS */
^COMPRESSED_FILE = "H0283_0000_BL3.JP2"
/* IDENTIFICATION DATA ELEMENTS */
DATA_SET_ID = "MEX-M-HRSC-5-REFDR-MAPPROJECTED-V3.0"
DATA_SET_NAME = "MARS EXPRESS HRSC MAP PROJECTED REFDR V3.0"
DETECTOR_ID = MEX_HRSC_BLUE
EVENT_TYPE = "MARS-REGIONAL-MAPPING-Vo-Fl-Eo"
INSTRUMENT_HOST_ID = MEX
INSTRUMENT_HOST_NAME = "MARS EXPRESS"
INSTRUMENT_ID = HRSC
INSTRUMENT_NAME = "HIGH RESOLUTION STEREO CAMERA"
MISSION_NAME = "MARS EXPRESS"
MISSION_PHASE_NAME = MC_Phase_5
PROCESSING_LEVEL_ID = 3
PRODUCT_CREATION_TIME = 2016-03-02T22:59:35.000Z
PRODUCT_ID = "H0283_0000_BL3.JP2"
RELEASE_ID = 0005
REVISION_ID = 0000
/* QUALITY DATA ELEMENTS */
DATA_QUALITY_ID = 1
DATA_QUALITY_DESC = "Data calculated based on original SPICE kernels"
/* TIME DATA ELEMENTS */
SPACECRAFT_CLOCK_START_COUNT = "1/0029511118.57170"
SPACECRAFT_CLOCK_STOP_COUNT = "1/0029511343.32003"
START_TIME = 2004-04-08T13:32:36.848Z
STOP_TIME = 2004-04-08T13:34:54.718Z
/* ORBITAL DATA ELEMENTS */
ASCENDING_NODE_LONGITUDE = 223.12
MAXIMUM_RESOLUTION = 64.8
FOOTPRINT_POINT_LATITUDE = (-23.7233,-23.7105,-23.6968,-23.682, -23.666,-23.6488,-23.6301,-23.5026, -23.1015,-22.8984,-22.6923,-22.2971, -22.0956,-21.7931,-21.4897,-21.2884, -21.086,-20.8836,-20.6797,-20.4752, -20.1731,-19.9713,-19.7623,-19.5624, -19.2588,-19.054,-18.8467,-18.4429, -18.242,-17.9325,-17.6244,-17.4191, -17.2122,-17.0076,-16.7966,-16.3969, -16.1914,-15.9857,-15.7814,-15.4705, -15.2528,-15.0444,-14.8379,-14.6306, -14.423,-14.112,-13.9047,-13.6994, -13.3355,-13.3506,-13.3714,-13.4054, -13.4245,-13.4453,-13.4659,-13.4939, -13.8033,-14.0107,-14.2198,-14.4268, -14.6312,-14.838,-15.1476,-15.4568, -15.6636,-15.8687,-16.073,-16.2788, -16.4828,-16.6866,-16.9924,-17.1963, -17.5018,-17.706,-17.9099,-18.2174, -18.4215,-18.6239,-18.8276,-19.0326, -19.3356,-19.7374,-19.9407,-20.2424, -20.445,-20.7474,-21.046,-21.2469, -21.4485,-21.6513,-21.8518,-22.0529, -22.2537,-22.4546,-22.6552,-22.8561, -23.057,-23.2574,-23.4578,-23.7233)
FOOTPRINT_POINT_LONGITUDE = (179.078,178.833,178.58,178.319,178.048 ,177.768,177.477,177.221,177.198, 177.179,177.151,177.145,177.13,177.108, 177.083,177.069,177.052,177.035,177.015 ,176.992,176.971,176.955,176.923, 176.912,176.886,176.864,176.836,176.805 ,176.791,176.752,176.717,176.694, 176.668,176.646,176.612,176.588,176.564 ,176.541,176.52,176.48,176.433,176.405, 176.38,176.354,176.327,176.287,176.261, 176.238,176.199,176.413,176.738,177.174 ,177.438,177.776,178.122,178.526, 178.547,178.563,178.58,178.595,178.608, 178.623,178.645,178.666,178.681,178.694 ,178.707,178.721,178.733,178.744, 178.762,178.774,178.791,178.803,178.815 ,178.835,178.847,178.857,178.869, 178.882,178.896,178.911,178.922,178.934 ,178.944,178.957,178.964,178.971,178.98 ,178.99,178.997,179.004,179.011,179.018 ,179.025,179.032,179.039,179.045, 179.051,179.078)
ORBIT_NUMBER = 283
ORBITAL_ECCENTRICITY = 0.607
ORBITAL_INCLINATION = 86.59
ORBITAL_SEMIMAJOR_AXIS = 9282.6
PERIAPSIS_ALTITUDE = 264.84
PERIAPSIS_ARGUMENT_ANGLE = 311.64
PERIAPSIS_TIME = 2004-04-08T13:26:46.000Z
SPACECRAFT_ORIENTATION = (0.0,1.0,0.0)
^MEX_ORIENTATION_DESC = "MEX_ORIENTATION_DESC.TXT"
SPACECRAFT_POINTING_MODE = INERT
^MEX_POINTING_DESC = "MEX_POINTING_DESC.TXT"
RIGHT_ASCENSION = 35.253
DECLINATION = 58.133
OFFSET_ANGLE = -1e+32
SPACECRAFT_SOLAR_DISTANCE = 2.38911e+08
TARGET_NAME = MARS
/* CAMERA DATA ELEMENTS */
DETECTOR_TEMPERATURE = 18.1666
FOCAL_PLANE_TEMPERATURE = 8.1755
INST_CMPRS_NAME = "DISCRETE COSINE TRANSFORMATION (DCT)"
INST_CMPRS_RATIO = 11.2222
INST_CMPRS_QUALITY = 0
INST_CMPRS_QUANTZ_TBL_ID = 0
INSTRUMENT_TEMPERATURE = 11.0301
LENS_TEMPERATURE = 8.3794
MACROPIXEL_SIZE = 4
MISSING_FRAMES = 0
PIXEL_SUBSAMPLING_FLAG = N
SIGNAL_CHAIN_ID = 2
/* RADIOMETRIC DATA ELEMENTS */
BANDWIDTH = 76.0
CENTER_FILTER_WAVELENGTH = 444.0
RADIANCE_OFFSET = 0.778363
RADIANCE_SCALING_FACTOR = 0.00169578
REFLECTANCE_SCALING_FACTOR = 9.94493e-05
MEX:REFLECTANCE_OFFSET = 0.0456472
/* IMAGE OBJECT DEFINITIONS */
OBJECT = IMAGE
  INTERCHANGE_FORMAT = BINARY
  LINES = 12222
  LINE_SAMPLES = 3368
  SAMPLE_TYPE = UNSIGNED_INTEGER
  SAMPLE_BITS = 8
  BANDS = 1
  BAND_STORAGE_TYPE = BAND_SEQUENTIAL
  MAXIMUM = 129
  MEAN = 92.5452
  MINIMUM = 68
  STANDARD_DEVIATION = 5.09895
END_OBJECT = IMAGE
/* MAP OBJECT DEFINITIONS */
OBJECT = IMAGE_MAP_PROJECTION
  ^DATA_SET_MAP_PROJECTION_CATALOG= "DSMAP.CAT"
  A_AXIS_RADIUS = 3396.0
  B_AXIS_RADIUS = 3396.0
  C_AXIS_RADIUS = 3396.0
  CENTER_LATITUDE = 0.0
  CENTER_LONGITUDE = 178.0
  COORDINATE_SYSTEM_NAME = PLANETOGRAPHIC
  COORDINATE_SYSTEM_TYPE = "BODY-FIXED ROTATING"
  EASTERNMOST_LONGITUDE = 179.078
  FIRST_STANDARD_PARALLEL = "N/A"
  LINE_FIRST_PIXEL = 1
  LINE_LAST_PIXEL = 12222
  LINE_PROJECTION_OFFSET = -15850.375
  MAP_PROJECTION_ROTATION = 0.0
  MAP_PROJECTION_TYPE = SINUSOIDAL
  MAP_RESOLUTION = 1185.42760773333
  MAP_SCALE = 0.05
  MAXIMUM_LATITUDE = -13.3355
  MINIMUM_LATITUDE = -23.7233
  POSITIVE_LONGITUDE_DIRECTION = EAST
  REFERENCE_LATITUDE = "N/A"
  REFERENCE_LONGITUDE = "N/A"
  SAMPLE_FIRST_PIXEL = 1
  SAMPLE_LAST_PIXEL = 3368
  SAMPLE_PROJECTION_OFFSET = 2200.125
  SECOND_STANDARD_PARALLEL = "N/A"
  WESTERNMOST_LONGITUDE = 176.199
END_OBJECT = IMAGE_MAP_PROJECTION
/* The JPEG2000 image data file associated with this label. */
OBJECT = COMPRESSED_FILE
  FILE_NAME = "H0283_0000_BL3.JP2"
  RECORD_TYPE = UNDEFINED
  FILE_RECORDS = UNK
  ENCODING_TYPE = "JP2"
  INTERCHANGE_FORMAT = BINARY
  UNCOMPRESSED_FILE_NAME = "H0283_0000_BL3.IMG"
  REQUIRED_STORAGE_BYTES = "41187272"
  ^DESCRIPTION = "JP2INFO.TXT"
END_OBJECT = COMPRESSED_FILE
END
